Workbook

Sheet 업무중복도
A1: 7. 업무중복도
B2: 구분 | D2: 기술인 성명 | E2: 현장배치현황 | L2: ※ 행을 숨기거나 삭제 및 추가 금지
E3: 연번 | F3: 현장명 | G3: 배치기간 | I3: 등급 | J3: 신고여부 | L3: ※ 건축, 토목, 기계 등 공종 순서 변경금지
G4: 시작일 | H4: 종료일
B5: 책임기술인 | D5: ='[C:\Users\user\Desktop\PQ 평가\평가실시\''25년\1028)해병1사단 포병여단 실내체육관 신축 등 3건(C070)\접수서류\1. 디엠이엔지\자기평가서(PQ)25년 VER4(C070, (주)디엠).xlsx]사업개요'!D15 -> 박채원 | E5: 1
B6: 분야별 기술인 | C6: 건축 | D6: ='[C:\Users\user\Desktop\PQ 평가\평가실시\''25년\1028)해병1사단 포병여단 실내체육관 신축 등 3건(C070)\접수서류\1. 디엠이엔지\자기평가서(PQ)25년 VER4(C070, (주)디엠).xlsx]사업개요'!D16 -> 김필헌 | E6: 1
C7: 토목 | D7: ='[C:\Users\user\Desktop\PQ 평가\평가실시\''25년\1028)해병1사단 포병여단 실내체육관 신축 등 3건(C070)\접수서류\1. 디엠이엔지\자기평가서(PQ)25년 VER4(C070, (주)디엠).xlsx]사업개요'!D17 -> 구본헌 | E7: 1
C8: 기계 | D8: ='[C:\Users\user\Desktop\PQ 평가\평가실시\''25년\1028)해병1사단 포병여단 실내체육관 신축 등 3건(C070)\접수서류\1. 디엠이엔지\자기평가서(PQ)25년 VER4(C070, (주)디엠).xlsx]사업개요'!D18 -> 이우진 | E8: 1
C9: 조경 | D9: ='[C:\Users\user\Desktop\PQ 평가\평가실시\''25년\1028)해병1사단 포병여단 실내체육관 신축 등 3건(C070)\접수서류\1. 디엠이엔지\자기평가서(PQ)25년 VER4(C070, (주)디엠).xlsx]사업개요'!D19 -> 0 | E9: 1
B10: 기술지원기술인 | C10: 건축 | D10: ='[C:\Users\user\Desktop\PQ 평가\평가실시\''25년\1028)해병1사단 포병여단 실내체육관 신축 등 3건(C070)\접수서류\1. 디엠이엔지\자기평가서(PQ)25년 VER4(C070, (주)디엠).xlsx]사업개요'!D20 -> 조영석 | E10: 1 | F10: 23-A-00부대 건설사업관리용역(A265) | G10: 45831 | H10: 46006 | I10: 특급 | J10: 신고
E11: 2 | F11: 울산남구B-08구역주택재개발정비사업 | G11: 45831 | H11: 46806 | I11: 특급 | J11: 신고
E12: 3 | F12: 청주테크노폴리스S4블록주상복합신축공사 | G12: 45831 | H12: 47116 | I12: 특급 | J12: 신고
E13: 4 | F13: 이천백사공공지원민간임대주택공급촉진지구내공동주택(2블럭)신축공사감리용역 | G13: 45831 | H13: 46053 | I13: 특급 | J13: 신고
E14: 5 | F14: 23-N-생활관증축건설사업관리용역(C094) | G14: 45831 | H14: 46248 | I14: 특급 | J14: 미신고
E15: 6 | F15: 25-A-00부대 건설사업관리용역(A029) | G15: 45831 | H15: 46022 | I15: 특급 | J15: 미신고
E16: 7 | F16: 24-F-00부대작전지휘부건설사업관리용역(D073) | G16: 46204 | H16: 46812 | I16: 특급 | J16: 미신고
E17: 8 | F17: 24-A-00부대 건설사업관리용역(A271) | G17: 45950 | H17: 46325 | I17: 특급 | J17: 미신고
E18: 9
C19: 토목 | D19: ='[C:\Users\user\Desktop\PQ 평가\평가실시\''25년\1028)해병1사단 포병여단 실내체육관 신축 등 3건(C070)\접수서류\1. 디엠이엔지\자기평가서(PQ)25년 VER4(C070, (주)디엠).xlsx]사업개요'!D21 -> 신무진 | E19: 1 | F19: 24-A-00부대 건설사업관리용역(A315) | G19: 45728 | H19: 46371 | I19: 특급 | J19: 신고
E20: 2 | F20: 전주 실내체육관 주경기장 건립공사 건설사업관리용역 | G20: 45728 | H20: 46319 | I20: 특급 | J20: 신고
E21: 3 | F21: 24-A-00부대 건설사업관리용역(A271) | G21: 45950 | H21: 46325 | I21: 특급 | J21: 미신고
E22: 4
E23: 5
E24: 6
E25: 7
E26: 8
E27: 9
C28: 기계 | D28: ='[C:\Users\user\Desktop\PQ 평가\평가실시\''25년\1028)해병1사단 포병여단 실내체육관 신축 등 3건(C070)\접수서류\1. 디엠이엔지\자기평가서(PQ)25년 VER4(C070, (주)디엠).xlsx]사업개요'!D22 -> 김경철 | E28: 1 | F28: 서울 공릉아파트 건설공사 시공단계 감독권한대행 등 건설사업관리용역 | G28: 44986 | H28: 45922 | I28: 특급 | J28: 미신고
E29: 2 | F29: 숙등 공유어울림파크 신축공사 건설사업관리용역(장기계속계약) | G29: 45839 | H29: 46387 | I29: 특급 | J29: 신고
E30: 3 | F30: 국립소방병원 건립사업 건설사업관리용역(감독권한대행) | G30: 44903 | H30: 45833 | I30: 특급 | J30: 미신고
E31: 4 | F31: 25-A-00부대 건설사업관리용역(A069) | G31: 45817 | H31: 46389 | I31: 특급 | J31: 미신고
E32: 5 | F32: 24-F-00부대작전지휘부건설사업관리용역(D073) | G32: 46204 | H32: 46812 | I32: 특급 | J32: 미신고
E33: 6 | F33: 24-A-00부대 건설사업관리용역(A271) | G33: 45950 | H33: 46325 | I33: 특급 | J33: 미신고
E34: 7
E35: 8
E36: 9
C37: 조경 | D37: ='[C:\Users\user\Desktop\PQ 평가\평가실시\''25년\1028)해병1사단 포병여단 실내체육관 신축 등 3건(C070)\접수서류\1. 디엠이엔지\자기평가서(PQ)25년 VER4(C070, (주)디엠).xlsx]사업개요'!D23 -> 0 | E37: 1
E38: 2
E39: 3
E40: 4
E41: 5
E42: 6
E43: 7
E44: 8
E45: 9

Sheet 업무중복도 (2)
A1: 7. 업무중복도
B2: 구분 | D2: 기술인 성명 | E2: 현장배치현황 | L2: ※ 행을 숨기거나 삭제 및 추가 금지
E3: 연번 | F3: 현장명 | G3: 배치기간 | I3: 등급 | J3: 신고여부 | L3: ※ 건축, 토목, 기계 등 공종 순서 변경금지
G4: 시작일 | H4: 종료일
B5: 책임기술인 | D5: ='[C:\Users\user\Desktop\PQ 평가\평가실시\''25년\1028)해병1사단 포병여단 실내체육관 신축 등 3건(C070)\접수서류\2. 라온\자기평가서(PQ)25년 VER4(C070, 라온건축)(0827) (1).xlsx]사업개요'!D15 -> 허승구 | E5: 1
B6: 분야별 기술인 | C6: 건축 | D6: ='[C:\Users\user\Desktop\PQ 평가\평가실시\''25년\1028)해병1사단 포병여단 실내체육관 신축 등 3건(C070)\접수서류\2. 라온\자기평가서(PQ)25년 VER4(C070, 라온건축)(0827) (1).xlsx]사업개요'!D16 -> 윤영준 | E6: 1
C7: 토목 | D7: ='[C:\Users\user\Desktop\PQ 평가\평가실시\''25년\1028)해병1사단 포병여단 실내체육관 신축 등 3건(C070)\접수서류\2. 라온\자기평가서(PQ)25년 VER4(C070, 라온건축)(0827) (1).xlsx]사업개요'!D17 -> 신세균 | E7: 1
C8: 기계 | D8: ='[C:\Users\user\Desktop\PQ 평가\평가실시\''25년\1028)해병1사단 포병여단 실내체육관 신축 등 3건(C070)\접수서류\2. 라온\자기평가서(PQ)25년 VER4(C070, 라온건축)(0827) (1).xlsx]사업개요'!D18 -> 이귀근 | E8: 1
C9: 조경 | D9: ='[C:\Users\user\Desktop\PQ 평가\평가실시\''25년\1028)해병1사단 포병여단 실내체육관 신축 등 3건(C070)\접수서류\2. 라온\자기평가서(PQ)25년 VER4(C070, 라온건축)(0827) (1).xlsx]사업개요'!D19 -> 0 | E9: 1
B10: 기술지원기술인 | C10: 건축 | D10: ='[C:\Users\user\Desktop\PQ 평가\평가실시\''25년\1028)해병1사단 포병여단 실내체육관 신축 등 3건(C070)\접수서류\2. 라온\자기평가서(PQ)25년 VER4(C070, 라온건축)(0827) (1).xlsx]사업개요'!D20 -> 남기범 | E10: 1 | F10: 24-A-00부대 건설사업관리용역(A222) | G10: 45595 | H10: 45959 | I10: 특급 | J10: 신고
E11: 2 | F11: 24-A-00부대 건설사업관리용역(A168) | G11: 45595 | H11: 45959 | I11: 특급 | J11: 신고
E12: 3 | F12: 25-A-00부대 설계용역(A193) | G12: 45890 | H12: 46315 | I12: 특급 | J12: 미신고
E13: 4 | F13: 25-A-00부대 건설사업관리용역(A242) | G13: 45910 | H13: 46299 | I13: 특급 | J13: 미신고
E14: 5
E15: 6
E16: 7
E17: 8
E18: 9
C19: 토목 | D19: ='[C:\Users\user\Desktop\PQ 평가\평가실시\''25년\1028)해병1사단 포병여단 실내체육관 신축 등 3건(C070)\접수서류\2. 라온\자기평가서(PQ)25년 VER4(C070, 라온건축)(0827) (1).xlsx]사업개요'!D21 -> 박권일 | E19: 1
E20: 2
E21: 3
E22: 4
E23: 5
E24: 6
E25: 7
E26: 8
E27: 9
C28: 기계 | D28: ='[C:\Users\user\Desktop\PQ 평가\평가실시\''25년\1028)해병1사단 포병여단 실내체육관 신축 등 3건(C070)\접수서류\2. 라온\자기평가서(PQ)25년 VER4(C070, 라온건축)(0827) (1).xlsx]사업개요'!D22 -> 유병준 | E28: 1 | F28: 25-D-00병원 리모델링 등 2건 건설사업관리(B025) | G28: 45895 | H28: 45995 | I28: 특급 | J28: 미신고
E29: 2 | F29: 25-A-00부대 건설사업관리용역(A168) | G29: 45895 | H29: 46210 | I29: 특급 | J29: 미신고
E30: 3 | F30: 25-A-00부대 건설사업관리용역(A189) | G30: 45859 | H30: 46368 | I30: 특급 | J30: 미신고
E31: 4 | F31: 25-F-대형수송기 2차사업 건설사업관리용역(D044) | G31: 45915 | H31: 46979 | I31: 특급 | J31: 미신고
E32: 5 | F32: 25-A-00부대 건설사업관리용역(A242) | G32: 45910 | H32: 46299 | I32: 특급 | J32: 미신고
E33: 6 | F33: 25-A-00부대 건설사업관리용역(A260) | G33: 45922 | H33: 46833 | I33: 특급 | J33: 미신고
E34: 7
E35: 8
E36: 9
C37: 조경 | D37: ='[C:\Users\user\Desktop\PQ 평가\평가실시\''25년\1028)해병1사단 포병여단 실내체육관 신축 등 3건(C070)\접수서류\2. 라온\자기평가서(PQ)25년 VER4(C070, 라온건축)(0827) (1).xlsx]사업개요'!D23 -> 0 | E37: 1
E38: 2
E39: 3
E40: 4
E41: 5
E42: 6
E43: 7
E44: 8
E45: 9

Sheet 업무중복도 (3)
A1: 7. 업무중복도
B2: 구분 | D2: 기술인 성명 | E2: 현장배치현황 | L2: ※ 행을 숨기거나 삭제 및 추가 금지
E3: 연번 | F3: 현장명 | G3: 배치기간 | I3: 등급 | J3: 신고여부 | L3: ※ 건축, 토목, 기계 등 공종 순서 변경금지
G4: 시작일 | H4: 종료일
B5: 책임기술인 | D5: ='[C:\Users\user\Desktop\PQ 평가\평가실시\''25년\1028)해병1사단 포병여단 실내체육관 신축 등 3건(C070)\접수서류\5. 선\자기평가서(PQ)25년 VER4(C070, (주)선엔지니어링종합건축사사무소)(0827).xlsx]사업개요'!D15 -> 김지훈 | E5: 1
B6: 분야별 기술인 | C6: 건축 | D6: ='[C:\Users\user\Desktop\PQ 평가\평가실시\''25년\1028)해병1사단 포병여단 실내체육관 신축 등 3건(C070)\접수서류\5. 선\자기평가서(PQ)25년 VER4(C070, (주)선엔지니어링종합건축사사무소)(0827).xlsx]사업개요'!D16 -> 이광택 | E6: 1
C7: 토목 | D7: ='[C:\Users\user\Desktop\PQ 평가\평가실시\''25년\1028)해병1사단 포병여단 실내체육관 신축 등 3건(C070)\접수서류\5. 선\자기평가서(PQ)25년 VER4(C070, (주)선엔지니어링종합건축사사무소)(0827).xlsx]사업개요'!D17 -> 이기영 | E7: 1
C8: 기계 | D8: ='[C:\Users\user\Desktop\PQ 평가\평가실시\''25년\1028)해병1사단 포병여단 실내체육관 신축 등 3건(C070)\접수서류\5. 선\자기평가서(PQ)25년 VER4(C070, (주)선엔지니어링종합건축사사무소)(0827).xlsx]사업개요'!D18 -> 이창헌 | E8: 1
C9: 조경 | D9: ='[C:\Users\user\Desktop\PQ 평가\평가실시\''25년\1028)해병1사단 포병여단 실내체육관 신축 등 3건(C070)\접수서류\5. 선\자기평가서(PQ)25년 VER4(C070, (주)선엔지니어링종합건축사사무소)(0827).xlsx]사업개요'!D19 -> 0 | E9: 1
B10: 기술지원기술인 | C10: 건축 | D10: ='[C:\Users\user\Desktop\PQ 평가\평가실시\''25년\1028)해병1사단 포병여단 실내체육관 신축 등 3건(C070)\접수서류\5. 선\자기평가서(PQ)25년 VER4(C070, (주)선엔지니어링종합건축사사무소)(0827).xlsx]사업개요'!D20 -> 유양수 | E10: 1 | F10: 23-A-00부대(A501) | G10: 45288 | H10: 45965 | I10: 특급 | J10: 신고
E11: 2 | F11: 24-A-00부대(A124) | G11: 45461 | H11: 46289 | I11: 특급 | J11: 미신고
E12: 3 | F12: 24-A-00부대(A185) | G12: 45544 | H12: 46303 | I12: 특급 | J12: 미신고
E13: 4 | F13: 24-A-00부대(A263) | G13: 45617 | H13: 46254 | I13: 특급 | J13: 미신고
E14: 5 | F14: 25-F-K사업(D033) | G14: 45885 | H14: 47133 | I14: 특급 | J14: 미신고
E15: 6 | F15: 25-F-수중생환(D050) | G15: 낙찰 | H15: 계약전 | I15: 특급
E16: 7 | F16: 25-D-00부대BTL(B587) | G16: 낙찰 | H16: 계약전 | I16: 특급
E17: 8
E18: 9
C19: 토목 | D19: ='[C:\Users\user\Desktop\PQ 평가\평가실시\''25년\1028)해병1사단 포병여단 실내체육관 신축 등 3건(C070)\접수서류\5. 선\자기평가서(PQ)25년 VER4(C070, (주)선엔지니어링종합건축사사무소)(0827).xlsx]사업개요'!D21 -> 허용환 | E19: 1 | F19: 25-F-수중생환(D050) | G19: 낙찰 | H19: 계약전 | I19: 특급
E20: 2
E21: 3
E22: 4
E23: 5
E24: 6
E25: 7
E26: 8
E27: 9
C28: 기계 | D28: ='[C:\Users\user\Desktop\PQ 평가\평가실시\''25년\1028)해병1사단 포병여단 실내체육관 신축 등 3건(C070)\접수서류\5. 선\자기평가서(PQ)25년 VER4(C070, (주)선엔지니어링종합건축사사무소)(0827).xlsx]사업개요'!D22 -> 김용규 | E28: 1 | F28: 청성·청산생활SOC복합화 | G28: 45791 | H28: 46165 | I28: 특급 | J28: 신고
E29: 2 | F29: 청주배드민턴체육관건립 | G29: 45720 | H29: 46079 | I29: 특급 | J29: 미신고
E30: 3 | F30: 500kV동해안#2변환소 | G30: 45919 | H30: 46908 | I30: 특급 | J30: 미신고
E31: 4 | F31: 25-F-수중생환(D050) | G31: 낙찰 | H31: 계약전 | I31: 특급
E32: 5 | F32: 25-D-00부대BTL(B587) | G32: 낙찰 | H32: 계약전 | I32: 특급
E33: 6
E34: 7
E35: 8
E36: 9
C37: 조경 | D37: ='[C:\Users\user\Desktop\PQ 평가\평가실시\''25년\1028)해병1사단 포병여단 실내체육관 신축 등 3건(C070)\접수서류\5. 선\자기평가서(PQ)25년 VER4(C070, (주)선엔지니어링종합건축사사무소)(0827).xlsx]사업개요'!D23 -> 0 | E37: 1
E38: 2
E39: 3
E40: 4
E41: 5
E42: 6
E43: 7
E44: 8
E45: 9

Sheet 업무중복도 (4)
A1: 7. 업무중복도
B2: 구분 | D2: 기술인 성명 | E2: 현장배치현황 | L2: ※ 행을 숨기거나 삭제 및 추가 금지
E3: 연번 | F3: 현장명 | G3: 배치기간 | I3: 등급 | J3: 신고여부 | L3: ※ 건축, 토목, 기계 등 공종 순서 변경금지
G4: 시작일 | H4: 종료일
B5: 책임기술인 | D5: ='[C:\Users\user\Desktop\PQ 평가\평가실시\''25년\1028)해병1사단 포병여단 실내체육관 신축 등 3건(C070)\접수서류\6. 청우\25-M-00부대 실내체육관 신축 등 3건 건설사업관리용역(C070)_자기평가서_(주)청우종합건축사사무소).xlsx]사업개요'!D15 -> 윤병수 | E5: 1
B6: 분야별 기술인 | C6: 건축 | D6: ='[C:\Users\user\Desktop\PQ 평가\평가실시\''25년\1028)해병1사단 포병여단 실내체육관 신축 등 3건(C070)\접수서류\6. 청우\25-M-00부대 실내체육관 신축 등 3건 건설사업관리용역(C070)_자기평가서_(주)청우종합건축사사무소).xlsx]사업개요'!D16 -> 이수영 | E6: 1
C7: 토목 | D7: ='[C:\Users\user\Desktop\PQ 평가\평가실시\''25년\1028)해병1사단 포병여단 실내체육관 신축 등 3건(C070)\접수서류\6. 청우\25-M-00부대 실내체육관 신축 등 3건 건설사업관리용역(C070)_자기평가서_(주)청우종합건축사사무소).xlsx]사업개요'!D17 -> 최일만 | E7: 1
C8: 기계 | D8: ='[C:\Users\user\Desktop\PQ 평가\평가실시\''25년\1028)해병1사단 포병여단 실내체육관 신축 등 3건(C070)\접수서류\6. 청우\25-M-00부대 실내체육관 신축 등 3건 건설사업관리용역(C070)_자기평가서_(주)청우종합건축사사무소).xlsx]사업개요'!D18 -> 정인회 | E8: 1
C9: 조경 | D9: ='[C:\Users\user\Desktop\PQ 평가\평가실시\''25년\1028)해병1사단 포병여단 실내체육관 신축 등 3건(C070)\접수서류\6. 청우\25-M-00부대 실내체육관 신축 등 3건 건설사업관리용역(C070)_자기평가서_(주)청우종합건축사사무소).xlsx]사업개요'!D19 -> 0 | E9: 1
B10: 기술지원기술인 | C10: 건축 | D10: ='[C:\Users\user\Desktop\PQ 평가\평가실시\''25년\1028)해병1사단 포병여단 실내체육관 신축 등 3건(C070)\접수서류\6. 청우\25-M-00부대 실내체육관 신축 등 3건 건설사업관리용역(C070)_자기평가서_(주)청우종합건축사사무소).xlsx]사업개요'!D20 -> 주재인 | E10: 1 | F10: 00부대 관사 신축 건설사업관리용역 | G10: 45663 | H10: 46022 | I10: 특급 | J10: 신고
E11: 2 | F11: 우방범어타운2차주택재건축정비사업 | G11: 44830 | H11: 45833 | I11: 특급 | J11: 신고
E12: 3 | F12: 24-D-지하주차장 신축 등 2건 건설사업관리용역(B011) | G12: 45712 | H12: 46318 | I12: 특급 | J12: 미신고
E13: 4 | F13: 24-A-00부대 건설사업관리용역(A338) | G13: 45642 | H13: 46402 | I13: 특급 | J13: 미신고
E14: 5
E15: 6
E16: 7
E17: 8
E18: 9
C19: 토목 | D19: ='[C:\Users\user\Desktop\PQ 평가\평가실시\''25년\1028)해병1사단 포병여단 실내체육관 신축 등 3건(C070)\접수서류\6. 청우\25-M-00부대 실내체육관 신축 등 3건 건설사업관리용역(C070)_자기평가서_(주)청우종합건축사사무소).xlsx]사업개요'!D21 -> 이상덕 | E19: 1 | F19: 00부대 관사 신축 건설사업관리용역 | G19: 45864 | H19: 46022 | I19: 특급 | J19: 신고
E20: 2 | F20: 용몽 자연재해위험개선지구 정비사업 건설사업관리용역 | G20: 45896 | H20: 46281 | I20: 특급 | J20: 신고
E21: 3
E22: 4
E23: 5
E24: 6
E25: 7
E26: 8
E27: 9
C28: 기계 | D28: ='[C:\Users\user\Desktop\PQ 평가\평가실시\''25년\1028)해병1사단 포병여단 실내체육관 신축 등 3건(C070)\접수서류\6. 청우\25-M-00부대 실내체육관 신축 등 3건 건설사업관리용역(C070)_자기평가서_(주)청우종합건축사사무소).xlsx]사업개요'!D22 -> 윤정식 | E28: 1 | F28: 00부대 관사 신축 건설사업관리용역 | G28: 45663 | H28: 46022 | I28: 특급 | J28: 신고
E29: 2 | F29: 그린스마트미래학교 음암중 임대형민자사업(BTL) 건설사업관리용역(감독권한대행) | G29: 45547 | H29: 46056 | I29: 특급 | J29: 신고
E30: 3 | F30: 충북도청 후생복지관 건립사업 감독권한대행 등 건설사업관리용역 | G30: 45678 | H30: 46247 | I30: 특급 | J30: 신고
E31: 4 | F31: 24-D-지하주차장 신축 등 2건 건설사업관리용역(B011) | G31: 45712 | H31: 46318 | I31: 특급 | J31: 미신고
E32: 5 | F32: 24-A-00부대 건설사업관리용역(A338) | G32: 45642 | H32: 46402 | I32: 특급 | J32: 미신고
E33: 6
E34: 7
E35: 8
E36: 9
C37: 조경 | D37: ='[C:\Users\user\Desktop\PQ 평가\평가실시\''25년\1028)해병1사단 포병여단 실내체육관 신축 등 3건(C070)\접수서류\6. 청우\25-M-00부대 실내체육관 신축 등 3건 건설사업관리용역(C070)_자기평가서_(주)청우종합건축사사무소).xlsx]사업개요'!D23 -> 0 | E37: 1
E38: 2
E39: 3
E40: 4
E41: 5
E42: 6
E43: 7
E44: 8
E45: 9

Sheet 업무중복도 (5)
A1: 7. 업무중복도
B2: 구분 | D2: 기술인 성명 | E2: 현장배치현황 | L2: ※ 행을 숨기거나 삭제 및 추가 금지
E3: 연번 | F3: 현장명 | G3: 배치기간 | I3: 등급 | J3: 신고여부 | L3: ※ 건축, 토목, 기계 등 공종 순서 변경금지
G4: 시작일 | H4: 종료일
B5: 책임기술인 | D5: ='[C:\Users\user\Desktop\PQ 평가\평가실시\''25년\1028)해병1사단 포병여단 실내체육관 신축 등 3건(C070)\접수서류\7. 시아플랜\01_정성평가(C070)\03_자기평가서(PQ)25년 VER4(C070, 시아플랜건축)(0827).xlsx]사업개요'!D15 -> 김춘곤 | E5: 1
B6: 분야별 기술인 | C6: 건축 | D6: ='[C:\Users\user\Desktop\PQ 평가\평가실시\''25년\1028)해병1사단 포병여단 실내체육관 신축 등 3건(C070)\접수서류\7. 시아플랜\01_정성평가(C070)\03_자기평가서(PQ)25년 VER4(C070, 시아플랜건축)(0827).xlsx]사업개요'!D16 -> 박우일 | E6: 1
C7: 토목 | D7: ='[C:\Users\user\Desktop\PQ 평가\평가실시\''25년\1028)해병1사단 포병여단 실내체육관 신축 등 3건(C070)\접수서류\7. 시아플랜\01_정성평가(C070)\03_자기평가서(PQ)25년 VER4(C070, 시아플랜건축)(0827).xlsx]사업개요'!D17 -> 송영태 | E7: 1
C8: 기계 | D8: ='[C:\Users\user\Desktop\PQ 평가\평가실시\''25년\1028)해병1사단 포병여단 실내체육관 신축 등 3건(C070)\접수서류\7. 시아플랜\01_정성평가(C070)\03_자기평가서(PQ)25년 VER4(C070, 시아플랜건축)(0827).xlsx]사업개요'!D18 -> 이연우 | E8: 1
C9: 조경 | D9: ='[C:\Users\user\Desktop\PQ 평가\평가실시\''25년\1028)해병1사단 포병여단 실내체육관 신축 등 3건(C070)\접수서류\7. 시아플랜\01_정성평가(C070)\03_자기평가서(PQ)25년 VER4(C070, 시아플랜건축)(0827).xlsx]사업개요'!D19 -> 0 | E9: 1
B10: 기술지원기술인 | C10: 건축 | D10: ='[C:\Users\user\Desktop\PQ 평가\평가실시\''25년\1028)해병1사단 포병여단 실내체육관 신축 등 3건(C070)\접수서류\7. 시아플랜\01_정성평가(C070)\03_자기평가서(PQ)25년 VER4(C070, 시아플랜건축)(0827).xlsx]사업개요'!D20 -> 박은기 | E10: 1
E11: 2
E12: 3
E13: 4
E14: 5
E15: 6
E16: 7
E17: 8
E18: 9
C19: 토목 | D19: ='[C:\Users\user\Desktop\PQ 평가\평가실시\''25년\1028)해병1사단 포병여단 실내체육관 신축 등 3건(C070)\접수서류\7. 시아플랜\01_정성평가(C070)\03_자기평가서(PQ)25년 VER4(C070, 시아플랜건축)(0827).xlsx]사업개요'!D21 -> 이승주 | E19: 1 | F19: 23-F-생활관 증개축 건설사업관리용역(D068) | G19: 45282 | H19: 46074 | I19: 고급기술인 | J19: 신 고
E20: 2 | F20: 24-N-정비고 등 3건 건설사업관리용역(C005) | G20: 45387 | H20: 45965 | I20: 고급기술인 | J20: 신 고
E21: 3 | F21: 24-F-00숙소 건설사업관리용역(D077) | G21: 45659 | H21: 46262 | I21: 고급기술인 | J21: 신 고
E22: 4 | F22: 24-A-00부대 건설사업관리용역(A253) | G22: 45601 | H22: 46333 | I22: 고급기술인 | J22: 미 신 고
E23: 5
E24: 6
E25: 7
E26: 8
E27: 9
C28: 기계 | D28: ='[C:\Users\user\Desktop\PQ 평가\평가실시\''25년\1028)해병1사단 포병여단 실내체육관 신축 등 3건(C070)\접수서류\7. 시아플랜\01_정성평가(C070)\03_자기평가서(PQ)25년 VER4(C070, 시아플랜건축)(0827).xlsx]사업개요'!D22 -> 이진석 | E28: 1 | F28: 24-N-정비고 등 3건 건설사업관리용역(C005) | G28: 45387 | H28: 45965 | I28: 고급기술인 | J28: 신 고
E29: 2 | F29: 화성동탄(1)택지개발사업2단계조경공사 시공단계 감독권한대행등 건설사업관리용역 | G29: 45406 | H29: 45729 | I29: 고급기술인 | J29: 신 고
E30: 3 | F30: 인천국제공항 화물기정비계류장(1단계) 시설공사 건설사업관리용역 | G30: 45436 | H30: 46195 | I30: 특급기술인 | J30: 신 고
E31: 4 | F31: 24-N-급수라인 등 2건 건설사업관리용역(C020) | G31: 45444 | H31: 46020 | I31: 고급기술인 | J31: 신 고
E32: 5 | F32: 24-F-00숙소 건설사업관리용역(D077) | G32: 45659 | H32: 46262 | I32: 고급기술인 | J32: 신 고
E33: 6 | F33: 23-A-00부대 건설사업관리용역(A032) | G33: 45689 | H33: 45869 | I33: 고급기술인 | J33: 신 고
E34: 7
E35: 8
E36: 9
C37: 조경 | D37: ='[C:\Users\user\Desktop\PQ 평가\평가실시\''25년\1028)해병1사단 포병여단 실내체육관 신축 등 3건(C070)\접수서류\7. 시아플랜\01_정성평가(C070)\03_자기평가서(PQ)25년 VER4(C070, 시아플랜건축)(0827).xlsx]사업개요'!D23 -> 0 | E37: 1
E38: 2
E39: 3
E40: 4
E41: 5
E42: 6
E43: 7
E44: 8
E45: 9

Sheet 업무중복도 (6)
A1: 7. 업무중복도
B2: 구분 | D2: 기술인 성명 | E2: 현장배치현황 | L2: ※ 행을 숨기거나 삭제 및 추가 금지
E3: 연번 | F3: 현장명 | G3: 배치기간 | I3: 등급 | J3: 신고여부 | L3: ※ 건축, 토목, 기계 등 공종 순서 변경금지
G4: 시작일 | H4: 종료일
B5: 책임기술인 | D5: ='[C:\Users\user\Desktop\PQ 평가\평가실시\''25년\1028)해병1사단 포병여단 실내체육관 신축 등 3건(C070)\접수서류\8. 티엠지\2. 자기평가서(25-C070)(최종).xlsx]사업개요'!D15 -> 노호균 | E5: 1
B6: 분야별 기술인 | C6: 건축 | D6: ='[C:\Users\user\Desktop\PQ 평가\평가실시\''25년\1028)해병1사단 포병여단 실내체육관 신축 등 3건(C070)\접수서류\8. 티엠지\2. 자기평가서(25-C070)(최종).xlsx]사업개요'!D16 -> 김주영 | E6: 1
C7: 토목 | D7: ='[C:\Users\user\Desktop\PQ 평가\평가실시\''25년\1028)해병1사단 포병여단 실내체육관 신축 등 3건(C070)\접수서류\8. 티엠지\2. 자기평가서(25-C070)(최종).xlsx]사업개요'!D17 -> 허원 | E7: 1
C8: 기계 | D8: ='[C:\Users\user\Desktop\PQ 평가\평가실시\''25년\1028)해병1사단 포병여단 실내체육관 신축 등 3건(C070)\접수서류\8. 티엠지\2. 자기평가서(25-C070)(최종).xlsx]사업개요'!D18 -> 김창섭 | E8: 1
C9: 조경 | D9: ='[C:\Users\user\Desktop\PQ 평가\평가실시\''25년\1028)해병1사단 포병여단 실내체육관 신축 등 3건(C070)\접수서류\8. 티엠지\2. 자기평가서(25-C070)(최종).xlsx]사업개요'!D19 -> 0 | E9: 1
B10: 기술지원기술인 | C10: 건축 | D10: ='[C:\Users\user\Desktop\PQ 평가\평가실시\''25년\1028)해병1사단 포병여단 실내체육관 신축 등 3건(C070)\접수서류\8. 티엠지\2. 자기평가서(25-C070)(최종).xlsx]사업개요'!D20 -> 손현찬 | E10: 1
E11: 2
E12: 3
E13: 4
E14: 5
E15: 6
E16: 7
E17: 8
E18: 9
C19: 토목 | D19: ='[C:\Users\user\Desktop\PQ 평가\평가실시\''25년\1028)해병1사단 포병여단 실내체육관 신축 등 3건(C070)\접수서류\8. 티엠지\2. 자기평가서(25-C070)(최종).xlsx]사업개요'!D21 -> 조정수 | E19: 1
E20: 2
E21: 3
E22: 4
E23: 5
E24: 6
E25: 7
E26: 8
E27: 9
C28: 기계 | D28: ='[C:\Users\user\Desktop\PQ 평가\평가실시\''25년\1028)해병1사단 포병여단 실내체육관 신축 등 3건(C070)\접수서류\8. 티엠지\2. 자기평가서(25-C070)(최종).xlsx]사업개요'!D22 -> 정형규 | E28: 1
E29: 2
E30: 3
E31: 4
E32: 5
E33: 6
E34: 7
E35: 8
E36: 9
C37: 조경 | D37: ='[C:\Users\user\Desktop\PQ 평가\평가실시\''25년\1028)해병1사단 포병여단 실내체육관 신축 등 3건(C070)\접수서류\8. 티엠지\2. 자기평가서(25-C070)(최종).xlsx]사업개요'!D23 -> 0 | E37: 1
E38: 2
E39: 3
E40: 4
E41: 5
E42: 6
E43: 7
E44: 8
E45: 9

Sheet 업무중복도 (7)
A1: 7. 업무중복도
B2: 구분 | D2: 기술인 성명 | E2: 현장배치현황 | L2: ※ 행을 숨기거나 삭제 및 추가 금지
E3: 연번 | F3: 현장명 | G3: 배치기간 | I3: 등급 | J3: 신고여부 | L3: ※ 건축, 토목, 기계 등 공종 순서 변경금지
G4: 시작일 | H4: 종료일
B5: 책임기술인 | D5: ='[C:\Users\user\Desktop\PQ 평가\평가실시\''25년\1028)해병1사단 포병여단 실내체육관 신축 등 3건(C070)\접수서류\9. 예성\3. 자기평가서(PQ)25년 VER4(C070).xlsx]사업개요'!D15 -> 하태근 | E5: 1 | I5: 특급 | J5: 해당없음
B6: 분야별 기술인 | C6: 건축 | D6: ='[C:\Users\user\Desktop\PQ 평가\평가실시\''25년\1028)해병1사단 포병여단 실내체육관 신축 등 3건(C070)\접수서류\9. 예성\3. 자기평가서(PQ)25년 VER4(C070).xlsx]사업개요'!D16 -> 김동학 | E6: 1 | I6: 특급 | J6: 해당없음
C7: 토목 | D7: ='[C:\Users\user\Desktop\PQ 평가\평가실시\''25년\1028)해병1사단 포병여단 실내체육관 신축 등 3건(C070)\접수서류\9. 예성\3. 자기평가서(PQ)25년 VER4(C070).xlsx]사업개요'!D17 -> 최유근 | E7: 1 | I7: 특급 | J7: 해당없음
C8: 기계 | D8: ='[C:\Users\user\Desktop\PQ 평가\평가실시\''25년\1028)해병1사단 포병여단 실내체육관 신축 등 3건(C070)\접수서류\9. 예성\3. 자기평가서(PQ)25년 VER4(C070).xlsx]사업개요'!D18 -> 이용문 | E8: 1 | I8: 특급 | J8: 해당없음
C9: 조경 | D9: ='[C:\Users\user\Desktop\PQ 평가\평가실시\''25년\1028)해병1사단 포병여단 실내체육관 신축 등 3건(C070)\접수서류\9. 예성\3. 자기평가서(PQ)25년 VER4(C070).xlsx]사업개요'!D19 -> 0 | E9: 1
B10: 기술지원기술인 | C10: 건축 | D10: ='[C:\Users\user\Desktop\PQ 평가\평가실시\''25년\1028)해병1사단 포병여단 실내체육관 신축 등 3건(C070)\접수서류\9. 예성\3. 자기평가서(PQ)25년 VER4(C070).xlsx]사업개요'!D20 -> 이명훈 | E10: 1 | F10: 23-M-통합정비고 건설사업관리용역(C072) | G10: 45181 | H10: 45972 | I10: 특급 | J10: 신고
E11: 2 | F11: 23-M-의무중대 신축 등 건설사업관리용역(C079) | G11: 45218 | H11: 46009 | I11: 특급 | J11: 신고
E12: 3 | F12: 24-A-00부대 건설사업관리용역(A283) | G12: 45231 | H12: 46038 | I12: 특급 | J12: 신고
E13: 4 | F13: 24-M-통합정비고 신축 등 5건 건설사업관리용역(C091) | G13: 45656 | H13: 46416 | I13: 특급 | J13: 신고
E14: 5 | F14: 23-F-진료시설 등 건설사업관리용역(D097) | G14: 45323 | H14: 46081 | I14: 특급 | J14: 신고
E15: 6
E16: 7
E17: 8
E18: 9
C19: 토목 | D19: ='[C:\Users\user\Desktop\PQ 평가\평가실시\''25년\1028)해병1사단 포병여단 실내체육관 신축 등 3건(C070)\접수서류\9. 예성\3. 자기평가서(PQ)25년 VER4(C070).xlsx]사업개요'!D21 -> 정일승 | E19: 1 | F19: 23-M-통합정비고 건설사업관리용역(C072) | G19: 45181 | H19: 45972 | I19: 특급 | J19: 신고
E20: 2 | F20: 23-M-의무중대 신축 등 건설사업관리용역(C079) | G20: 45218 | H20: 46009 | I20: 특급 | J20: 신고
E21: 3 | F21: 24-A-00부대 건설사업관리용역(A283) | G21: 45229 | H21: 46038 | I21: 특급 | J21: 신고
E22: 4 | F22: 2-A-00부대 건설사업관리용역(A466) | G22: 45282 | H22: 45921 | I22: 특급 | J22: 신고
E23: 5 | F23: 23-A-00부대 건설사업관리용역(A396) | G23: 45362 | H23: 46048 | I23: 특급 | J23: 신고
E24: 6 | F24: 24-M-통합정비고 신축 등 5건 건설사업관리용역(C091) | G24: 45656 | H24: 45320 | I24: 특급 | J24: 신고
E25: 7
E26: 8
E27: 9
C28: 기계 | D28: ='[C:\Users\user\Desktop\PQ 평가\평가실시\''25년\1028)해병1사단 포병여단 실내체육관 신축 등 3건(C070)\접수서류\9. 예성\3. 자기평가서(PQ)25년 VER4(C070).xlsx]사업개요'!D22 -> 김명기 | E28: 1 | F28: 23-M-통합정비고 건설사업관리용역(C072) | G28: 45181 | H28: 45972 | I28: 특급 | J28: 신고
E29: 2 | F29: 23-M-의무중대 신축 등 건설사업관리용역(C079) | G29: 45218 | H29: 46009 | I29: 특급 | J29: 신고
E30: 3 | F30: 24-F-생활관 등3건 건설사업관리용역(D010) | G30: 45474 | H30: 45869 | I30: 특급 | J30: 신고
E31: 4 | F31: 24-M-통합정비고 신축 등 5건 건설사업관리용역(C091) | G31: 45656 | H31: 46416 | I31: 특급 | J31: 신고
E32: 5 | F32: 23-F-진료시설 등 건설사업관리용역(D097) | G32: 45323 | H32: 46081 | I32: 특급 | J32: 신고
E33: 6
E34: 7
E35: 8
E36: 9
C37: 조경 | D37: ='[C:\Users\user\Desktop\PQ 평가\평가실시\''25년\1028)해병1사단 포병여단 실내체육관 신축 등 3건(C070)\접수서류\9. 예성\3. 자기평가서(PQ)25년 VER4(C070).xlsx]사업개요'!D23 -> 0 | E37: 1
E38: 2
E39: 3
E40: 4
E41: 5
E42: 6
E43: 7
E44: 8
E45: 9

Sheet 업무중복도 (8)
A1: 7. 업무중복도
B2: 구분 | D2: 기술인 성명 | E2: 현장배치현황 | L2: ※ 행을 숨기거나 삭제 및 추가 금지
E3: 연번 | F3: 현장명 | G3: 배치기간 | I3: 등급 | J3: 신고여부 | L3: ※ 건축, 토목, 기계 등 공종 순서 변경금지
G4: 시작일 | H4: 종료일
B5: 책임기술인 | D5: ='[C:\Users\user\Desktop\PQ 평가\평가실시\''25년\1028)해병1사단 포병여단 실내체육관 신축 등 3건(C070)\접수서류\10. 드림\25-M-00부대 실내체육관 신축 등 3건 건설사업관리용역(C070) 자기평가서.xlsx]사업개요'!D15 -> 차형근 | E5: 1
B6: 분야별 기술인 | C6: 건축 | D6: ='[C:\Users\user\Desktop\PQ 평가\평가실시\''25년\1028)해병1사단 포병여단 실내체육관 신축 등 3건(C070)\접수서류\10. 드림\25-M-00부대 실내체육관 신축 등 3건 건설사업관리용역(C070) 자기평가서.xlsx]사업개요'!D16 -> 한문조 | E6: 1
C7: 토목 | D7: ='[C:\Users\user\Desktop\PQ 평가\평가실시\''25년\1028)해병1사단 포병여단 실내체육관 신축 등 3건(C070)\접수서류\10. 드림\25-M-00부대 실내체육관 신축 등 3건 건설사업관리용역(C070) 자기평가서.xlsx]사업개요'!D17 -> 윤태원 | E7: 1
C8: 기계 | D8: ='[C:\Users\user\Desktop\PQ 평가\평가실시\''25년\1028)해병1사단 포병여단 실내체육관 신축 등 3건(C070)\접수서류\10. 드림\25-M-00부대 실내체육관 신축 등 3건 건설사업관리용역(C070) 자기평가서.xlsx]사업개요'!D18 -> 김춘근 | E8: 1
C9: 조경 | D9: ='[C:\Users\user\Desktop\PQ 평가\평가실시\''25년\1028)해병1사단 포병여단 실내체육관 신축 등 3건(C070)\접수서류\10. 드림\25-M-00부대 실내체육관 신축 등 3건 건설사업관리용역(C070) 자기평가서.xlsx]사업개요'!D19 -> 0 | E9: 1
B10: 기술지원기술인 | C10: 건축 | D10: ='[C:\Users\user\Desktop\PQ 평가\평가실시\''25년\1028)해병1사단 포병여단 실내체육관 신축 등 3건(C070)\접수서류\10. 드림\25-M-00부대 실내체육관 신축 등 3건 건설사업관리용역(C070) 자기평가서.xlsx]사업개요'!D20 -> 천병규 | E10: 1
E11: 2
E12: 3
E13: 4
E14: 5
E15: 6
E16: 7
E17: 8
E18: 9
C19: 토목 | D19: ='[C:\Users\user\Desktop\PQ 평가\평가실시\''25년\1028)해병1사단 포병여단 실내체육관 신축 등 3건(C070)\접수서류\10. 드림\25-M-00부대 실내체육관 신축 등 3건 건설사업관리용역(C070) 자기평가서.xlsx]사업개요'!D21 -> 문성후 | E19: 1
E20: 2
E21: 3
E22: 4
E23: 5
E24: 6
E25: 7
E26: 8
E27: 9
C28: 기계 | D28: ='[C:\Users\user\Desktop\PQ 평가\평가실시\''25년\1028)해병1사단 포병여단 실내체육관 신축 등 3건(C070)\접수서류\10. 드림\25-M-00부대 실내체육관 신축 등 3건 건설사업관리용역(C070) 자기평가서.xlsx]사업개요'!D22 -> 이준상 | E28: 1 | F28: 24-A-00부대 건설사업관리용역(A099) | G28: 2024.07.19 | H28: 2025.10.18 | I28: 특급 | J28: 승인
E29: 2 | F29: 24-A-00부대 건설사업관리용역(A268) | G29: 2024.11.28 | H29: 2026.04.27 | I29: 특급 | J29: 승인
E30: 3 | F30: 창원 연료전지발전소 건설공사 건설사업관리용역 | G30: 2025.07.23 | H30: 2026.01.31 | I30: 특급 | J30: 승인
E31: 4 | F31: 24-A-00부대 건설사업관리용역(A030) | G31: 2025.05.01 | H31: 2026.02.28 | I31: 특급 | J31: 승인
E32: 5 | F32: 원주교도소 대체복무생활관 이전 신축공사 건설사업관리용역 | G32: 2025.09.01 | H32: 2026.11.04 | I32: 특급 | J32: 미승인
E33: 6
E34: 7
E35: 8
E36: 9
C37: 조경 | D37: ='[C:\Users\user\Desktop\PQ 평가\평가실시\''25년\1028)해병1사단 포병여단 실내체육관 신축 등 3건(C070)\접수서류\10. 드림\25-M-00부대 실내체육관 신축 등 3건 건설사업관리용역(C070) 자기평가서.xlsx]사업개요'!D23 -> 0 | E37: 1
E38: 2
E39: 3
E40: 4
E41: 5
E42: 6
E43: 7
E44: 8
E45: 9

Sheet 업무중복도 (9)
A1: 7. 업무중복도
B2: 구분 | D2: 기술인 성명 | E2: 현장배치현황 | L2: ※ 행을 숨기거나 삭제 및 추가 금지
E3: 연번 | F3: 현장명 | G3: 배치기간 | I3: 등급 | J3: 신고여부 | L3: ※ 건축, 토목, 기계 등 공종 순서 변경금지
G4: 시작일 | H4: 종료일
B5: 책임기술인 | D5: ='[C:\Users\user\Desktop\PQ 평가\평가실시\''25년\1028)해병1사단 포병여단 실내체육관 신축 등 3건(C070)\접수서류\11. 도심\자기평가서(PQ)25년 VER4(C070, 도심)(0827)-251022.xlsx]사업개요'!D15 -> 윤교대 | E5: 1
B6: 분야별 기술인 | C6: 건축 | D6: ='[C:\Users\user\Desktop\PQ 평가\평가실시\''25년\1028)해병1사단 포병여단 실내체육관 신축 등 3건(C070)\접수서류\11. 도심\자기평가서(PQ)25년 VER4(C070, 도심)(0827)-251022.xlsx]사업개요'!D16 -> 김영태 | E6: 1
C7: 토목 | D7: ='[C:\Users\user\Desktop\PQ 평가\평가실시\''25년\1028)해병1사단 포병여단 실내체육관 신축 등 3건(C070)\접수서류\11. 도심\자기평가서(PQ)25년 VER4(C070, 도심)(0827)-251022.xlsx]사업개요'!D17 -> 전영은 | E7: 1
C8: 기계 | D8: ='[C:\Users\user\Desktop\PQ 평가\평가실시\''25년\1028)해병1사단 포병여단 실내체육관 신축 등 3건(C070)\접수서류\11. 도심\자기평가서(PQ)25년 VER4(C070, 도심)(0827)-251022.xlsx]사업개요'!D18 -> 태수복 | E8: 1
C9: 조경 | D9: ='[C:\Users\user\Desktop\PQ 평가\평가실시\''25년\1028)해병1사단 포병여단 실내체육관 신축 등 3건(C070)\접수서류\11. 도심\자기평가서(PQ)25년 VER4(C070, 도심)(0827)-251022.xlsx]사업개요'!D19 -> 0 | E9: 1
B10: 기술지원기술인 | C10: 건축 | D10: ='[C:\Users\user\Desktop\PQ 평가\평가실시\''25년\1028)해병1사단 포병여단 실내체육관 신축 등 3건(C070)\접수서류\11. 도심\자기평가서(PQ)25년 VER4(C070, 도심)(0827)-251022.xlsx]사업개요'!D20 -> 이원학 | E10: 1 | F10: 23-F-생활관 재건축 건설사업관리 (D033) | G10: 45444 | H10: 45822 | I10: 특급 | J10: 신고
E11: 2 | F11: 24-A-00부대 건설사업관리용역 (A123) | G11: 45530 | H11: 46290 | I11: 특급 | J11: 신고
E12: 3 | F12: 24-F-내진보강공사 등 2건 건설사업관리(D029) | G12: 45554 | H12: 46130 | I12: 특급 | J12: 신고
E13: 4 | F13: 24-A-00부대 건설사업관리용역 (A071) | G13: 45562 | H13: 46010 | I13: 특급 | J13: 신고
E14: 5 | F14: 24-N-전투모의센터 등 2건 건설사업관리용역(C055) | G14: 45593 | H14: 46108 | I14: 특급 | J14: 신고
E15: 6 | F15: 24-N-00지역 급수관 신설 등 건설사업 관리용역(C078) | G15: 45659 | H15: 46052 | I15: 특급 | J15: 신고
E16: 7 | F16: 24-F-초급부사관 숙소 신축 건설사업관리 용역(D082) | G16: 45689 | H16: 46192 | I16: 특급 | J16: 신고
E17: 8
E18: 9
C19: 토목 | D19: ='[C:\Users\user\Desktop\PQ 평가\평가실시\''25년\1028)해병1사단 포병여단 실내체육관 신축 등 3건(C070)\접수서류\11. 도심\자기평가서(PQ)25년 VER4(C070, 도심)(0827)-251022.xlsx]사업개요'!D21 -> 김헌도 | E19: 1 | F19: 23-M-노후 생활관 신축 건설사업관리 C102 | G19: 45265 | H19: 45901 | I19: 특급 | J19: 신고
E20: 2 | F20: 23-A-00부대 건설사업관리용역(A442) | G20: 45337 | H20: 45926 | I20: 특급 | J20: 신고
E21: 3 | F21: 24-A-00부대 건설사업관리용역(A058) | G21: 45422 | H21: 45970 | I21: 특급 | J21: 신고
E22: 4 | F22: 24-A-00부대 건설사업관리용역(A071) | G22: 45460 | H22: 46010 | I22: 특급 | J22: 신고
E23: 5 | F23: 24-F-엄체호 철거 및 신축 건설사업관리 용역(D002) | G23: 45524 | H23: 46010 | I23: 특급 | J23: 신고
E24: 6 | F24: 24-A-00부대 건설사업관리용역(A123) | G24: 45530 | H24: 46290 | I24: 특급 | J24: 신고
E25: 7 | F25: 24-A-00부대 건설사업관리용역(A402) | G25: 45705 | H25: 46196 | I25: 특급 | J25: 미신고
E26: 8
E27: 9
C28: 기계 | D28: ='[C:\Users\user\Desktop\PQ 평가\평가실시\''25년\1028)해병1사단 포병여단 실내체육관 신축 등 3건(C070)\접수서류\11. 도심\자기평가서(PQ)25년 VER4(C070, 도심)(0827)-251022.xlsx]사업개요'!D22 -> 박찬규 | E28: 1 | F28: 23-A-00부대 건설사업관리용역(A078) | G28: 45061 | H28: 45928 | I28: 특급 | J28: 신고
E29: 2 | F29: 23-A-00부대 건설사업관리용역(A102) | G29: 45103 | H29: 46031 | I29: 특급 | J29: 신고
E30: 3 | F30: 23-F-생활관 재건축 건설사업관리 (D033) | G30: 45184 | H30: 45918 | I30: 특급 | J30: 신고
E31: 4 | F31: 23-M-노후 생활관 신축 건설사업관리 C102 | G31: 45265 | H31: 45901 | I31: 특급 | J31: 신고
E32: 5 | F32: 23-A-00부대 건설사업관리용역(A442) | G32: 45337 | H32: 45926 | I32: 특급 | J32: 신고
E33: 6
E34: 7
E35: 8
E36: 9
C37: 조경 | D37: ='[C:\Users\user\Desktop\PQ 평가\평가실시\''25년\1028)해병1사단 포병여단 실내체육관 신축 등 3건(C070)\접수서류\11. 도심\자기평가서(PQ)25년 VER4(C070, 도심)(0827)-251022.xlsx]사업개요'!D23 -> 0 | E37: 1
E38: 2
E39: 3
E40: 4
E41: 5
E42: 6
E43: 7
E44: 8
E45: 9

Sheet 업무중복도 (10)
A1: 7. 업무중복도
B2: 구분 | D2: 기술인 성명 | E2: 현장배치현황 | L2: ※ 행을 숨기거나 삭제 및 추가 금지
E3: 연번 | F3: 현장명 | G3: 배치기간 | I3: 등급 | J3: 신고여부 | L3: ※ 건축, 토목, 기계 등 공종 순서 변경금지
G4: 시작일 | H4: 종료일
B5: 책임기술인 | D5: ='[C:\Users\user\Desktop\PQ 평가\평가실시\''25년\1028)해병1사단 포병여단 실내체육관 신축 등 3건(C070)\접수서류\12. 도원\25-M-00부대 실내체육관 신축 등 3건 건설사업관리용역(C070) 평가서 (주)도원엔지니어링건축사사무소.xlsx]사업개요'!D15 -> 장시우 | E5: 1
B6: 분야별 기술인 | C6: 건축 | D6: ='[C:\Users\user\Desktop\PQ 평가\평가실시\''25년\1028)해병1사단 포병여단 실내체육관 신축 등 3건(C070)\접수서류\12. 도원\25-M-00부대 실내체육관 신축 등 3건 건설사업관리용역(C070) 평가서 (주)도원엔지니어링건축사사무소.xlsx]사업개요'!D16 -> 최재문 | E6: 1
C7: 토목 | D7: ='[C:\Users\user\Desktop\PQ 평가\평가실시\''25년\1028)해병1사단 포병여단 실내체육관 신축 등 3건(C070)\접수서류\12. 도원\25-M-00부대 실내체육관 신축 등 3건 건설사업관리용역(C070) 평가서 (주)도원엔지니어링건축사사무소.xlsx]사업개요'!D17 -> 전용길 | E7: 1
C8: 기계 | D8: ='[C:\Users\user\Desktop\PQ 평가\평가실시\''25년\1028)해병1사단 포병여단 실내체육관 신축 등 3건(C070)\접수서류\12. 도원\25-M-00부대 실내체육관 신축 등 3건 건설사업관리용역(C070) 평가서 (주)도원엔지니어링건축사사무소.xlsx]사업개요'!D18 -> 방석기 | E8: 1
C9: 조경 | D9: ='[C:\Users\user\Desktop\PQ 평가\평가실시\''25년\1028)해병1사단 포병여단 실내체육관 신축 등 3건(C070)\접수서류\12. 도원\25-M-00부대 실내체육관 신축 등 3건 건설사업관리용역(C070) 평가서 (주)도원엔지니어링건축사사무소.xlsx]사업개요'!D19 -> 0 | E9: 1
B10: 기술지원기술인 | C10: 건축 | D10: ='[C:\Users\user\Desktop\PQ 평가\평가실시\''25년\1028)해병1사단 포병여단 실내체육관 신축 등 3건(C070)\접수서류\12. 도원\25-M-00부대 실내체육관 신축 등 3건 건설사업관리용역(C070) 평가서 (주)도원엔지니어링건축사사무소.xlsx]사업개요'!D20 -> 정용호 | E10: 1
E11: 2
E12: 3
E13: 4
E14: 5
E15: 6
E16: 7
E17: 8
E18: 9
C19: 토목 | D19: ='[C:\Users\user\Desktop\PQ 평가\평가실시\''25년\1028)해병1사단 포병여단 실내체육관 신축 등 3건(C070)\접수서류\12. 도원\25-M-00부대 실내체육관 신축 등 3건 건설사업관리용역(C070) 평가서 (주)도원엔지니어링건축사사무소.xlsx]사업개요'!D21 -> 오경훈 | E19: 1 | F19: 속리산 생태탐방원 조성사업 건설사업관리용역(시공단계의 감독권한 대행) | G19: 45632 | H19: 46179 | I19: 특급 | J19: 미신고
E20: 2
E21: 3
E22: 4
E23: 5
E24: 6
E25: 7
E26: 8
E27: 9
C28: 기계 | D28: ='[C:\Users\user\Desktop\PQ 평가\평가실시\''25년\1028)해병1사단 포병여단 실내체육관 신축 등 3건(C070)\접수서류\12. 도원\25-M-00부대 실내체육관 신축 등 3건 건설사업관리용역(C070) 평가서 (주)도원엔지니어링건축사사무소.xlsx]사업개요'!D22 -> 이재춘 | E28: 1
E29: 2
E30: 3
E31: 4
E32: 5
E33: 6
E34: 7
E35: 8
E36: 9
C37: 조경 | D37: ='[C:\Users\user\Desktop\PQ 평가\평가실시\''25년\1028)해병1사단 포병여단 실내체육관 신축 등 3건(C070)\접수서류\12. 도원\25-M-00부대 실내체육관 신축 등 3건 건설사업관리용역(C070) 평가서 (주)도원엔지니어링건축사사무소.xlsx]사업개요'!D23 -> 0 | E37: 1
E38: 2
E39: 3
E40: 4
E41: 5
E42: 6
E43: 7
E44: 8
E45: 9

Sheet 업무중복도 (11)
A1: 7. 업무중복도
B2: 구분 | D2: 기술인 성명 | E2: 현장배치현황 | L2: ※ 행을 숨기거나 삭제 및 추가 금지
E3: 연번 | F3: 현장명 | G3: 배치기간 | I3: 등급 | J3: 신고여부 | L3: ※ 건축, 토목, 기계 등 공종 순서 변경금지
G4: 시작일 | H4: 종료일
B5: 책임기술인 | D5: ='[C:\Users\user\Desktop\PQ 평가\평가실시\''25년\1028)해병1사단 포병여단 실내체육관 신축 등 3건(C070)\접수서류\13. 에이치케이\자기평가서(C070)_(주)에이치케이건축사사무소).xlsx]사업개요'!D15 -> 김영동 | E5: 1
B6: 분야별 기술인 | C6: 건축 | D6: ='[C:\Users\user\Desktop\PQ 평가\평가실시\''25년\1028)해병1사단 포병여단 실내체육관 신축 등 3건(C070)\접수서류\13. 에이치케이\자기평가서(C070)_(주)에이치케이건축사사무소).xlsx]사업개요'!D16 -> 김현경 | E6: 1
C7: 토목 | D7: ='[C:\Users\user\Desktop\PQ 평가\평가실시\''25년\1028)해병1사단 포병여단 실내체육관 신축 등 3건(C070)\접수서류\13. 에이치케이\자기평가서(C070)_(주)에이치케이건축사사무소).xlsx]사업개요'!D17 -> 김정훈 | E7: 1
C8: 기계 | D8: ='[C:\Users\user\Desktop\PQ 평가\평가실시\''25년\1028)해병1사단 포병여단 실내체육관 신축 등 3건(C070)\접수서류\13. 에이치케이\자기평가서(C070)_(주)에이치케이건축사사무소).xlsx]사업개요'!D18 -> 이우균 | E8: 1
C9: 조경 | D9: ='[C:\Users\user\Desktop\PQ 평가\평가실시\''25년\1028)해병1사단 포병여단 실내체육관 신축 등 3건(C070)\접수서류\13. 에이치케이\자기평가서(C070)_(주)에이치케이건축사사무소).xlsx]사업개요'!D19 -> 0 | E9: 1
B10: 기술지원기술인 | C10: 건축 | D10: ='[C:\Users\user\Desktop\PQ 평가\평가실시\''25년\1028)해병1사단 포병여단 실내체육관 신축 등 3건(C070)\접수서류\13. 에이치케이\자기평가서(C070)_(주)에이치케이건축사사무소).xlsx]사업개요'!D20 -> 한상욱 | E10: 1 | F10: 서울애니메이션센터건립공사건설사업관리용역 | G10: 45089 | H10: 46398 | I10: 특급 | J10: 신고
E11: 2 | F11: 신림동복합청사신축공사건설사업관리용역(감독권한대행) | G11: 45831 | H11: 46348 | I11: 특급 | J11: 신고
E12: 3 | F12: 가칭황금초중통합운영학교신축공사감독권한대행등건설사업관리용역 | G12: 45840 | H12: 46424 | I12: 특급 | J12: 신고
E13: 4 | F13: 충남내포RM14BL디에트르공동주택신축공사건축감리용역 | G13: 44834 | H13: 45959 | I13: 특급 | J13: 신고
E14: 5 | F14: 다목적체육시설건립(옛기흥중학교내)사업감독권한대행외건설사업관리용역 | G14: 45818 | H14: 46170 | I14: 특급 | J14: 미신고
E15: 6 | F15: 서초동1448-1역세권청년주택주택건설사업 | G15: 44958 | H15: 46356 | I15: 특급 | J15: 신고
E16: 7 | F16: 부산에코델타시티공동4블럭중흥S-클래스아파트신축공사 | G16: 45761 | H16: 46856 | I16: 특급 | J16: 신고
E17: 8
E18: 9
C19: 토목 | D19: ='[C:\Users\user\Desktop\PQ 평가\평가실시\''25년\1028)해병1사단 포병여단 실내체육관 신축 등 3건(C070)\접수서류\13. 에이치케이\자기평가서(C070)_(주)에이치케이건축사사무소).xlsx]사업개요'!D21 -> 차무길 | E19: 1 | F19: 전남대캠퍼스혁신파크산학연혁신허브건설공사시공단계감독권한대행등건설사업관리용역 | G19: 45688 | H19: 46667 | I19: 특급 | J19: 신고
E20: 2 | F20: 국가철도공단기록관신축공사감독권한대행등건설사업관리용역 | G20: 45748 | H20: 45900 | I20: 특급 | J20: 신고
E21: 3 | F21: 해양경찰청제주관사신축사업건설사업관리용역(전기분야제외) | G21: 45809 | H21: 46418 | I21: 특급 | J21: 신고
E22: 4 | F22: 신림동복합청사신축공사건설사업관리용역(감독권한대행) | G22: 45831 | H22: 46348 | I22: 특급 | J22: 신고
E23: 5 | F23: 부산에코델타시티공동4블럭중흥S-클래스공동주택신축공사 | G23: 45761 | H23: 46856 | I23: 특급 | J23: 신고
E24: 6 | F24: 25-U-00숙소 등 건설사업관리용역(E020) | G24: 적격심사중 | I24: 특급 | J24: 미신고
E25: 7
E26: 8
E27: 9
C28: 기계 | D28: ='[C:\Users\user\Desktop\PQ 평가\평가실시\''25년\1028)해병1사단 포병여단 실내체육관 신축 등 3건(C070)\접수서류\13. 에이치케이\자기평가서(C070)_(주)에이치케이건축사사무소).xlsx]사업개요'!D22 -> 박영각 | E28: 1 | F28: 경부선밀양역신축공사감독권한대행등건설사업관리용역 | G28: 44959 | H28: 45720 | I28: 특급 | J28: 신고
E29: 2 | F29: 대전철도차량정비단EMU-150중정비시설개량공사감독권한대행등건설사업관리용역 | G29: 45597 | H29: 46376 | I29: 특급 | J29: 신고
E30: 3 | F30: 가칭황금초중통합운영학교신축공사감독권한대행등건설사업관리용역 | G30: 45840 | H30: 46424 | I30: 특급 | J30: 신고
E31: 4 | F31: 밀양공공임대형지식산업센터건립사업건설사업관리용역 | G31: 45894 | H31: 46553 | I31: 특급 | J31: 미신고
E32: 5 | F32: 25-U-00숙소 등 건설사업관리용역(E020) | G32: 적격심사중 | I32: 특급 | J32: 미신고
E33: 6
E34: 7
E35: 8
E36: 9
C37: 조경 | D37: ='[C:\Users\user\Desktop\PQ 평가\평가실시\''25년\1028)해병1사단 포병여단 실내체육관 신축 등 3건(C070)\접수서류\13. 에이치케이\자기평가서(C070)_(주)에이치케이건축사사무소).xlsx]사업개요'!D23 -> 0 | E37: 1
E38: 2
E39: 3
E40: 4
E41: 5
E42: 6
E43: 7
E44: 8
E45: 9

Sheet 업무중복도 (12)
A1: 7. 업무중복도
B2: 구분 | D2: 기술인 성명 | E2: 현장배치현황 | L2: ※ 행을 숨기거나 삭제 및 추가 금지
E3: 연번 | F3: 현장명 | G3: 배치기간 | I3: 등급 | J3: 신고여부 | L3: ※ 건축, 토목, 기계 등 공종 순서 변경금지
G4: 시작일 | H4: 종료일
B5: 책임기술인 | D5: ='[C:\Users\user\Desktop\PQ 평가\평가실시\''25년\1028)해병1사단 포병여단 실내체육관 신축 등 3건(C070)\접수서류\14. 펨코\(주)펨코엔지니어링건축사사무소_25-M-00부대 건설사업관리용역(C070)_자기평가서.xlsx]사업개요'!D15 -> 노장철 | E5: 1
B6: 분야별 기술인 | C6: 건축 | D6: ='[C:\Users\user\Desktop\PQ 평가\평가실시\''25년\1028)해병1사단 포병여단 실내체육관 신축 등 3건(C070)\접수서류\14. 펨코\(주)펨코엔지니어링건축사사무소_25-M-00부대 건설사업관리용역(C070)_자기평가서.xlsx]사업개요'!D16 -> 석문하 | E6: 1
C7: 토목 | D7: ='[C:\Users\user\Desktop\PQ 평가\평가실시\''25년\1028)해병1사단 포병여단 실내체육관 신축 등 3건(C070)\접수서류\14. 펨코\(주)펨코엔지니어링건축사사무소_25-M-00부대 건설사업관리용역(C070)_자기평가서.xlsx]사업개요'!D17 -> 이진근 | E7: 1
C8: 기계 | D8: ='[C:\Users\user\Desktop\PQ 평가\평가실시\''25년\1028)해병1사단 포병여단 실내체육관 신축 등 3건(C070)\접수서류\14. 펨코\(주)펨코엔지니어링건축사사무소_25-M-00부대 건설사업관리용역(C070)_자기평가서.xlsx]사업개요'!D18 -> 장봉주 | E8: 1
C9: 조경 | D9: ='[C:\Users\user\Desktop\PQ 평가\평가실시\''25년\1028)해병1사단 포병여단 실내체육관 신축 등 3건(C070)\접수서류\14. 펨코\(주)펨코엔지니어링건축사사무소_25-M-00부대 건설사업관리용역(C070)_자기평가서.xlsx]사업개요'!D19 -> 0 | E9: 1
B10: 기술지원기술인 | C10: 건축 | D10: ='[C:\Users\user\Desktop\PQ 평가\평가실시\''25년\1028)해병1사단 포병여단 실내체육관 신축 등 3건(C070)\접수서류\14. 펨코\(주)펨코엔지니어링건축사사무소_25-M-00부대 건설사업관리용역(C070)_자기평가서.xlsx]사업개요'!D20 -> 박만수 | E10: 1 | F10: 23-A-00부대 건설사업관리용역(A262) | G10: 45236 | H10: 46117 | J10: 미신고
E11: 2 | F11: 응암정보도서관(생활문화센터)신축공사 건설사업관리 | G11: 45306 | H11: 45961 | J11: 미신고
E12: 3 | F12: 24-A-00부대 건설사업관리용역(A104) | G12: 45827 | H12: 46048 | J12: 미승인
E13: 4 | F13: 유류고 신축 등 건설사업관리용역 | G13: 45610 | H13: 46081 | J13: 신고
E14: 5
E15: 6
E16: 7
E17: 8
E18: 9
C19: 토목 | D19: ='[C:\Users\user\Desktop\PQ 평가\평가실시\''25년\1028)해병1사단 포병여단 실내체육관 신축 등 3건(C070)\접수서류\14. 펨코\(주)펨코엔지니어링건축사사무소_25-M-00부대 건설사업관리용역(C070)_자기평가서.xlsx]사업개요'!D21 -> 심정식 | E19: 1
E20: 2
E21: 3
E22: 4
E23: 5
E24: 6
E25: 7
E26: 8
E27: 9
C28: 기계 | D28: ='[C:\Users\user\Desktop\PQ 평가\평가실시\''25년\1028)해병1사단 포병여단 실내체육관 신축 등 3건(C070)\접수서류\14. 펨코\(주)펨코엔지니어링건축사사무소_25-M-00부대 건설사업관리용역(C070)_자기평가서.xlsx]사업개요'!D22 -> 이영갑 | E28: 1 | F28: 남양주다산우체국 건립공사 건설사업관리용역 | G28: 45635 | H28: 46234 | J28: 신고
E29: 2 | F29: 부산사상우체국 건립공사 건설사업관리용역 | G29: 45674 | H29: 46468 | J29: 신고
E30: 3 | F30: 한수원 본사 동천동 사택 신축공사 감독권한대행 등 건설사업관리용역 | G30: 45413 | H30: 45970 | J30: 미신고
E31: 4 | F31: 연무마을 어울림터 건립공사(건축,토목,기계) 건설사업관리용역 | G31: 45413 | H31: 45961 | J31: 미신고
E32: 5 | F32: 감독권한대행 건설사업관리용역(옥천경찰서 신축) | G32: 45394 | H32: 46008 | J32: 신고
E33: 6 | F33: 강진-광주간 건축공사 건설사업관리용역 | G33: 45922 | H33: 46341 | J33: 미신고
E34: 7
E35: 8
E36: 9
C37: 조경 | D37: ='[C:\Users\user\Desktop\PQ 평가\평가실시\''25년\1028)해병1사단 포병여단 실내체육관 신축 등 3건(C070)\접수서류\14. 펨코\(주)펨코엔지니어링건축사사무소_25-M-00부대 건설사업관리용역(C070)_자기평가서.xlsx]사업개요'!D23 -> 0 | E37: 1
E38: 2
E39: 3
E40: 4
E41: 5
E42: 6
E43: 7
E44: 8
E45: 9

Sheet 업무중복도 (13)
A1: 7. 업무중복도
B2: 구분 | D2: 기술인 성명 | E2: 현장배치현황 | L2: ※ 행을 숨기거나 삭제 및 추가 금지
E3: 연번 | F3: 현장명 | G3: 배치기간 | I3: 등급 | J3: 신고여부 | L3: ※ 건축, 토목, 기계 등 공종 순서 변경금지
G4: 시작일 | H4: 종료일
B5: 책임기술인 | D5: ='[C:\Users\user\Desktop\PQ 평가\평가실시\''25년\1028)해병1사단 포병여단 실내체육관 신축 등 3건(C070)\접수서류\15. 토펙\25-M-00부대 실내체육관 등 3건 건설사업관리(C070)_자기평가서(PQ)-((주)토펙엔지니어링건축사사무소).xlsx]사업개요'!D15 -> 최광연 | E5: 1
B6: 분야별 기술인 | C6: 건축 | D6: ='[C:\Users\user\Desktop\PQ 평가\평가실시\''25년\1028)해병1사단 포병여단 실내체육관 신축 등 3건(C070)\접수서류\15. 토펙\25-M-00부대 실내체육관 등 3건 건설사업관리(C070)_자기평가서(PQ)-((주)토펙엔지니어링건축사사무소).xlsx]사업개요'!D16 -> 장성우 | E6: 1
C7: 토목 | D7: ='[C:\Users\user\Desktop\PQ 평가\평가실시\''25년\1028)해병1사단 포병여단 실내체육관 신축 등 3건(C070)\접수서류\15. 토펙\25-M-00부대 실내체육관 등 3건 건설사업관리(C070)_자기평가서(PQ)-((주)토펙엔지니어링건축사사무소).xlsx]사업개요'!D17 -> 김남호 | E7: 1
C8: 기계 | D8: ='[C:\Users\user\Desktop\PQ 평가\평가실시\''25년\1028)해병1사단 포병여단 실내체육관 신축 등 3건(C070)\접수서류\15. 토펙\25-M-00부대 실내체육관 등 3건 건설사업관리(C070)_자기평가서(PQ)-((주)토펙엔지니어링건축사사무소).xlsx]사업개요'!D18 -> 김진우 | E8: 1
C9: 조경 | D9: ='[C:\Users\user\Desktop\PQ 평가\평가실시\''25년\1028)해병1사단 포병여단 실내체육관 신축 등 3건(C070)\접수서류\15. 토펙\25-M-00부대 실내체육관 등 3건 건설사업관리(C070)_자기평가서(PQ)-((주)토펙엔지니어링건축사사무소).xlsx]사업개요'!D19 -> 0 | E9: 1
B10: 기술지원기술인 | C10: 건축 | D10: ='[C:\Users\user\Desktop\PQ 평가\평가실시\''25년\1028)해병1사단 포병여단 실내체육관 신축 등 3건(C070)\접수서류\15. 토펙\25-M-00부대 실내체육관 등 3건 건설사업관리(C070)_자기평가서(PQ)-((주)토펙엔지니어링건축사사무소).xlsx]사업개요'!D20 -> 박경민 | E10: 1
E11: 2
E12: 3
E13: 4
E14: 5
E15: 6
E16: 7
E17: 8
E18: 9
C19: 토목 | D19: ='[C:\Users\user\Desktop\PQ 평가\평가실시\''25년\1028)해병1사단 포병여단 실내체육관 신축 등 3건(C070)\접수서류\15. 토펙\25-M-00부대 실내체육관 등 3건 건설사업관리(C070)_자기평가서(PQ)-((주)토펙엔지니어링건축사사무소).xlsx]사업개요'!D21 -> 안무순 | E19: 1 | F19: 조운동 도시재생뉴딜사업 상상어울림센터 조성 건설사업관리 | G19: 45233 | H19: 46006 | I19: 특급
E20: 2 | F20: 구룡공영주차장 신축공사 감독권한대행 등 건설사업관리용역 | G20: 45859 | H20: 46568 | I20: 특급 | J20: 미신고
E21: 3 | F21: 154kV 북아산S/S 토건공사 감독권한대행 등 건설사업관리용역 | G21: 45320 | H21: 46112 | I21: 특급 | J21: 미신고
E22: 4
E23: 5
E24: 6
E25: 7
E26: 8
E27: 9
C28: 기계 | D28: ='[C:\Users\user\Desktop\PQ 평가\평가실시\''25년\1028)해병1사단 포병여단 실내체육관 신축 등 3건(C070)\접수서류\15. 토펙\25-M-00부대 실내체육관 등 3건 건설사업관리(C070)_자기평가서(PQ)-((주)토펙엔지니어링건축사사무소).xlsx]사업개요'!D22 -> 황연호 | E28: 1 | F28: 23-A-00부대 건설사업관리용역(A204) | G28: 45313 | H28: 45981 | I28: 특급
E29: 2 | F29: 24-A-00부대 건설사업관리용역(A454) | G29: 45717 | H29: 46045 | I29: 특급
E30: 3 | F30: (가칭)월평초중학교 신축공사 감독권한대행 등 건설사업관리용역 | G30: 45778 | H30: 46507 | I30: 특급
E31: 4
E32: 5
E33: 6
E34: 7
E35: 8
E36: 9
C37: 조경 | D37: ='[C:\Users\user\Desktop\PQ 평가\평가실시\''25년\1028)해병1사단 포병여단 실내체육관 신축 등 3건(C070)\접수서류\15. 토펙\25-M-00부대 실내체육관 등 3건 건설사업관리(C070)_자기평가서(PQ)-((주)토펙엔지니어링건축사사무소).xlsx]사업개요'!D23 -> 0 | E37: 1
E38: 2
E39: 3
E40: 4
E41: 5
E42: 6
E43: 7
E44: 8
E45: 9

Sheet 업무중복도 (14)
A1: 7. 업무중복도
B2: 구분 | D2: 기술인 성명 | E2: 현장배치현황 | L2: ※ 행을 숨기거나 삭제 및 추가 금지
E3: 연번 | F3: 현장명 | G3: 배치기간 | I3: 등급 | J3: 신고여부 | L3: ※ 건축, 토목, 기계 등 공종 순서 변경금지
G4: 시작일 | H4: 종료일
B5: 책임기술인 | D5: ='[C:\Users\user\Desktop\PQ 평가\평가실시\''25년\1028)해병1사단 포병여단 실내체육관 신축 등 3건(C070)\접수서류\16. 브레인\1. 자기평가서\자기평가서(PQ)25년 VER4(C070, 브레인)(0827).xlsx]사업개요'!D15 -> 원형보 | E5: 1
B6: 분야별 기술인 | C6: 건축 | D6: ='[C:\Users\user\Desktop\PQ 평가\평가실시\''25년\1028)해병1사단 포병여단 실내체육관 신축 등 3건(C070)\접수서류\16. 브레인\1. 자기평가서\자기평가서(PQ)25년 VER4(C070, 브레인)(0827).xlsx]사업개요'!D16 -> 박종혁 | E6: 1
C7: 토목 | D7: ='[C:\Users\user\Desktop\PQ 평가\평가실시\''25년\1028)해병1사단 포병여단 실내체육관 신축 등 3건(C070)\접수서류\16. 브레인\1. 자기평가서\자기평가서(PQ)25년 VER4(C070, 브레인)(0827).xlsx]사업개요'!D17 -> 김기채 | E7: 1
C8: 기계 | D8: ='[C:\Users\user\Desktop\PQ 평가\평가실시\''25년\1028)해병1사단 포병여단 실내체육관 신축 등 3건(C070)\접수서류\16. 브레인\1. 자기평가서\자기평가서(PQ)25년 VER4(C070, 브레인)(0827).xlsx]사업개요'!D18 -> 유인호 | E8: 1
C9: 조경 | D9: ='[C:\Users\user\Desktop\PQ 평가\평가실시\''25년\1028)해병1사단 포병여단 실내체육관 신축 등 3건(C070)\접수서류\16. 브레인\1. 자기평가서\자기평가서(PQ)25년 VER4(C070, 브레인)(0827).xlsx]사업개요'!D19 -> 0 | E9: 1
B10: 기술지원기술인 | C10: 건축 | D10: ='[C:\Users\user\Desktop\PQ 평가\평가실시\''25년\1028)해병1사단 포병여단 실내체육관 신축 등 3건(C070)\접수서류\16. 브레인\1. 자기평가서\자기평가서(PQ)25년 VER4(C070, 브레인)(0827).xlsx]사업개요'!D20 -> 최윤수 | E10: 1 | F10: (가칭)서울산빛초 신축공사 건설사업관리용역 | G10: 45770 | H10: 46322 | I10: 고급 | J10: 신고
E11: 2 | F11: 24-A-00부대 건설사업관리용역(A448) | G11: 45710 | H11: 46225 | I11: 고급 | J11: 미신고
E12: 3
E13: 4
E14: 5
E15: 6
E16: 7
E17: 8
E18: 9
C19: 토목 | D19: ='[C:\Users\user\Desktop\PQ 평가\평가실시\''25년\1028)해병1사단 포병여단 실내체육관 신축 등 3건(C070)\접수서류\16. 브레인\1. 자기평가서\자기평가서(PQ)25년 VER4(C070, 브레인)(0827).xlsx]사업개요'!D21 -> 박인두 | E19: 1 | F19: 154kV 북장안변전소 신축공사 감독권한대행 등 건설사업관리용역 | G19: 45612 | H19: 46123 | I19: 고급 | J19: 신고
E20: 2 | F20: 24-A-00부대 건설사업관리용역(A448) | G20: 45710 | H20: 46225 | I20: 고급 | J20: 미신고
E21: 3
E22: 4
E23: 5
E24: 6
E25: 7
E26: 8
E27: 9
C28: 기계 | D28: ='[C:\Users\user\Desktop\PQ 평가\평가실시\''25년\1028)해병1사단 포병여단 실내체육관 신축 등 3건(C070)\접수서류\16. 브레인\1. 자기평가서\자기평가서(PQ)25년 VER4(C070, 브레인)(0827).xlsx]사업개요'!D22 -> 배근철 | E28: 1 | F28: 154kV 북장안변전소 신축공사 감독권한대행 등 건설사업관리용역 | G28: 45495 | H28: 46123 | I28: 고급 | J28: 신고
E29: 2 | F29: 154kV 북현덕변전소 토건공사 감독권한대행 등 건설사업관리용역 | G29: 45638 | H29: 46183 | I29: 고급 | J29: 신고
E30: 3 | F30: 백령도발전소 발전설비증설 토건공사 감독권한대행 건설사업관리용역(PQ) | G30: 44907 | H30: 45652 | I30: 고급 | J30: 신고
E31: 4 | F31: 154kV 대산개폐소 토건공사 감독권한대행 등 건설사업관리용역(PQ) | G31: 45335 | H31: 45874 | I31: 고급 | J31: 신고
E32: 5 | F32: 345kV 신제천S/S FACTS 제어동 토건공사 건설사업관리용역(PQ) | G32: 45741 | H32: 46192 | I32: 고급 | J32: 신고
E33: 6 | F33: 24-A-00부대 건설사업관리용역(A448) | G33: 45712 | H33: 46225 | I33: 고급 | J33: 미신고
E34: 7
E35: 8
E36: 9
C37: 조경 | D37: ='[C:\Users\user\Desktop\PQ 평가\평가실시\''25년\1028)해병1사단 포병여단 실내체육관 신축 등 3건(C070)\접수서류\16. 브레인\1. 자기평가서\자기평가서(PQ)25년 VER4(C070, 브레인)(0827).xlsx]사업개요'!D23 -> 0 | E37: 1
E38: 2
E39: 3
E40: 4
E41: 5
E42: 6
E43: 7
E44: 8
E45: 9

Sheet 업무중복도 (15)
A1: 7. 업무중복도
B2: 구분 | D2: 기술인 성명 | E2: 현장배치현황 | L2: ※ 행을 숨기거나 삭제 및 추가 금지
E3: 연번 | F3: 현장명 | G3: 배치기간 | I3: 등급 | J3: 신고여부 | L3: ※ 건축, 토목, 기계 등 공종 순서 변경금지
G4: 시작일 | H4: 종료일
B5: 책임기술인 | D5: ='[C:\Users\user\Desktop\PQ 평가\평가실시\''25년\1028)해병1사단 포병여단 실내체육관 신축 등 3건(C070)\접수서류\17. 무영\수행실적평가서\25-M-00부대 실내체육관 신축 등 3건 건설사업관리용역(C070)_(주)무영씨엠건축사사무소.xlsx]사업개요'!D15 -> 김진회 | E5: 1
B6: 분야별 기술인 | C6: 건축 | D6: ='[C:\Users\user\Desktop\PQ 평가\평가실시\''25년\1028)해병1사단 포병여단 실내체육관 신축 등 3건(C070)\접수서류\17. 무영\수행실적평가서\25-M-00부대 실내체육관 신축 등 3건 건설사업관리용역(C070)_(주)무영씨엠건축사사무소.xlsx]사업개요'!D16 -> 곽영준 | E6: 1
C7: 토목 | D7: ='[C:\Users\user\Desktop\PQ 평가\평가실시\''25년\1028)해병1사단 포병여단 실내체육관 신축 등 3건(C070)\접수서류\17. 무영\수행실적평가서\25-M-00부대 실내체육관 신축 등 3건 건설사업관리용역(C070)_(주)무영씨엠건축사사무소.xlsx]사업개요'!D17 -> 남진두 | E7: 1
C8: 기계 | D8: ='[C:\Users\user\Desktop\PQ 평가\평가실시\''25년\1028)해병1사단 포병여단 실내체육관 신축 등 3건(C070)\접수서류\17. 무영\수행실적평가서\25-M-00부대 실내체육관 신축 등 3건 건설사업관리용역(C070)_(주)무영씨엠건축사사무소.xlsx]사업개요'!D18 -> 김덕환 | E8: 1
C9: 조경 | D9: ='[C:\Users\user\Desktop\PQ 평가\평가실시\''25년\1028)해병1사단 포병여단 실내체육관 신축 등 3건(C070)\접수서류\17. 무영\수행실적평가서\25-M-00부대 실내체육관 신축 등 3건 건설사업관리용역(C070)_(주)무영씨엠건축사사무소.xlsx]사업개요'!D19 -> 0 | E9: 1
B10: 기술지원기술인 | C10: 건축 | D10: ='[C:\Users\user\Desktop\PQ 평가\평가실시\''25년\1028)해병1사단 포병여단 실내체육관 신축 등 3건(C070)\접수서류\17. 무영\수행실적평가서\25-M-00부대 실내체육관 신축 등 3건 건설사업관리용역(C070)_(주)무영씨엠건축사사무소.xlsx]사업개요'!D20 -> 안승범 | E10: 1 | F10: 23-A-00부대 건설사업관리용역(A032) | G10: 45689 | H10: 46234 | I10: 특급 | J10: 신고
E11: 2 | F11: 25-A-00부대 건설사업관리용역(A107) | G11: 45828 | H11: 46367 | I11: 특급 | J11: 신고
E12: 3 | F12: 광주광산구신창동지역주택조합공동주택신축공사 | G12: 44774 | H12: 46020 | I12: 특급 | J12: 신고
E13: 4 | F13: 25-A-00부대 건설사업관리용역(A210) | G13: 낙찰(계약체결전) | I13: 특급 | J13: 미신고
E14: 5
E15: 6
E16: 7
E17: 8
E18: 9
C19: 토목 | D19: ='[C:\Users\user\Desktop\PQ 평가\평가실시\''25년\1028)해병1사단 포병여단 실내체육관 신축 등 3건(C070)\접수서류\17. 무영\수행실적평가서\25-M-00부대 실내체육관 신축 등 3건 건설사업관리용역(C070)_(주)무영씨엠건축사사무소.xlsx]사업개요'!D21 -> 허현수 | E19: 1 | F19: 25-A-00부대 건설사업관리용역(A107) | G19: 45828 | H19: 46367 | I19: 특급 | J19: 신고
E20: 2 | F20: 광명제5R구역 주택재개발정비사업 정비기반시설 대로3-24호선(현충지하차도) 개설공사 건설사업관리용역 | G20: 45778 | H20: 46326 | I20: 특급 | J20: 미신고
E21: 3 | F21: 25-A-00부대 건설사업관리용역(A210) | G21: 낙찰(계약체결전) | I21: 특급 | J21: 미신고
E22: 4
E23: 5
E24: 6
E25: 7
E26: 8
E27: 9
C28: 기계 | D28: ='[C:\Users\user\Desktop\PQ 평가\평가실시\''25년\1028)해병1사단 포병여단 실내체육관 신축 등 3건(C070)\접수서류\17. 무영\수행실적평가서\25-M-00부대 실내체육관 신축 등 3건 건설사업관리용역(C070)_(주)무영씨엠건축사사무소.xlsx]사업개요'!D22 -> 정구인 | E28: 1 | F28: 국립소방박물관 건설사업관리(감독권한대행)용역 | G28: 45299 | H28: 46078 | I28: 특급 | J28: 신고
E29: 2 | F29: 인천지방검찰청 북부지청 신축공사 건설사업관리용역 | G29: 45566 | H29: 46568 | I29: 특급 | J29: 신고
E30: 3 | F30: 25-A-00부대 건설사업관리용역(A107) | G30: 45828 | H30: 46367 | I30: 특급 | J30: 신고
E31: 4 | F31: 정관에듀파크 조성공사 감독권한대행 등 건설사업관리용역 | G31: 45213 | H31: 45937 | I31: 특급 | J31: 신고
E32: 5 | F32: 모래내공원 및 상도근린공원 지하공영주차장 건립공사 통합건설사업관리용역(감독권한대행) | G32: 45397 | H32: 45936 | I32: 특급 | J32: 신고
E33: 6 | F33: 24-M-생활관 신축 등 2건 건설사업관리용역(C099) | G33: 배치예정 | I33: 특급 | J33: 미신고
E34: 7 | F34: 25-A-00부대 건설사업관리용역(A210) | G34: 낙찰(계약체결전) | I34: 특급 | J34: 미신고
E35: 8
E36: 9
C37: 조경 | D37: ='[C:\Users\user\Desktop\PQ 평가\평가실시\''25년\1028)해병1사단 포병여단 실내체육관 신축 등 3건(C070)\접수서류\17. 무영\수행실적평가서\25-M-00부대 실내체육관 신축 등 3건 건설사업관리용역(C070)_(주)무영씨엠건축사사무소.xlsx]사업개요'!D23 -> 0 | E37: 1
E38: 2
E39: 3
E40: 4
E41: 5
E42: 6
E43: 7
E44: 8
E45: 9

Sheet 업무중복도 (16)
A1: 7. 업무중복도
B2: 구분 | D2: 기술인 성명 | E2: 현장배치현황 | L2: ※ 행을 숨기거나 삭제 및 추가 금지
E3: 연번 | F3: 현장명 | G3: 배치기간 | I3: 등급 | J3: 신고여부 | L3: ※ 건축, 토목, 기계 등 공종 순서 변경금지
G4: 시작일 | H4: 종료일
B5: 책임기술인 | D5: ='[C:\Users\user\Desktop\PQ 평가\평가실시\''25년\1028)해병1사단 포병여단 실내체육관 신축 등 3건(C070)\접수서류\18. 나로이엔씨\자기평가서(PQ)25년 VER4(C070, (주)나로이엔씨).xlsx]사업개요'!D15 -> 김홍수 | E5: 1
B6: 분야별 기술인 | C6: 건축 | D6: ='[C:\Users\user\Desktop\PQ 평가\평가실시\''25년\1028)해병1사단 포병여단 실내체육관 신축 등 3건(C070)\접수서류\18. 나로이엔씨\자기평가서(PQ)25년 VER4(C070, (주)나로이엔씨).xlsx]사업개요'!D16 -> 박명환 | E6: 1
C7: 토목 | D7: ='[C:\Users\user\Desktop\PQ 평가\평가실시\''25년\1028)해병1사단 포병여단 실내체육관 신축 등 3건(C070)\접수서류\18. 나로이엔씨\자기평가서(PQ)25년 VER4(C070, (주)나로이엔씨).xlsx]사업개요'!D17 -> 김학래 | E7: 1
C8: 기계 | D8: ='[C:\Users\user\Desktop\PQ 평가\평가실시\''25년\1028)해병1사단 포병여단 실내체육관 신축 등 3건(C070)\접수서류\18. 나로이엔씨\자기평가서(PQ)25년 VER4(C070, (주)나로이엔씨).xlsx]사업개요'!D18 -> 나병길 | E8: 1
C9: 조경 | D9: ='[C:\Users\user\Desktop\PQ 평가\평가실시\''25년\1028)해병1사단 포병여단 실내체육관 신축 등 3건(C070)\접수서류\18. 나로이엔씨\자기평가서(PQ)25년 VER4(C070, (주)나로이엔씨).xlsx]사업개요'!D19 -> 0 | E9: 1
B10: 기술지원기술인 | C10: 건축 | D10: ='[C:\Users\user\Desktop\PQ 평가\평가실시\''25년\1028)해병1사단 포병여단 실내체육관 신축 등 3건(C070)\접수서류\18. 나로이엔씨\자기평가서(PQ)25년 VER4(C070, (주)나로이엔씨).xlsx]사업개요'!D20 -> 남상환 | E10: 1 | F10: 24-A-00부대 건설사업관리용역(A169) | G10: 45526 | H10: 46043 | I10: 특급 | J10: 신고
E11: 2 | F11: 24-A-00부대 건설사업관리용역(A269) | G11: 45712 | H11: 46054 | I11: 특급 | J11: 신고
E12: 3 | F12: 광운대역 물류부지 개발사업 | G12: 45604 | H12: 46972 | I12: 특급 | J12: 신고
E13: 4 | F13: 장미연립 소규모재건축사업 아파트 신축공사 | G13: 45663 | H13: 46387 | I13: 특급 | J13: 신고
E14: 5
E15: 6
E16: 7
E17: 8
E18: 9
C19: 토목 | D19: ='[C:\Users\user\Desktop\PQ 평가\평가실시\''25년\1028)해병1사단 포병여단 실내체육관 신축 등 3건(C070)\접수서류\18. 나로이엔씨\자기평가서(PQ)25년 VER4(C070, (주)나로이엔씨).xlsx]사업개요'!D21 -> 김인환 | E19: 1 | F19: 인제서화 아파트 건설공사 1공구 시공단계 감독권한대행 등 건설사업관리용역 | G19: 45588 | H19: 46408 | I19: 특급 | J19: 신고
E20: 2 | F20: 24-A-00부대 건설사업관리용역(A169) | G20: 45526 | H20: 46043 | I20: 특급 | J20: 신고
E21: 3 | F21: 25-A-00부대 건설사업관리용역(A269) | G21: 45712 | H21: 46054 | I21: 특급 | J21: 신고
E22: 4
E23: 5
E24: 6
E25: 7
E26: 8
E27: 9
C28: 기계 | D28: ='[C:\Users\user\Desktop\PQ 평가\평가실시\''25년\1028)해병1사단 포병여단 실내체육관 신축 등 3건(C070)\접수서류\18. 나로이엔씨\자기평가서(PQ)25년 VER4(C070, (주)나로이엔씨).xlsx]사업개요'!D22 -> 박종수 | E28: 1 | F28: 24-A-00부대 건설사업관리용역(A169) | G28: 45526 | H28: 46043 | I28: 특급 | J28: 신고
E29: 2 | F29: 24-A-00부대 건설사업관리용역(A269) | G29: 45712 | H29: 46054 | I29: 특급 | J29: 신고
E30: 3
E31: 4
E32: 5
E33: 6
E34: 7
E35: 8
E36: 9
C37: 조경 | D37: ='[C:\Users\user\Desktop\PQ 평가\평가실시\''25년\1028)해병1사단 포병여단 실내체육관 신축 등 3건(C070)\접수서류\18. 나로이엔씨\자기평가서(PQ)25년 VER4(C070, (주)나로이엔씨).xlsx]사업개요'!D23 -> 0 | E37: 1
E38: 2
E39: 3
E40: 4
E41: 5
E42: 6
E43: 7
E44: 8
E45: 9

Sheet 업무중복도 (17)
A1: 7. 업무중복도
B2: 구분 | D2: 기술인 성명 | E2: 현장배치현황 | L2: ※ 행을 숨기거나 삭제 및 추가 금지
E3: 연번 | F3: 현장명 | G3: 배치기간 | I3: 등급 | J3: 신고여부 | L3: ※ 건축, 토목, 기계 등 공종 순서 변경금지
G4: 시작일 | H4: 종료일
B5: 책임기술인 | D5: ='[C:\Users\user\Desktop\PQ 평가\평가실시\''25년\1028)해병1사단 포병여단 실내체육관 신축 등 3건(C070)\접수서류\3. 영화\자기평가서(C070)__(주)영화키스톤건축사사무소.xlsx]사업개요'!D15 -> 전상욱 | E5: 1
B6: 분야별 기술인 | C6: 건축 | D6: ='[C:\Users\user\Desktop\PQ 평가\평가실시\''25년\1028)해병1사단 포병여단 실내체육관 신축 등 3건(C070)\접수서류\3. 영화\자기평가서(C070)__(주)영화키스톤건축사사무소.xlsx]사업개요'!D16 -> 윤준혁 | E6: 1
C7: 토목 | D7: ='[C:\Users\user\Desktop\PQ 평가\평가실시\''25년\1028)해병1사단 포병여단 실내체육관 신축 등 3건(C070)\접수서류\3. 영화\자기평가서(C070)__(주)영화키스톤건축사사무소.xlsx]사업개요'!D17 -> 이기동 | E7: 1
C8: 기계 | D8: ='[C:\Users\user\Desktop\PQ 평가\평가실시\''25년\1028)해병1사단 포병여단 실내체육관 신축 등 3건(C070)\접수서류\3. 영화\자기평가서(C070)__(주)영화키스톤건축사사무소.xlsx]사업개요'!D18 -> 이상우 | E8: 1
C9: 조경 | D9: ='[C:\Users\user\Desktop\PQ 평가\평가실시\''25년\1028)해병1사단 포병여단 실내체육관 신축 등 3건(C070)\접수서류\3. 영화\자기평가서(C070)__(주)영화키스톤건축사사무소.xlsx]사업개요'!D19 -> 0 | E9: 1
B10: 기술지원기술인 | C10: 건축 | D10: ='[C:\Users\user\Desktop\PQ 평가\평가실시\''25년\1028)해병1사단 포병여단 실내체육관 신축 등 3건(C070)\접수서류\3. 영화\자기평가서(C070)__(주)영화키스톤건축사사무소.xlsx]사업개요'!D20 -> 최봉희 | E10: 1 | F10: 23-D-개편사업 건설사업관리용역(B037) | G10: 45337 | H10: 45922 | I10: 특급 | J10: 신고
E11: 2 | F11: 23-F-수용시설 건설사업관리용역(D064) | G11: 45376 | H11: 46163 | I11: 특급 | J11: 신고
E12: 3 | F12: 영주시 더이음 어울림센터 신축공사 건설사업관리용역 | G12: 45490 | H12: 45999 | I12: 특급 | J12: 신고
E13: 4 | F13: 24-D-간부숙소 신축 등 5건 건설사업관리용역(B030) | G13: 45643 | H13: 46417 | I13: 특급 | J13: 신고(미승인)
E14: 5 | F14: 25-A-00부대 건설사업관리용역(A065) | G14: 45789 | H14: 46304 | I14: 특급 | J14: 미신고
E15: 6 | F15: 25-F-소방설비 교체 등 3건 건설사업관리용역(D032) | G15: 45834 | H15: 46259 | I15: 특급 | J15: 미신고
E16: 7 | F16: 22-공-00정비대 건설사업관리용역(D064) | G16: 44761 | H16: 46203 | I16: 특급 | J16: 미신고
E17: 8
E18: 9
C19: 토목 | D19: ='[C:\Users\user\Desktop\PQ 평가\평가실시\''25년\1028)해병1사단 포병여단 실내체육관 신축 등 3건(C070)\접수서류\3. 영화\자기평가서(C070)__(주)영화키스톤건축사사무소.xlsx]사업개요'!D21 -> 오세화 | E19: 1 | F19: 22-대미-00숙소(4단계) 신축 CM용역(E019) | G19: 44911 | H19: 46157 | I19: 특급 | J19: 신고
E20: 2 | F20: 22-국-병원 개편 건설사업관리용역(B022) | G20: 44761 | H20: 45958 | I20: 특급 | J20: 신고(미승인)
E21: 3 | F21: 23-U-피해복구창고 건설사업관리용역(E003) | G21: 45017 | H21: 45961 | I21: 특급 | J21: 신고
E22: 4 | F22: 23-A-00부대 건설사업관리용역(A023) | G22: 45056 | H22: 46022 | I22: 특급 | J22: 신고(종료현황 미등재)
E23: 5 | F23: 23-A-00부대 건설사업관리용역(A033) | G23: 45050 | H23: 45889 | I23: 특급 | J23: 신고
E24: 6 | F24: 23-F-수용시설 건설사업관리용역(D064) | G24: 45566 | H24: 46163 | I24: 특급 | J24: 신고
E25: 7 | F25: 25-U-캠프워커 및 캠프캐롤 건설사업관리용역(E012) | G25: 45953 | H25: 47444 | I25: 특급 | J25: 미신고
E26: 8
E27: 9
C28: 기계 | D28: ='[C:\Users\user\Desktop\PQ 평가\평가실시\''25년\1028)해병1사단 포병여단 실내체육관 신축 등 3건(C070)\접수서류\3. 영화\자기평가서(C070)__(주)영화키스톤건축사사무소.xlsx]사업개요'!D22 -> 고영길 | E28: 1 | F28: 마산우체국 건립공사 감독권한대행 등 건설사업관리용역 | G28: 45275 | H28: 46370 | I28: 특급 | J28: 신고
E29: 2 | F29: 23-D-개편사업 건설사업관리용역(B037) | G29: 45337 | H29: 45922 | I29: 특급 | J29: 신고
E30: 3 | F30: 김포한강 00사단 작전보완시설 건설공사 시공단계 감독권한대행 등 건설사업관리용역 | G30: 45444 | H30: 45988 | I30: 특급 | J30: 신고
E31: 4 | F31: 23-F-수용시설 건설사업관리용역(D064) | G31: 45376 | H31: 46163 | I31: 특급 | J31: 신고
E32: 5 | F32: 24-N-배전실 신축 등 5건 건설사업관리용역(C011) | G32: 45414 | H32: 46156 | I32: 특급 | J32: 미신고
E33: 6 | F33: 천생역사 문화시설 조성사업 건설사업관리용역 | G33: 45810 | H33: 46199 | I33: 특급 | J33: 미신고
E34: 7 | F34: (가칭)경상남도교육청 기록원 설립공사 건설사업관리용역 | G34: 45807 | H34: 46226 | I34: 특급 | J34: 미신고
E35: 8 | F35: 25-A-00부대 건설사업관리용역(A188) | G35: 45873 | H35: 46633 | I35: 특급 | J35: 미신고
E36: 9
C37: 조경 | D37: ='[C:\Users\user\Desktop\PQ 평가\평가실시\''25년\1028)해병1사단 포병여단 실내체육관 신축 등 3건(C070)\접수서류\3. 영화\자기평가서(C070)__(주)영화키스톤건축사사무소.xlsx]사업개요'!D23 -> 0 | E37: 1
E38: 2
E39: 3
E40: 4
E41: 5
E42: 6
E43: 7
E44: 8
E45: 9

Sheet 업무중복도 (18)
A1: 7. 업무중복도
B2: 구분 | D2: 기술인 성명 | E2: 현장배치현황 | L2: ※ 행을 숨기거나 삭제 및 추가 금지
E3: 연번 | F3: 현장명 | G3: 배치기간 | I3: 등급 | J3: 신고여부 | L3: ※ 건축, 토목, 기계 등 공종 순서 변경금지
G4: 시작일 | H4: 종료일
B5: 책임기술인 | D5: ='[18]사업개요'!D15 -> 유영구 | E5: 1 | I5: 특급
B6: 분야별 기술인 | C6: 건축 | D6: ='[18]사업개요'!D16 -> 김경환 | E6: 1 | I6: 중급
C7: 토목 | D7: ='[18]사업개요'!D17 -> 서상쾌 | E7: 1 | I7: 특급
C8: 기계 | D8: ='[18]사업개요'!D18 -> 김진수 | E8: 1 | I8: 특급
C9: 조경 | D9: ='[18]사업개요'!D19 -> 0 | E9: 1
B10: 기술지원기술인 | C10: 건축 | D10: ='[18]사업개요'!D20 -> 허현 | E10: 1 | F10: 23-N-격납고 신축 등 건설사업관리(C119) | G10: 45778 | H10: 45974 | I10: 특급 | J10: 미신고
E11: 2 | F11: 23-A-00부대 건설사업관리용역(A058) | G11: 45778 | H11: 45961 | I11: 특급 | J11: 신고
E12: 3 | F12: 25-A-00부대 건설사업관리용역(A008) | G12: 45778 | H12: 46039 | I12: 특급 | J12: 미신고
E13: 4 | F13: 24-N-체육관 리모델링 등 2건 건설사업관리용역(C097) | G13: 45778 | H13: 46135 | I13: 특급 | J13: 미신고
E14: 5 | F14: 24-A-00부대 건설사업관리용역(A178) | G14: 45778 | H14: 46290 | I14: 특급 | J14: 미신고
E15: 6 | F15: 25-A-00부대 건설사업관리용역(A042) | G15: 45778 | H15: 46368 | I15: 특급 | J15: 미신고
E16: 7 | F16: 25-A-00부대 건설사업관리용역(A247) | G16: 45910 | H16: 46299 | I16: 특급 | J16: 미신고
E17: 8
E18: 9
C19: 토목 | D19: ='[18]사업개요'!D21 -> 류재구 | E19: 1 | F19: 화천군 자연재해저감종합계획 재수립 용역 | G19: 44284 | H19: 45850 | I19: 특급 | J19: 미신고
E20: 2 | F20: 포남2처리분구 하수관로 정비사업 외 2개소 통합건설사업관리용역 | G20: 45090 | H20: 46271 | I20: 특급 | J20: 신고
E21: 3 | F21: 청정고원 스포츠센터(고원3체육관) 건립공사 건설사업관리용역 | G21: 45768 | H21: 46397 | I21: 특급 | J21: 미신고
E22: 4 | F22: 25-A-00부대 건설사업관리용역(A247) | G22: 45910 | H22: 46299 | I22: 특급 | J22: 미신고
E23: 5
E24: 6
E25: 7
E26: 8
E27: 9
C28: 기계 | D28: ='[18]사업개요'!D22 -> 배명환 | E28: 1 | F28: 23-N-격납고 신축 등 건설사업관리(C119) | G28: 45668 | H28: 45974 | I28: 특급 | J28: 미신고
E29: 2 | F29: 25-A-00부대 건설사업관리용역(A008) | G29: 45740 | H29: 46039 | I29: 특급 | J29: 미신고
E30: 3 | F30: 25-A-00부대 건설사업관리용역(A027) | G30: 45743 | H30: 46042 | I30: 특급 | J30: 신고
E31: 4 | F31: 25-A-00부대 건설사업관리용역(A042) | G31: 45769 | H31: 46368 | I31: 특급 | J31: 미신고
E32: 5 | F32: 25-A-00부대 건설사업관리용역(A247) | G32: 45910 | H32: 46299 | I32: 특급 | J32: 미신고
E33: 6
E34: 7
E35: 8
E36: 9
C37: 조경 | D37: ='[18]사업개요'!D23 -> 0 | E37: 1
E38: 2
E39: 3
E40: 4
E41: 5
E42: 6
E43: 7
E44: 8
E45: 9

Sheet Sheet1
