Workbook

Sheet 업무중복도
A1: 7. 업무중복도
B2: 구분 | D2: 기술인 성명 | E2: 현장배치현황 | L2: ※ 행을 숨기거나 삭제 및 추가 금지
E3: 연번 | F3: 현장명 | G3: 배치기간 | I3: 등급 | J3: 신고여부 | L3: ※ 건축, 토목, 기계 등 공종 순서 변경금지
G4: 시작일 | H4: 종료일
B5: 책임기술인 | D5: ='[C:\Users\user\Desktop\PQ 평가\평가실시\''25년\1106)해군 군수사 함포저장고 신축공사 등 5건(C069)\접수서류\1. 티엠지\2. 자기평가서(25-C069)(최종).xlsx]사업개요'!D15 -> 노호균 | E5: 1
B6: 분야별 기술인 | C6: 건축 | D6: ='[C:\Users\user\Desktop\PQ 평가\평가실시\''25년\1106)해군 군수사 함포저장고 신축공사 등 5건(C069)\접수서류\1. 티엠지\2. 자기평가서(25-C069)(최종).xlsx]사업개요'!D16 -> 김주영 | E6: 1
C7: 토목 | D7: ='[C:\Users\user\Desktop\PQ 평가\평가실시\''25년\1106)해군 군수사 함포저장고 신축공사 등 5건(C069)\접수서류\1. 티엠지\2. 자기평가서(25-C069)(최종).xlsx]사업개요'!D17 -> 허원 | E7: 1
C8: 기계 | D8: ='[C:\Users\user\Desktop\PQ 평가\평가실시\''25년\1106)해군 군수사 함포저장고 신축공사 등 5건(C069)\접수서류\1. 티엠지\2. 자기평가서(25-C069)(최종).xlsx]사업개요'!D18 -> 김창섭 | E8: 1
C9: 조경 | D9: ='[C:\Users\user\Desktop\PQ 평가\평가실시\''25년\1106)해군 군수사 함포저장고 신축공사 등 5건(C069)\접수서류\1. 티엠지\2. 자기평가서(25-C069)(최종).xlsx]사업개요'!D19 -> 0 | E9: 1
B10: 기술지원기술인 | C10: 건축 | D10: ='[C:\Users\user\Desktop\PQ 평가\평가실시\''25년\1106)해군 군수사 함포저장고 신축공사 등 5건(C069)\접수서류\1. 티엠지\2. 자기평가서(25-C069)(최종).xlsx]사업개요'!D20 -> 손현찬 | E10: 1
E11: 2
E12: 3
E13: 4
E14: 5
E15: 6
E16: 7
E17: 8
E18: 9
C19: 토목 | D19: ='[C:\Users\user\Desktop\PQ 평가\평가실시\''25년\1106)해군 군수사 함포저장고 신축공사 등 5건(C069)\접수서류\1. 티엠지\2. 자기평가서(25-C069)(최종).xlsx]사업개요'!D21 -> 김희대 | E19: 1 | F19: 24-A-00부대 건설사업관리용역(A193) | G19: 45572 | H19: 46332 | I19: 특급 | J19: 신고
E20: 2 | F20: 23-N-정비시설 증축 건설사업 관리용역(C103) | G20: 45271 | H20: 46020 | I20: 특급 | J20: 신고
E21: 3 | F21: 24-A-00부대 건설사업관리용역(A260) | G21: 45601 | H21: 45995 | I21: 특급 | J21: 미신고
E22: 4 | F22: 24-A-00부대 건설사업관리용역(A457) | G22: 45663 | H22: 46058 | I22: 특급 | J22: 미신고
E23: 5 | F23: 25-F-00부대 모듈러형 숙소 건설사업관리용역(D073) | G23: 45967 | H23: 46331 | I23: 특급 | J23: 미신고
E24: 6
E25: 7
E26: 8
E27: 9
C28: 기계 | D28: ='[C:\Users\user\Desktop\PQ 평가\평가실시\''25년\1106)해군 군수사 함포저장고 신축공사 등 5건(C069)\접수서류\1. 티엠지\2. 자기평가서(25-C069)(최종).xlsx]사업개요'!D22 -> 박계병 | E28: 1 | F28: 일산수질복원센터 설개량사업(1단계) 건설사업관리용역 | G28: 45320 | H28: 46200 | I28: 특급 | J28: 신고
E29: 2 | F29: 태봉근린공원조성사업(1단계)감독권한대행 건설사업관리 용역 | G29: 45828 | H29: 46067 | I29: 특급 | J29: 신고
E30: 3 | F30: 고양시 하수도 정비기본계획(변경) 수립 용역 | G30: 45118 | H30: 46020 | I30: 특급 | J30: 신고
E31: 4
E32: 5
E33: 6
E34: 7
E35: 8
E36: 9
C37: 조경 | D37: ='[C:\Users\user\Desktop\PQ 평가\평가실시\''25년\1106)해군 군수사 함포저장고 신축공사 등 5건(C069)\접수서류\1. 티엠지\2. 자기평가서(25-C069)(최종).xlsx]사업개요'!D23 -> 0 | E37: 1
E38: 2
E39: 3
E40: 4
...

Sheet 업무중복도 (2)
A1: 7. 업무중복도
B2: 구분 | D2: 기술인 성명 | E2: 현장배치현황 | L2: ※ 행을 숨기거나 삭제 및 추가 금지
E3: 연번 | F3: 현장명 | G3: 배치기간 | I3: 등급 | J3: 신고여부 | L3: ※ 건축, 토목, 기계 등 공종 순서 변경금지
G4: 시작일 | H4: 종료일
B5: 책임기술인 | D5: ='[C:\Users\user\Desktop\PQ 평가\평가실시\''25년\1106)해군 군수사 함포저장고 신축공사 등 5건(C069)\접수서류\2. 영화\자기평가서(C069)_(주)영화키스톤건축사사무소.xlsx]사업개요'!D15 -> 전상욱 | E5: 1
B6: 분야별 기술인 | C6: 건축 | D6: ='[C:\Users\user\Desktop\PQ 평가\평가실시\''25년\1106)해군 군수사 함포저장고 신축공사 등 5건(C069)\접수서류\2. 영화\자기평가서(C069)_(주)영화키스톤건축사사무소.xlsx]사업개요'!D16 -> 윤준혁 | E6: 1
C7: 토목 | D7: ='[C:\Users\user\Desktop\PQ 평가\평가실시\''25년\1106)해군 군수사 함포저장고 신축공사 등 5건(C069)\접수서류\2. 영화\자기평가서(C069)_(주)영화키스톤건축사사무소.xlsx]사업개요'!D17 -> 이기동 | E7: 1
C8: 기계 | D8: ='[C:\Users\user\Desktop\PQ 평가\평가실시\''25년\1106)해군 군수사 함포저장고 신축공사 등 5건(C069)\접수서류\2. 영화\자기평가서(C069)_(주)영화키스톤건축사사무소.xlsx]사업개요'!D18 -> 이상우 | E8: 1
C9: 조경 | D9: ='[C:\Users\user\Desktop\PQ 평가\평가실시\''25년\1106)해군 군수사 함포저장고 신축공사 등 5건(C069)\접수서류\2. 영화\자기평가서(C069)_(주)영화키스톤건축사사무소.xlsx]사업개요'!D19 -> 0 | E9: 1
B10: 기술지원기술인 | C10: 건축 | D10: ='[C:\Users\user\Desktop\PQ 평가\평가실시\''25년\1106)해군 군수사 함포저장고 신축공사 등 5건(C069)\접수서류\2. 영화\자기평가서(C069)_(주)영화키스톤건축사사무소.xlsx]사업개요'!D20 -> 최봉희 | E10: 1 | F10: 23-D-개편사업 건설사업관리용역(B037) | G10: 45337 | H10: 45922 | I10: 특급 | J10: 신고
E11: 2 | F11: 23-F-수용시설 건설사업관리용역(D064) | G11: 45376 | H11: 46163 | I11: 특급 | J11: 신고
E12: 3 | F12: 영주시 더이음 어울림센터 신축공사 건설사업관리용역 | G12: 45490 | H12: 45999 | I12: 특급 | J12: 신고
E13: 4 | F13: 24-D-간부숙소 신축 등 5건 건설사업관리용역(B030) | G13: 45643 | H13: 46417 | I13: 특급 | J13: 신고(미승인)
E14: 5 | F14: 25-A-00부대 건설사업관리용역(A065) | G14: 45789 | H14: 46304 | I14: 특급 | J14: 미신고
E15: 6 | F15: 25-F-소방설비 교체 등 3건 건설사업관리용역(D032) | G15: 45834 | H15: 46259 | I15: 특급 | J15: 미신고
E16: 7 | F16: 22-공-00정비대 건설사업관리용역(D064) | G16: 44761 | H16: 46203 | I16: 특급 | J16: 미신고
E17: 8
E18: 9
C19: 토목 | D19: ='[C:\Users\user\Desktop\PQ 평가\평가실시\''25년\1106)해군 군수사 함포저장고 신축공사 등 5건(C069)\접수서류\2. 영화\자기평가서(C069)_(주)영화키스톤건축사사무소.xlsx]사업개요'!D21 -> 오세화 | E19: 1 | F19: 22-대미-00숙소(4단계) 신축 CM용역(E019) | G19: 44911 | H19: 46157 | I19: 특급 | J19: 신고
E20: 2 | F20: 22-국-병원 개편 건설사업관리용역(B022) | G20: 44761 | H20: 45958 | I20: 특급 | J20: 신고(미승인)
E21: 3 | F21: 23-U-피해복구창고 건설사업관리용역(E003) | G21: 45017 | H21: 45961 | I21: 특급 | J21: 신고
E22: 4 | F22: 23-A-00부대 건설사업관리용역(A023) | G22: 45056 | H22: 46022 | I22: 특급 | J22: 신고(종료현황 미등재)
E23: 5 | F23: 23-A-00부대 건설사업관리용역(A033) | G23: 45050 | H23: 45889 | I23: 특급 | J23: 신고
E24: 6 | F24: 23-F-수용시설 건설사업관리용역(D064) | G24: 45566 | H24: 46163 | I24: 특급 | J24: 신고
E25: 7 | F25: 25-U-캠프워커 및 캠프캐롤 건설사업관리용역(E012) | G25: 45953 | H25: 47444 | I25: 특급 | J25: 미신고
E26: 8
E27: 9
C28: 기계 | D28: ='[C:\Users\user\Desktop\PQ 평가\평가실시\''25년\1106)해군 군수사 함포저장고 신축공사 등 5건(C069)\접수서류\2. 영화\자기평가서(C069)_(주)영화키스톤건축사사무소.xlsx]사업개요'!D22 -> 고영길 | E28: 1 | F28: 마산우체국 건립공사 감독권한대행 등 건설사업관리용역 | G28: 45275 | H28: 46370 | I28: 특급 | J28: 신고
E29: 2 | F29: 23-D-개편사업 건설사업관리용역(B037) | G29: 45337 | H29: 45922 | I29: 특급 | J29: 신고
E30: 3 | F30: 김포한강 00사단 작전보완시설 건설공사 시공단계 감독권한대행 등 건설사업관리용역 | G30: 45444 | H30: 45988 | I30: 특급 | J30: 신고
E31: 4 | F31: 23-F-수용시설 건설사업관리용역(D064) | G31: 45376 | H31: 46163 | I31: 특급 | J31: 신고
E32: 5 | F32: 24-N-배전실 신축 등 5건 건설사업관리용역(C011) | G32: 45414 | H32: 46156 | I32: 특급 | J32: 미신고
E33: 6 | F33: 천생역사 문화시설 조성사업 건설사업관리용역 | G33: 45810 | H33: 46199 | I33: 특급 | J33: 미신고
E34: 7 | F34: (가칭)경상남도교육청 기록원 설립공사 건설사업관리용역 | G34: 45807 | H34: 46226 | I34: 특급 | J34: 미신고
E35: 8 | F35: 25-A-00부대 건설사업관리용역(A188) | G35: 45873 | H35: 46633 | I35: 특급 | J35: 미신고
E36: 9
C37: 조경 | D37: ='[C:\Users\user\Desktop\PQ 평가\평가실시\''25년\1106)해군 군수사 함포저장고 신축공사 등 5건(C069)\접수서류\2. 영화\자기평가서(C069)_(주)영화키스톤건축사사무소.xlsx]사업개요'!D23 -> 0 | E37: 1
E38: 2
E39: 3
E40: 4
...

Sheet 업무중복도 (3)
A1: 7. 업무중복도
B2: 구분 | D2: 기술인 성명 | E2: 현장배치현황 | L2: ※ 행을 숨기거나 삭제 및 추가 금지
E3: 연번 | F3: 현장명 | G3: 배치기간 | I3: 등급 | J3: 신고여부 | L3: ※ 건축, 토목, 기계 등 공종 순서 변경금지
G4: 시작일 | H4: 종료일
B5: 책임기술인 | D5: ='[C:\Users\user\Desktop\PQ 평가\평가실시\''25년\1106)해군 군수사 함포저장고 신축공사 등 5건(C069)\접수서류\3. 라온\자기평가서(PQ)25년 VER4(C069, 라온건축)(0827) (1).xlsx]사업개요'!D15 -> 강승구 | E5: 1
B6: 분야별 기술인 | C6: 건축 | D6: ='[C:\Users\user\Desktop\PQ 평가\평가실시\''25년\1106)해군 군수사 함포저장고 신축공사 등 5건(C069)\접수서류\3. 라온\자기평가서(PQ)25년 VER4(C069, 라온건축)(0827) (1).xlsx]사업개요'!D16 -> 이득행 | E6: 1
C7: 토목 | D7: ='[C:\Users\user\Desktop\PQ 평가\평가실시\''25년\1106)해군 군수사 함포저장고 신축공사 등 5건(C069)\접수서류\3. 라온\자기평가서(PQ)25년 VER4(C069, 라온건축)(0827) (1).xlsx]사업개요'!D17 -> 정성규 | E7: 1
C8: 기계 | D8: ='[C:\Users\user\Desktop\PQ 평가\평가실시\''25년\1106)해군 군수사 함포저장고 신축공사 등 5건(C069)\접수서류\3. 라온\자기평가서(PQ)25년 VER4(C069, 라온건축)(0827) (1).xlsx]사업개요'!D18 -> 표용태 | E8: 1
C9: 조경 | D9: ='[C:\Users\user\Desktop\PQ 평가\평가실시\''25년\1106)해군 군수사 함포저장고 신축공사 등 5건(C069)\접수서류\3. 라온\자기평가서(PQ)25년 VER4(C069, 라온건축)(0827) (1).xlsx]사업개요'!D19 -> 0 | E9: 1
B10: 기술지원기술인 | C10: 건축 | D10: ='[C:\Users\user\Desktop\PQ 평가\평가실시\''25년\1106)해군 군수사 함포저장고 신축공사 등 5건(C069)\접수서류\3. 라온\자기평가서(PQ)25년 VER4(C069, 라온건축)(0827) (1).xlsx]사업개요'!D20 -> 김흥백 | E10: 1 | F10: 25-A-00부대 건설사업관리용역(A189) | G10: 45859 | H10: 46368 | I10: 특급 | J10: 신고
E11: 2 | F11: 송도국제도시 11공구 RC3블록(송도동 543번지) 공동주택 신축공사 | G11: 45981 | H11: 47196 | I11: 특급 | J11: 미신고
E12: 3 | F12: 인천검단경찰서 신축사업 감독 권한대행 등 건설사업관리용역 | G12: 45896 | H12: 46676 | I12: 특급 | J12: 미신고
E13: 4 | F13: 25-A-00부대 건설사업관리용역(A260) | G13: 45922 | H13: 46833 | I13: 특급 | J13: 미신고
E14: 5
E15: 6
E16: 7
E17: 8
E18: 9
C19: 토목 | D19: ='[C:\Users\user\Desktop\PQ 평가\평가실시\''25년\1106)해군 군수사 함포저장고 신축공사 등 5건(C069)\접수서류\3. 라온\자기평가서(PQ)25년 VER4(C069, 라온건축)(0827) (1).xlsx]사업개요'!D21 -> 김헌우 | E19: 1 | F19: 25-A-00부대 건설사업관리용역(A242) | G19: 45910 | H19: 46299 | I19: 특급 | J19: 미신고
E20: 2 | F20: 25-A-00부대 건설사업관리용역(A260) | G20: 45922 | H20: 46833 | I20: 특급 | J20: 미신고
E21: 3
E22: 4
E23: 5
E24: 6
E25: 7
E26: 8
E27: 9
C28: 기계 | D28: ='[C:\Users\user\Desktop\PQ 평가\평가실시\''25년\1106)해군 군수사 함포저장고 신축공사 등 5건(C069)\접수서류\3. 라온\자기평가서(PQ)25년 VER4(C069, 라온건축)(0827) (1).xlsx]사업개요'!D22 -> 유병준 | E28: 1 | F28: 25-D-00병원 리모델링 등 2건 건설사업관리(B025) | G28: 45895 | H28: 45995 | I28: 특급 | J28: 신고
E29: 2 | F29: 25-A-00부대 건설사업관리용역(A168) | G29: 45895 | H29: 46210 | I29: 특급 | J29: 신고
E30: 3 | F30: 25-A-00부대 건설사업관리용역(A189) | G30: 45916 | H30: 46368 | I30: 특급 | J30: 신고
E31: 4 | F31: 25-F-대형수송기 2차사업 건설사업관리용역(D044) | G31: 45915 | H31: 46979 | I31: 특급 | J31: 미신고
E32: 5 | F32: 25-A-00부대 건설사업관리용역(A242) | G32: 45910 | H32: 46299 | I32: 특급 | J32: 미신고
E33: 6 | F33: 25-A-00부대 건설사업관리용역(A260) | G33: 45922 | H33: 46833 | I33: 특급 | J33: 미신고
E34: 7
E35: 8
E36: 9
C37: 조경 | D37: ='[C:\Users\user\Desktop\PQ 평가\평가실시\''25년\1106)해군 군수사 함포저장고 신축공사 등 5건(C069)\접수서류\3. 라온\자기평가서(PQ)25년 VER4(C069, 라온건축)(0827) (1).xlsx]사업개요'!D23 -> 0 | E37: 1
E38: 2
E39: 3
E40: 4
...

Sheet 업무중복도 (4)
A1: 7. 업무중복도
B2: 구분 | D2: 기술인 성명 | E2: 현장배치현황 | L2: ※ 행을 숨기거나 삭제 및 추가 금지
E3: 연번 | F3: 현장명 | G3: 배치기간 | I3: 등급 | J3: 신고여부 | L3: ※ 건축, 토목, 기계 등 공종 순서 변경금지
G4: 시작일 | H4: 종료일
B5: 책임기술인 | D5: ='[C:\Users\user\Desktop\PQ 평가\평가실시\''25년\1106)해군 군수사 함포저장고 신축공사 등 5건(C069)\접수서류\4. 오성\2. 자기평가서(PQ)25년 VER4(C069, 오성건축).xlsx]사업개요'!D15 -> 신형신 | E5: 1
B6: 분야별 기술인 | C6: 건축 | D6: ='[C:\Users\user\Desktop\PQ 평가\평가실시\''25년\1106)해군 군수사 함포저장고 신축공사 등 5건(C069)\접수서류\4. 오성\2. 자기평가서(PQ)25년 VER4(C069, 오성건축).xlsx]사업개요'!D16 -> 김진성 | E6: 1
C7: 토목 | D7: ='[C:\Users\user\Desktop\PQ 평가\평가실시\''25년\1106)해군 군수사 함포저장고 신축공사 등 5건(C069)\접수서류\4. 오성\2. 자기평가서(PQ)25년 VER4(C069, 오성건축).xlsx]사업개요'!D17 -> 이종찬 | E7: 1
C8: 기계 | D8: ='[C:\Users\user\Desktop\PQ 평가\평가실시\''25년\1106)해군 군수사 함포저장고 신축공사 등 5건(C069)\접수서류\4. 오성\2. 자기평가서(PQ)25년 VER4(C069, 오성건축).xlsx]사업개요'!D18 -> 서강열 | E8: 1
C9: 조경 | D9: ='[C:\Users\user\Desktop\PQ 평가\평가실시\''25년\1106)해군 군수사 함포저장고 신축공사 등 5건(C069)\접수서류\4. 오성\2. 자기평가서(PQ)25년 VER4(C069, 오성건축).xlsx]사업개요'!D19 -> 0 | E9: 1
B10: 기술지원기술인 | C10: 건축 | D10: ='[C:\Users\user\Desktop\PQ 평가\평가실시\''25년\1106)해군 군수사 함포저장고 신축공사 등 5건(C069)\접수서류\4. 오성\2. 자기평가서(PQ)25년 VER4(C069, 오성건축).xlsx]사업개요'!D20 -> 윤창수 | E10: 1
E11: 2
E12: 3
E13: 4
E14: 5
E15: 6
E16: 7
E17: 8
E18: 9
C19: 토목 | D19: ='[C:\Users\user\Desktop\PQ 평가\평가실시\''25년\1106)해군 군수사 함포저장고 신축공사 등 5건(C069)\접수서류\4. 오성\2. 자기평가서(PQ)25년 VER4(C069, 오성건축).xlsx]사업개요'!D21 -> 박병희 | E19: 1
E20: 2
E21: 3
E22: 4
E23: 5
E24: 6
E25: 7
E26: 8
E27: 9
C28: 기계 | D28: ='[C:\Users\user\Desktop\PQ 평가\평가실시\''25년\1106)해군 군수사 함포저장고 신축공사 등 5건(C069)\접수서류\4. 오성\2. 자기평가서(PQ)25년 VER4(C069, 오성건축).xlsx]사업개요'!D22 -> 박광근 | E28: 1 | F28: 24-U-탄약고 2건 등 건설사업관리용역(E001) | G28: 45397 | H28: 46000 | I28: 고급 | J28: 신고
E29: 2 | F29: 신천처리구역 오수간선관로 설치공사 건설사업관리용역 | G29: 44662 | H29: 46517 | I29: 특급 | J29: 신고
E30: 3 | F30: 서천공공하수처리시설 증설사업 외 2건 통합건설사업관리용역 | G30: 45834 | H30: 46827 | I30: 특급 | J30: 신고
E31: 4 | F31: 안미지구 농어촌생활용수 개발공사 건설사업관리용역 | G31: 44694 | H31: 45899 | I31: 중급 | J31: 미신고
E32: 5
E33: 6
E34: 7
E35: 8
E36: 9
C37: 조경 | D37: ='[C:\Users\user\Desktop\PQ 평가\평가실시\''25년\1106)해군 군수사 함포저장고 신축공사 등 5건(C069)\접수서류\4. 오성\2. 자기평가서(PQ)25년 VER4(C069, 오성건축).xlsx]사업개요'!D23 -> 0 | E37: 1
E38: 2
E39: 3
E40: 4
...

Sheet 업무중복도 (5)
A1: 7. 업무중복도
B2: 구분 | D2: 기술인 성명 | E2: 현장배치현황 | L2: ※ 행을 숨기거나 삭제 및 추가 금지
E3: 연번 | F3: 현장명 | G3: 배치기간 | I3: 등급 | J3: 신고여부 | L3: ※ 건축, 토목, 기계 등 공종 순서 변경금지
G4: 시작일 | H4: 종료일
B5: 책임기술인 | D5: ='[C:\Users\user\Desktop\PQ 평가\평가실시\''25년\1106)해군 군수사 함포저장고 신축공사 등 5건(C069)\접수서류\5. 신한\25-N-00저장고 신축 등 5건 건설사업관리용역(C069).xlsx]사업개요'!D15 -> 유영구 | E5: 1 | I5: 특급
B6: 분야별 기술인 | C6: 건축 | D6: ='[C:\Users\user\Desktop\PQ 평가\평가실시\''25년\1106)해군 군수사 함포저장고 신축공사 등 5건(C069)\접수서류\5. 신한\25-N-00저장고 신축 등 5건 건설사업관리용역(C069).xlsx]사업개요'!D16 -> 김경환 | E6: 1 | I6: 중급
C7: 토목 | D7: ='[C:\Users\user\Desktop\PQ 평가\평가실시\''25년\1106)해군 군수사 함포저장고 신축공사 등 5건(C069)\접수서류\5. 신한\25-N-00저장고 신축 등 5건 건설사업관리용역(C069).xlsx]사업개요'!D17 -> 서상쾌 | E7: 1 | I7: 특급
C8: 기계 | D8: ='[C:\Users\user\Desktop\PQ 평가\평가실시\''25년\1106)해군 군수사 함포저장고 신축공사 등 5건(C069)\접수서류\5. 신한\25-N-00저장고 신축 등 5건 건설사업관리용역(C069).xlsx]사업개요'!D18 -> 김진수 | E8: 1 | I8: 특급
C9: 조경 | D9: ='[C:\Users\user\Desktop\PQ 평가\평가실시\''25년\1106)해군 군수사 함포저장고 신축공사 등 5건(C069)\접수서류\5. 신한\25-N-00저장고 신축 등 5건 건설사업관리용역(C069).xlsx]사업개요'!D19 -> 0 | E9: 1
B10: 기술지원기술인 | C10: 건축 | D10: ='[C:\Users\user\Desktop\PQ 평가\평가실시\''25년\1106)해군 군수사 함포저장고 신축공사 등 5건(C069)\접수서류\5. 신한\25-N-00저장고 신축 등 5건 건설사업관리용역(C069).xlsx]사업개요'!D20 -> 허현 | E10: 1 | F10: 23-N-격납고 신축 등 건설사업관리(C119) | G10: 45778 | H10: 45974 | I10: 특급 | J10: 미신고
E11: 2 | F11: 23-A-00부대 건설사업관리용역(A058) | G11: 45778 | H11: 45961 | I11: 특급 | J11: 신고
E12: 3 | F12: 25-A-00부대 건설사업관리용역(A008) | G12: 45778 | H12: 46039 | I12: 특급 | J12: 미신고
E13: 4 | F13: 24-N-체육관 리모델링 등 2건 건설사업관리용역(C097) | G13: 45778 | H13: 46135 | I13: 특급 | J13: 미신고
E14: 5 | F14: 24-A-00부대 건설사업관리용역(A178) | G14: 45778 | H14: 46290 | I14: 특급 | J14: 미신고
E15: 6 | F15: 25-A-00부대 건설사업관리용역(A042) | G15: 45778 | H15: 46368 | I15: 특급 | J15: 미신고
E16: 7 | F16: 25-A-00부대 건설사업관리용역(A247) | G16: 45910 | H16: 46299 | I16: 특급 | J16: 미신고
E17: 8
E18: 9
C19: 토목 | D19: ='[C:\Users\user\Desktop\PQ 평가\평가실시\''25년\1106)해군 군수사 함포저장고 신축공사 등 5건(C069)\접수서류\5. 신한\25-N-00저장고 신축 등 5건 건설사업관리용역(C069).xlsx]사업개요'!D21 -> 류재구 | E19: 1 | F19: 화천군 자연재해저감종합계획 재수립 용역 | G19: 44284 | H19: 45850 | I19: 특급 | J19: 미신고
E20: 2 | F20: 포남2처리분구 하수관로 정비사업 외 2개소 통합건설사업관리용역 | G20: 45090 | H20: 46271 | I20: 특급 | J20: 신고
E21: 3 | F21: 청정고원 스포츠센터(고원3체육관) 건립공사 건설사업관리용역 | G21: 45768 | H21: 46397 | I21: 특급 | J21: 미신고
E22: 4 | F22: 25-A-00부대 건설사업관리용역(A247) | G22: 45910 | H22: 46299 | I22: 특급 | J22: 미신고
E23: 5
E24: 6
E25: 7
E26: 8
E27: 9
C28: 기계 | D28: ='[C:\Users\user\Desktop\PQ 평가\평가실시\''25년\1106)해군 군수사 함포저장고 신축공사 등 5건(C069)\접수서류\5. 신한\25-N-00저장고 신축 등 5건 건설사업관리용역(C069).xlsx]사업개요'!D22 -> 배명환 | E28: 1 | F28: 23-N-격납고 신축 등 건설사업관리(C119) | G28: 45668 | H28: 45974 | I28: 특급 | J28: 미신고
E29: 2 | F29: 25-A-00부대 건설사업관리용역(A008) | G29: 45740 | H29: 46039 | I29: 특급 | J29: 미신고
E30: 3 | F30: 25-A-00부대 건설사업관리용역(A027) | G30: 45743 | H30: 46042 | I30: 특급 | J30: 신고
E31: 4 | F31: 25-A-00부대 건설사업관리용역(A042) | G31: 45769 | H31: 46368 | I31: 특급 | J31: 미신고
E32: 5 | F32: 25-A-00부대 건설사업관리용역(A247) | G32: 45910 | H32: 46299 | I32: 특급 | J32: 미신고
E33: 6
E34: 7
E35: 8
E36: 9
C37: 조경 | D37: ='[C:\Users\user\Desktop\PQ 평가\평가실시\''25년\1106)해군 군수사 함포저장고 신축공사 등 5건(C069)\접수서류\5. 신한\25-N-00저장고 신축 등 5건 건설사업관리용역(C069).xlsx]사업개요'!D23 -> 0 | E37: 1
E38: 2
E39: 3
E40: 4
...

Sheet 업무중복도 (6)
A1: 7. 업무중복도
B2: 구분 | D2: 기술인 성명 | E2: 현장배치현황 | L2: ※ 행을 숨기거나 삭제 및 추가 금지
E3: 연번 | F3: 현장명 | G3: 배치기간 | I3: 등급 | J3: 신고여부 | L3: ※ 건축, 토목, 기계 등 공종 순서 변경금지
G4: 시작일 | H4: 종료일
B5: 책임기술인 | D5: ='[C:\Users\user\Desktop\PQ 평가\평가실시\''25년\1106)해군 군수사 함포저장고 신축공사 등 5건(C069)\접수서류\6. 나로\자기평가서(PQ)25년 VER4(C069, (주)나로이엔씨).xlsx]사업개요'!D15 -> 김홍수 | E5: 1
B6: 분야별 기술인 | C6: 건축 | D6: ='[C:\Users\user\Desktop\PQ 평가\평가실시\''25년\1106)해군 군수사 함포저장고 신축공사 등 5건(C069)\접수서류\6. 나로\자기평가서(PQ)25년 VER4(C069, (주)나로이엔씨).xlsx]사업개요'!D16 -> 박명환 | E6: 1
C7: 토목 | D7: ='[C:\Users\user\Desktop\PQ 평가\평가실시\''25년\1106)해군 군수사 함포저장고 신축공사 등 5건(C069)\접수서류\6. 나로\자기평가서(PQ)25년 VER4(C069, (주)나로이엔씨).xlsx]사업개요'!D17 -> 김학래 | E7: 1
C8: 기계 | D8: ='[C:\Users\user\Desktop\PQ 평가\평가실시\''25년\1106)해군 군수사 함포저장고 신축공사 등 5건(C069)\접수서류\6. 나로\자기평가서(PQ)25년 VER4(C069, (주)나로이엔씨).xlsx]사업개요'!D18 -> 나병길 | E8: 1
C9: 조경 | D9: ='[C:\Users\user\Desktop\PQ 평가\평가실시\''25년\1106)해군 군수사 함포저장고 신축공사 등 5건(C069)\접수서류\6. 나로\자기평가서(PQ)25년 VER4(C069, (주)나로이엔씨).xlsx]사업개요'!D19 -> 0 | E9: 1
B10: 기술지원기술인 | C10: 건축 | D10: ='[C:\Users\user\Desktop\PQ 평가\평가실시\''25년\1106)해군 군수사 함포저장고 신축공사 등 5건(C069)\접수서류\6. 나로\자기평가서(PQ)25년 VER4(C069, (주)나로이엔씨).xlsx]사업개요'!D20 -> 남상환 | E10: 1 | F10: 24-A-00부대 건설사업관리용역(A169) | G10: 45526 | H10: 46043 | I10: 특급 | J10: 신고
E11: 2 | F11: 24-A-00부대 건설사업관리용역(A269) | G11: 45712 | H11: 46054 | I11: 특급 | J11: 신고
E12: 3 | F12: 광운대역 물류부지 개발사업 | G12: 45604 | H12: 46972 | I12: 특급 | J12: 신고
E13: 4 | F13: 장미연립 소규모재건축사업 아파트 신축공사 | G13: 45663 | H13: 46387 | I13: 특급 | J13: 신고
E14: 5
E15: 6
E16: 7
E17: 8
E18: 9
C19: 토목 | D19: ='[C:\Users\user\Desktop\PQ 평가\평가실시\''25년\1106)해군 군수사 함포저장고 신축공사 등 5건(C069)\접수서류\6. 나로\자기평가서(PQ)25년 VER4(C069, (주)나로이엔씨).xlsx]사업개요'!D21 -> 김인환 | E19: 1 | F19: 인제서화 아파트 건설공사 1공구 시공단계 감독권한대행 등 건설사업관리용역 | G19: 45588 | H19: 45939 | I19: 특급 | J19: 신고
E20: 2 | F20: 24-A-00부대 건설사업관리용역(A169) | G20: 45526 | H20: 46043 | I20: 특급 | J20: 신고
E21: 3 | F21: 25-A-00부대 건설사업관리용역(A269) | G21: 45712 | H21: 46054 | I21: 특급 | J21: 신고
E22: 4
E23: 5
E24: 6
E25: 7
E26: 8
E27: 9
C28: 기계 | D28: ='[C:\Users\user\Desktop\PQ 평가\평가실시\''25년\1106)해군 군수사 함포저장고 신축공사 등 5건(C069)\접수서류\6. 나로\자기평가서(PQ)25년 VER4(C069, (주)나로이엔씨).xlsx]사업개요'!D22 -> 박종수 | E28: 1 | F28: 24-A-00부대 건설사업관리용역(A169) | G28: 45526 | H28: 46043 | I28: 특급 | J28: 신고
E29: 2 | F29: 24-A-00부대 건설사업관리용역(A269) | G29: 45712 | H29: 46054 | I29: 특급 | J29: 신고
E30: 3
E31: 4
E32: 5
E33: 6
E34: 7
E35: 8
E36: 9
C37: 조경 | D37: ='[C:\Users\user\Desktop\PQ 평가\평가실시\''25년\1106)해군 군수사 함포저장고 신축공사 등 5건(C069)\접수서류\6. 나로\자기평가서(PQ)25년 VER4(C069, (주)나로이엔씨).xlsx]사업개요'!D23 -> 0 | E37: 1
E38: 2
E39: 3
E40: 4
...

Sheet 업무중복도 (7)
A1: 7. 업무중복도
B2: 구분 | D2: 기술인 성명 | E2: 현장배치현황 | L2: ※ 행을 숨기거나 삭제 및 추가 금지
E3: 연번 | F3: 현장명 | G3: 배치기간 | I3: 등급 | J3: 신고여부 | L3: ※ 건축, 토목, 기계 등 공종 순서 변경금지
G4: 시작일 | H4: 종료일
B5: 책임기술인 | D5: ='[C:\Users\user\Desktop\PQ 평가\평가실시\''25년\1106)해군 군수사 함포저장고 신축공사 등 5건(C069)\접수서류\7. 도심\자기평가서(PQ)25년 VER4(C069, 도심)(0827)-251029.xlsx]사업개요'!D15 -> 전상수 | E5: 1
B6: 분야별 기술인 | C6: 건축 | D6: ='[C:\Users\user\Desktop\PQ 평가\평가실시\''25년\1106)해군 군수사 함포저장고 신축공사 등 5건(C069)\접수서류\7. 도심\자기평가서(PQ)25년 VER4(C069, 도심)(0827)-251029.xlsx]사업개요'!D16 -> 김경동 | E6: 1
C7: 토목 | D7: ='[C:\Users\user\Desktop\PQ 평가\평가실시\''25년\1106)해군 군수사 함포저장고 신축공사 등 5건(C069)\접수서류\7. 도심\자기평가서(PQ)25년 VER4(C069, 도심)(0827)-251029.xlsx]사업개요'!D17 -> 김혁 | E7: 1
C8: 기계 | D8: ='[C:\Users\user\Desktop\PQ 평가\평가실시\''25년\1106)해군 군수사 함포저장고 신축공사 등 5건(C069)\접수서류\7. 도심\자기평가서(PQ)25년 VER4(C069, 도심)(0827)-251029.xlsx]사업개요'!D18 -> 안종하 | E8: 1
C9: 조경 | D9: ='[C:\Users\user\Desktop\PQ 평가\평가실시\''25년\1106)해군 군수사 함포저장고 신축공사 등 5건(C069)\접수서류\7. 도심\자기평가서(PQ)25년 VER4(C069, 도심)(0827)-251029.xlsx]사업개요'!D19 -> 0 | E9: 1
B10: 기술지원기술인 | C10: 건축 | D10: ='[C:\Users\user\Desktop\PQ 평가\평가실시\''25년\1106)해군 군수사 함포저장고 신축공사 등 5건(C069)\접수서류\7. 도심\자기평가서(PQ)25년 VER4(C069, 도심)(0827)-251029.xlsx]사업개요'!D20 -> 신동화 | E10: 1 | F10: 25-A-00부대 건설사업관리용역(A270) | G10: 45930 | H10: 46499 | I10: 고급 | J10: 미신고
E11: 2
E12: 3
E13: 4
E14: 5
E15: 6
E16: 7
E17: 8
E18: 9
C19: 토목 | D19: ='[C:\Users\user\Desktop\PQ 평가\평가실시\''25년\1106)해군 군수사 함포저장고 신축공사 등 5건(C069)\접수서류\7. 도심\자기평가서(PQ)25년 VER4(C069, 도심)(0827)-251029.xlsx]사업개요'!D21 -> 김정근 | E19: 1 | F19: 23-A-00부대 건설사업관리용역(A078) | G19: 45061 | H19: 45928 | I19: 특급 | J19: 신고
E20: 2 | F20: 24-F-내진보강공사 등 2건 건설사업관리(D029) | G20: 45523 | H20: 46130 | I20: 특급 | J20: 신고
E21: 3 | F21: 24-A-00부대 건설사업관리용역(A196) | G21: 45565 | H21: 45959 | I21: 특급 | J21: 신고
E22: 4 | F22: 24-N-전투모의센터 등 2건 건설사업관리 용역(C055) | G22: 45539 | H22: 46108 | I22: 특급 | J22: 신고
E23: 5 | F23: 24-F-초급부사관 숙소 신축 건설사업 관리용역(D082) | G23: 45689 | H23: 46192 | I23: 특급 | J23: 신고
E24: 6 | F24: 24-A-00부대 건설사업관리용역 (A132) | G24: 45470 | H24: 46229 | I24: 특급 | J24: 미신고
E25: 7 | F25: 24-A-00부대 건설사업관리용역(A229) | G25: 45572 | H25: 46059 | I25: 특급 | J25: 미신고
E26: 8
E27: 9
C28: 기계 | D28: ='[C:\Users\user\Desktop\PQ 평가\평가실시\''25년\1106)해군 군수사 함포저장고 신축공사 등 5건(C069)\접수서류\7. 도심\자기평가서(PQ)25년 VER4(C069, 도심)(0827)-251029.xlsx]사업개요'!D22 -> 박찬규 | E28: 1 | F28: 23-A-00부대 건설사업관리용역(A078) | G28: 45061 | H28: 45928 | I28: 특급 | J28: 신고
E29: 2 | F29: 23-A-00부대 건설사업관리용역(A102) | G29: 45103 | H29: 46031 | I29: 특급 | J29: 신고
E30: 3 | F30: 23-M-노후 생활관 신축 건설사업관리 C102 | G30: 45265 | H30: 45901 | I30: 특급 | J30: 신고
E31: 4
E32: 5
E33: 6
E34: 7
E35: 8
E36: 9
C37: 조경 | D37: ='[C:\Users\user\Desktop\PQ 평가\평가실시\''25년\1106)해군 군수사 함포저장고 신축공사 등 5건(C069)\접수서류\7. 도심\자기평가서(PQ)25년 VER4(C069, 도심)(0827)-251029.xlsx]사업개요'!D23 -> 0 | E37: 1
E38: 2
E39: 3
E40: 4
...
