Workbook
Name [001]수질오염방지시설: #REF!
Name [001]정비고: #REF!
Name [001]취사식당: #REF!
Name [001]행정시설: #REF!
Name [002]종교시설: #REF!
Name [002]창고: #REF!
Name [002]토양오염방지시설: #REF!
Name [003]관사: #REF!
Name [003]육군병영생활관: #REF!
Name [003]탄약고: #REF!
Name [004]간부숙소: #REF!
Name [004]급수시설: #REF!
Name [004]기타환경시설: #REF!
Name [004]복지시설: #REF!
Name [005]GOP소초병영생활관: #REF!
Name [005]기타정비보급시설: #REF!
Name [005]부대개편간부주거시설: #REF!
Name [006]경계시설: #REF!
Name [006]교육생생활관: #REF!
Name [006]전세대부이자지원: #REF!
Name [007]간부교육생숙소: #REF!
Name [007]급유시설: #REF!
Name [007]작전시설: #REF!
Name [008]총사업비관리대상사업: #REF!
Name [008]토목시설: #REF!
Name [009]전기시설: #REF!
Name [012]시설관리_민간인력_활용: #REF!
Name [014]소규모보수: #REF!
Name [015]대보수: #REF!
Name [018]총사업비관리대상사업: #REF!
Name [2531]병영기본시설: #REF!
Name [2532]간부주거시설: #REF!
Name [2533]일반시설개선: #REF!
Name [2536]시설유지운영: #REF!
Name [301]관사및간부숙소: #REF!
Name [301]병영생활관: #REF!
Name [301]시설유지관리: #REF!
Name [301]환경보전시설: #REF!
Name [302]공공요금: #REF!
Name [302]정비_및_보급시설: #REF!
Name [303]일반지원시설: #REF!
Name [304]병영생활관부속시설: #REF!
Name [320]시설정책지원: #REF!
Name [751]BTL정부지급금: #REF!
Name _155mm교체시설: #REF!
Name _777사령부작전및행정시설신축: #REF!
Name BTL정부지급금: #REF!
Name d: '[1]Sheet2 '!$AA$3:$AA$4
Name GOP소초생활관: #REF!
Name 간부숙소: #REF!
Name 간부주거시설: #REF!
Name 경계시설: #REF!
Name 경계시설3: #REF!
Name 경계초소: #REF!
Name 공군활주로재포장: #REF!
Name 공동주택2: #REF!
Name 관사: #REF!
Name 관사및간부숙소: #REF!
Name 관사및간부숙소2: #REF!
Name 교육생생활관: #REF!

Sheet 경기북부시설단(인터넷 공개) 수정
A1: 작업연번 | B1: 작업연번 | C1: 작업연번 | D1: 작업연번 | E1: 작업연번 | F1: 구 분 | G1: 프로그램 | H1: 단위사업 | I1: 구분 | J1: 사 업 명 | K1: 사업위치 | L1: 용역발주 예정시기 | M1: 시설비(천원) | N1: 편성용역비(천원) | O1: 비고
F2: 2500 | I2: 1 | J2: 0군단 0포병여단 0포병단 000포병대대 일반차량차양대 신축 등 3건 | K2: 파주 | L2: 7월 4주차 | M2: 3884374 | N2: 416794 | P2: 예산 추가 배정 필요
I3: 2 | J3: 0군단 00성당 피해복구 등 3건 | K3: 포천 | L3: 8월 4주차 | M3: 6827883 | N3: 732632 | P3: 번들 설계시기 고려 변경소요 있음
F4: 2500 | I4: 3 | J4: 0군단 00사단 00-0대대 3소초 취사식당 철거 후 신축 등 2건 | K4: 연천 | L4: 7월 4주차 | M4: 6037171 | N4: 647788
I5: 4 | J5: 0사단 공병, 수색, 헌병,정보(-1), 화생방대대 부대개편 등 2건 | K5: 철원 | L5: 8월 4주차 | M5: 21961000 | N5: 843000
I6: 5 | J6: 0사단 00연대 교하중.소초병영생활관 신축 등 2건 | K6: 파주 | L6: 9월 4주차 | M6: 7859225 | N6: 445257
I7: 6 | J7: 0군단 0포병여단 0포병단 000대대 사격지휘장갑차 유개호 등 2건 | K7: 연천 | L7: 8월 4주차 | M7: 4960152 | N7: 532225
I8: 7 | J8: 0군단 0사단 00-0대대 00소초 병영생활관 신축 등 3건 | K8: 철원 | L8: 8월 4주차 | M8: 18032182 | N8: 1934852
I9: 8 | J9: 0군단 0기갑여단 000포병대대 이글루탄약고 신축 등 2건 | K9: 연천 | L9: 8월 1주차 | M9: 6616891 | N9: 709992
F10: 2500 | I10: 9 | J10: 0군단 0공병여단 000공병대대 병영생활관 신축 등 2건 | K10: 철원 | L10: 8월 1주차 | M10: 24728119 | N10: 1662689
I11: 10 | J11: 0군단 0군지여단 00정비대대 정비고 철거 후 신축(장비전환) | K11: 고양 | L11: 8월 4주차 | M11: 13246457 | N11: 1310075
I12: 11 | J12: 0군단 0사단 00여단 종교시설(법당) 철거 후 신축 등 3건 | K12: 포천 | L12: 8월 4주차 | M12: 16801969 | N12: 1802851
F13: 2500 | I13: 12 | J13: 0전사 00사단 간부숙소 신축 79실 | K13: 가평 | L13: 10월 4주차 | M13: 12848235 | N13: 1252183
F14: 2500 | I14: 13 | J14: 0사단 00여단 실내사격훈련장 신축 등 3건 | K14: 파주 | L14: 6월 4주차 | M14: 15374720 | N14: 1649708
I15: 14 | J15: 0군단 00사단 00-0대대 0소초 병영생활관 철거 후 신축 등 2건 | K15: 연천 | L15: 10월 1주차 | M15: 8587007 | N15: 927097
I16: 15 | J16: 0군단 0사단 00-0대대 00소초 병영생활관 신축 등 2건 | K16: 연천,철원 | L16: 10월 1주차 | M16: 9993374 | N16: 1072289
I17: 16 | J17: 0군단 0사단 사령부 간부목욕탕 신축 등 2건 | K17: 양주 | L17: 10월 1주차 | M17: 10299847 | N17: 1105174
F18: 2500 | I18: 17 | J18: 0군단 0포병여단 0000-0사격대 병영생활관 증개축 등 4건 | K18: 포천 | L18: 10월 3주차 | M18: 18369669 | N18: 1971065
I19: 18 | J19: 0군단 0기갑여단 본부 실내체육관 신축 등 2건 | K19: 양주 | L19: 10월 4주차 | M19: 13945481 | N19: 1496351
F20: 2500 | I20: 19 | J20: 0군단 0군지여단 000수송대대 특수차량 통합정비고(신축) 등 2건 | K20: 포천 | L20: 10월 4주차 | M20: 13321714 | N20: 1429420
F21: 2500 | I21: 20 | J21: 0군단 0군지여단 00정비대대 취사식당 철거 후 신축 | K21: 고양 | L21: 10월 4주차 | M21: 5133659 | N21: 550842
F22: 2400 | I22: 21 | J22: 0군단 00사단 직할대 방공중대 0월리 방공진지 병영생활관 신축 등 2건 | K22: 파주 | L22: 11월 1주차 | M22: 13034514 | N22: 1398604
F23: 2500 | I23: 22 | J23: 0군단 실내사격장 신축 등 2건 | K23: 파주 | L23: 11월 2주차 | M23: 13472851 | N23: 1445638
I24: 23 | J24: 0군단 00방공단 000대대 봉서산진지 오수처리 시설 신축 등 3건 | K24: 파주 | L24: 11월 2주차 | M24: 7893730 | N24: 846999
I25: 24 | J25: 0군단 0군지여단 직할 00탄약대대 000중대 일반차량정비고 철거 후 신축 등 4건 | K25: 포천,가평 | L25: 11월 3주차 | M25: 10207401 | N25: 1095254
F26: 2500 | I26: 25 | J26: 0군단 0포병여단 000포병대대 실내전투체육관 시범사업 등 2건 | K26: 파주 | L26: 11월 3주차 | M26: 23237474 | N26: 1913433
F27: 2500 | I27: 26 | J27: 0작사 화력여단 000대대 0,0포대 병영생활관 증개수 등 2건 | K27: 파주, 양주 | L27: 11월 3주차 | M27: 16009679 | N27: 1696255
I28: 27 | J28: 0군단 0사단 0,0여단 GOP대대 통합 급수신축 | K28: 양주 | L28: 11월 4주차 | M28: 8657519 | N28: 928952
I29: 28 | J29: 0군단 00항공단 000항공대대 저유고 및 판토그라프 신축 | K29: 남양주시 | L29: 12월 1주차 | M29: 4068230 | N29: 501748 | P29: 27년 이월 가능성 有
F30: 2500 | I30: 29 | J30: 0사단 00여단 실내사격장 신축 등 2건 | K30: 포천,철원 | L30: 12월 1주차 | M30: 6718335 | N30: 769522 | P30: 27년 이월 가능성 有
F31: 2500 | I31: 30 | J31: 0군단 0사단 00여단 본부 실내전투체육관 시범사업 등 2건 | K31: 연천,철원 | L31: 12월 2주차 | M31: 18564227 | N31: 1991942 | P31: 27년 이월 가능성 有
F32: 2500 | I32: 31 | J32: 0군단 00방공단 000방공대대 실내체육관 시범사업 등 2건 | K32: 포천,철원 | L32: 12월 2주차 | M32: 11235701 | N32: 995042 | P32: 27년 이월 가능성 有
F33: 2500 | I33: 32 | J33: 0군단 0사단 전차대대 병영생활관 신축 등 2건 | K33: 고양,파주 | L33: 12월 2주차 | M33: 17151961 | N33: 1770882 | P33: 27년 이월 가능성 有
I34: 33 | J34: 0사단 00여단 실내사격 훈련장 신축 등 2건 | K34: 파주시 | L34: 12월 2주차 | M34: 94330248 | N34: 995607 | P34: 27년 이월 가능성 有
I35: 34 | J35: 0기갑여단 차단벽구조 사격장 신축 | K35: 파주시 | L35: 12월 2주차 | M35: 8555410 | N35: 917996 | P35: 27년 이월 가능성 有
I36: 35 | J36: 0군단 0군지여단 00탄약대대 탄약정비공장 철거 후 신축 | K36: 고양시 | L36: 12월 2주차 | M36: 7581549 | N36: 813500 | P36: 27년 이월 가능성 有
I37: 36 | J37: 0사단 신병교육대대 차단벽구조 사격장 신축 등 2건 | K37: 파주시 | L37: 12월 3주차 | M37: 13696152 | N37: 1469598 | P37: 27년 이월 가능성 有
I38: 37 | J38: 0기갑 전차/기보중대 전술훈련장 시설보강 | K38: 포천시 | L38: 12월 1주차 | M38: 5479577 | N38: 587959 | P38: 27년 이월 가능성 有
I39: 38 | J39: 0군단 0기갑여단 간부숙소 신축 | K39: 파주시 | L39: 12월 3주차 | M39: 26829557 | N39: 1961241 | P39: 27년 이월 가능성 有
I40: 39 | J40: 0군단 0사단 포병여단 본부직할 육군병영생활관 신축 | K40: 양주시 | L40: 12월 3주차 | M40: 5703693 | N40: 612006 | P40: 27년 이월 가능성 有
I41: 40 | J41: 0기동사단 000기보대대 K21보병전투차량 시설사업 등 2건 | K41: 포천시 | L41: 12월 4주차 | M41: 24471594 | N41: 1354372 | P41: 27년 이월 가능성 有 | R41: 추가예산 확보 필요
F42: 2500 | I42: 41 | J42: 0사단 00여단 0·0대대, 군수지원대대, 포병대 부대개편 | K42: 철원군 | L42: 12월 4주차 | M42: 22164000 | N42: 849000 | P42: 27년 이월 가능성 有
F43: 2500 | I43: 42 | J43: 000특공연대 차단벽 구조 사격장 신축(신병교육대대) | K43: 파주시 | L43: 12월 4주차 | M43: 8555410 | N43: 917996 | P43: 27년 이월 가능성 有
F44: 2500 | I44: 43 | J44: 00사단 관사 리모델링 30세대 | K44: 고양시 | L44: 12월 4주차 | M44: 7900920 | N44: 847769 | P44: 27년 이월 가능성 有
I45: ※ 대관협의 지연, 설계 시기 조정 및 예산 확보 등의 사유로 발주시기 변동 소요 있음

Sheet 25년 건설사업관리용역 평가계획 목록(총괄)
B2: '25년도 건설사업관리용역 대상사업/묶음 건수
B3: 구분 | C3: 대상사업(건) | D3: 사업묶음(건) | E3: 비고
B4: 육군사업관리과 | C4: ='[2]''25년도 건설사업관리용역 사업,묶음 건수 목록'!B5 -> #REF! | D4: ='[2]''25년도 건설사업관리용역 사업,묶음 건수 목록'!C5 -> #REF!
B5: 육군사업관리과 + 설계과 | C5: ='[2]''25년도 건설사업관리용역 사업,묶음 건수 목록'!B6 -> #REF! | D5: ='[2]''25년도 건설사업관리용역 사업,묶음 건수 목록'!C6 -> #REF!
B6: 설계과 | C6: ='[2]''25년도 건설사업관리용역 사업,묶음 건수 목록'!B7 -> #REF! | D6: ='[2]''25년도 건설사업관리용역 사업,묶음 건수 목록'!C7 -> #REF!
B7: 묶음제한 | C7: ='[2]''25년도 건설사업관리용역 사업,묶음 건수 목록'!B8 -> #REF! | D7: ='[2]''25년도 건설사업관리용역 사업,묶음 건수 목록'!C8 -> #REF! | E7: 26년발주,설계제한,사업취소,사업방식 변경
B8: 합계 | C8: ='[2]''25년도 건설사업관리용역 사업,묶음 건수 목록'!B9 -> #REF! | D8: ='[2]''25년도 건설사업관리용역 사업,묶음 건수 목록'!C9 -> #REF!
B12: '25년도 건설사업관리용역 평가 계획
B13: 구분 | D13: 사업묶음(건) | E13: 비고
B14: 본부평가 | D14: ='25년 건설사업관리용역 평가계획 목록'!D5 -> #REF!
B15: 단평가 | C15: 육군사업관리과 | D15: ='25년 건설사업관리용역 평가계획 목록'!D6 -> #REF!
C16: 육군사업관리과 + 설계과 | D16: ='25년 건설사업관리용역 평가계획 목록'!D7 -> #REF!
C17: 설계과 | D17: ='25년 건설사업관리용역 평가계획 목록'!D8 -> #REF!
B18: 소계 | D18: ='25년 건설사업관리용역 평가계획 목록'!D9 -> #REF!
B19: 발주 대기(예비) | D19: ='25년 건설사업관리용역 평가계획 목록'!D10 -> #REF! | E19: 5억원 미만 사업
B20: 합계 | D20: ='25년 건설사업관리용역 평가계획 목록'!D11 -> #REF!
B22: * 발주대기(예비)는 5억원 미만으로 유찰이 예상되는바 공사발주시기 고려하여 재번들링 or 사업관리방식 변경(상주감리 등)

Sheet 25년 건설사업관리용역 평가계획 목록
B3: '25년도 건설사업관리용역 평가 계획
B4: 구분 | D4: 사업묶음(건) | E4: 비고
B5: 본부평가 | D5: =#REF! -> #REF!
B6: 단평가 | C6: 육군사업관리과 | D6: =#REF!-#REF!-#REF! -> #REF!
C7: 육군사업관리과 + 설계과 | D7: =#REF!-#REF! -> #REF!
C8: 설계과 | D8: =#REF!-#REF! -> #REF!
B9: 소계 | D9: =SUM(D5:D8) -> #REF!
B10: 발주 대기(예비) | D10: =#REF! -> #REF! | E10: 5억원 미만 사업
B11: 합계 | D11: =SUM(D5:D8)+D10 -> #REF!

Sheet 육군사업관리과
A1: 작업연번 | B1: 작업연번 | C1: 작업연번 | D1: 작업연번 | E1: 작업연번 | F1: 구 분 | G1: 프로그램 | H1: 단위사업 | I1: 설계 | J1: 시공 | K1: 총사업비 관리대상 | L1: 사업명 | M1: 사업위치 | N1: 공사발주 예정시기 | O1: 시설비(420-03) | S1: 편성용역비(420-04) | X1: 사업묶음 | Y1: 감리발주 구분 | Z1: 산출용역비(420-04) | AD1: 산출 용역비 적용요율(%) | AE1: 부족예산(420-04) | AI1: 적정용역비
A2: 3차+소액 | B2: 2차 심의 | C2: 1차 심의 | D2: 사업국 검토 | E2: 군요구 | O2: 계 | P2: 24년 이전 | Q2: 25년 | R2: 26년 이후 | S2: 계 | T2: 24년 | U2: 25년 | V2: 26년 이후 | W2: 용역비 비율(%) | Z2: 계 | AA2: 24년 | AB2: 25년 | AC2: 26년 이후 | AE2: 계 | AF2: 25년 | AG2: 26년 이후 | AH2: 담당자
A3: 2 | B3: 2 | C3: 2 | D3: 21 | E3: 10021
A4: 3 | B4: 3 | C4: 3 | D4: 23 | E4: 10023
A5: 3 | B5: 3 | C5: 3 | D5: 23 | E5: 10023
A6: 4 | B6: 4 | C6: 4 | D6: 30 | E6: 10030
A7: 5 | B7: 5 | C7: 5 | D7: 31 | E7: 10031
A8: 442 | B8: 442 | C8: 441 | D8: 추가 | E8: 추가
A9: 3 | B9: 3 | C9: 3 | D9: 23 | E9: 10023
A10: 4 | B10: 4 | C10: 4 | D10: 30 | E10: 10030
A11: 5 | B11: 5 | C11: 5 | D11: 31 | E11: 10031
A12: 442 | B12: 442 | C12: 441 | D12: 추가 | E12: 추가
A13: 475 | B13: 474 | C13: 475 | D13: 474 | E13: 10192
A14: 848 | B14: 811 | C14: 799 | D14: 749 | E14: 10307
A15: 2913 | B15: 2875 | C15: 2860 | D15: 추가 | E15: 추가
A16: 2914 | B16: 2876 | C16: 2861 | D16: 추가 | E16: 추가
A17: 2916 | B17: 2878 | C17: 2863 | D17: 추가 | E17: 추가
A18: 추가 | B18: 추가
A19: 4004 | B19: 3877 | C19: 3934 | D19: 추가 | E19: 추가
A20: 4005 | B20: 3878 | C20: 3935 | D20: 추가 | E20: 추가
A21: 4021 | B21: 3900 | C21: 3957 | D21: 3872 | E21: 1435
A22: 2 | B22: 2 | C22: 2 | D22: 21 | E22: 10021
A23: 3 | B23: 3 | C23: 3 | D23: 23 | E23: 10023
A24: 4 | B24: 4 | C24: 4 | D24: 30 | E24: 10030
A25: 5 | B25: 5 | C25: 5 | D25: 31 | E25: 10031
A26: 442 | B26: 442 | C26: 441 | D26: 추가 | E26: 추가
A27: 475 | B27: 474 | C27: 475 | D27: 474 | E27: 10192
A28: 848 | B28: 811 | C28: 799 | D28: 749 | E28: 10307
A29: 2913 | B29: 2875 | C29: 2860 | D29: 추가 | E29: 추가
A30: 2914 | B30: 2876 | C30: 2861 | D30: 추가 | E30: 추가
A31: 2916 | B31: 2878 | C31: 2863 | D31: 추가 | E31: 추가
A32: 추가 | B32: 추가
A33: 4004 | B33: 3877 | C33: 3934 | D33: 추가 | E33: 추가
A34: 4005 | B34: 3878 | C34: 3935 | D34: 추가 | E34: 추가
A35: 4021 | B35: 3900 | C35: 3957 | D35: 3872 | E35: 1435
A36: 2 | B36: 2 | C36: 2 | D36: 21 | E36: 10021
A37: 3 | B37: 3 | C37: 3 | D37: 23 | E37: 10023
A38: 4 | B38: 4 | C38: 4 | D38: 30 | E38: 10030
A39: 5 | B39: 5 | C39: 5 | D39: 31 | E39: 10031
A40: 442 | B40: 442 | C40: 441 | D40: 추가 | E40: 추가
A41: 475 | B41: 474 | C41: 475 | D41: 474 | E41: 10192
A42: 848 | B42: 811 | C42: 799 | D42: 749 | E42: 10307
A43: 2913 | B43: 2875 | C43: 2860 | D43: 추가 | E43: 추가
A44: 2914 | B44: 2876 | C44: 2861 | D44: 추가 | E44: 추가
A45: 2916 | B45: 2878 | C45: 2863 | D45: 추가 | E45: 추가
A46: 추가 | B46: 추가
A47: 4004 | B47: 3877 | C47: 3934 | D47: 추가 | E47: 추가
A48: 4005 | B48: 3878 | C48: 3935 | D48: 추가 | E48: 추가
A49: 4021 | B49: 3900 | C49: 3957 | D49: 3872 | E49: 1435
A50: 2 | B50: 2 | C50: 2 | D50: 21 | E50: 10021
A51: 3 | B51: 3 | C51: 3 | D51: 23 | E51: 10023
A52: 4 | B52: 4 | C52: 4 | D52: 30 | E52: 10030
A53: 5 | B53: 5 | C53: 5 | D53: 31 | E53: 10031
A54: 442 | B54: 442 | C54: 441 | D54: 추가 | E54: 추가
A55: 475 | B55: 474 | C55: 475 | D55: 474 | E55: 10192
A56: 848 | B56: 811 | C56: 799 | D56: 749 | E56: 10307
A57: 2913 | B57: 2875 | C57: 2860 | D57: 추가 | E57: 추가
A58: 2914 | B58: 2876 | C58: 2861 | D58: 추가 | E58: 추가
A59: 2916 | B59: 2878 | C59: 2863 | D59: 추가 | E59: 추가
A60: 추가 | B60: 추가
A61: 2916 | B61: 2878 | C61: 2863 | D61: 추가 | E61: 추가
A62: 추가 | B62: 추가
A63: 4004 | B63: 3877 | C63: 3934 | D63: 추가 | E63: 추가
A64: 4005 | B64: 3878 | C64: 3935 | D64: 추가 | E64: 추가
A65: 4021 | B65: 3900 | C65: 3957 | D65: 3872 | E65: 1435
A66: 2 | B66: 2 | C66: 2 | D66: 21 | E66: 10021
A67: 3 | B67: 3 | C67: 3 | D67: 23 | E67: 10023
A68: 4 | B68: 4 | C68: 4 | D68: 30 | E68: 10030
A69: 5 | B69: 5 | C69: 5 | D69: 31 | E69: 10031
A70: 442 | B70: 442 | C70: 441 | D70: 추가 | E70: 추가
A71: 475 | B71: 474 | C71: 475 | D71: 474 | E71: 10192
A72: 848 | B72: 811 | C72: 799 | D72: 749 | E72: 10307
A73: 2913 | B73: 2875 | C73: 2860 | D73: 추가 | E73: 추가
A74: 2914 | B74: 2876 | C74: 2861 | D74: 추가 | E74: 추가
A75: 2916 | B75: 2878 | C75: 2863 | D75: 추가 | E75: 추가
A76: 추가 | B76: 추가
A77: 4004 | B77: 3877 | C77: 3934 | D77: 추가 | E77: 추가
A78: 4005 | B78: 3878 | C78: 3935 | D78: 추가 | E78: 추가
A79: 4021 | B79: 3900 | C79: 3957 | D79: 3872 | E79: 1435
A80: 2 | B80: 2 | C80: 2 | D80: 21 | E80: 10021
A81: 3 | B81: 3 | C81: 3 | D81: 23 | E81: 10023
A82: 4 | B82: 4 | C82: 4 | D82: 30 | E82: 10030
A83: 5 | B83: 5 | C83: 5 | D83: 31 | E83: 10031
A84: 442 | B84: 442 | C84: 441 | D84: 추가 | E84: 추가
A85: 475 | B85: 474 | C85: 475 | D85: 474 | E85: 10192
A86: 848 | B86: 811 | C86: 799 | D86: 749 | E86: 10307
A87: 2913 | B87: 2875 | C87: 2860 | D87: 추가 | E87: 추가
A88: 2914 | B88: 2876 | C88: 2861 | D88: 추가 | E88: 추가
A89: 2916 | B89: 2878 | C89: 2863 | D89: 추가 | E89: 추가
A90: 추가 | B90: 추가
A91: 4004 | B91: 3877 | C91: 3934 | D91: 추가 | E91: 추가
A92: 4005 | B92: 3878 | C92: 3935 | D92: 추가 | E92: 추가
A93: 4021 | B93: 3900 | C93: 3957 | D93: 3872 | E93: 1435
A94: 4021 | B94: 3900 | C94: 3957 | D94: 3872 | E94: 1435
A95: 2 | B95: 2 | C95: 2 | D95: 21 | E95: 10021
A96: 3 | B96: 3 | C96: 3 | D96: 23 | E96: 10023
A97: 4 | B97: 4 | C97: 4 | D97: 30 | E97: 10030
A98: 5 | B98: 5 | C98: 5 | D98: 31 | E98: 10031
A99: 442 | B99: 442 | C99: 441 | D99: 추가 | E99: 추가
A100: 475 | B100: 474 | C100: 475 | D100: 474 | E100: 10192
...

Sheet 해군해병대사업관리과
A1: 작업연번 | B1: 작업연번 | C1: 작업연번 | D1: 작업연번 | E1: 작업연번 | F1: 구 분 | G1: 프로그램 | H1: 단위사업 | I1: 설계 | J1: 시공 | K1: 총사업비 관리대상 | L1: 사업명 | M1: 사업위치 | N1: 공사발주 예정시기 | O1: 시설비(420-03) | S1: 편성용역비(420-04) | X1: 사업묶음 | Y1: 감리발주 구분 | Z1: 산출용역비(420-04) | AD1: 산출 용역비 적용요율(%) | AE1: 부족예산(420-04) | AI1: 적정용역비
A2: 3차+소액 | B2: 2차 심의 | C2: 1차 심의 | D2: 사업국 검토 | E2: 군요구 | O2: 계 | P2: 24년 이전 | Q2: 25년 | R2: 26년 이후 | S2: 계 | T2: 24년 | U2: 25년 | V2: 26년 이후 | W2: 용역비 비율(%) | Z2: 계 | AA2: 24년 | AB2: 25년 | AC2: 26년 이후 | AE2: 계 | AF2: 25년 | AG2: 26년 이후 | AH2: 담당자
A3: 2 | B3: 2 | C3: 2 | D3: 21 | E3: 10021
A4: 3 | B4: 3 | C4: 3 | D4: 23 | E4: 10023
A5: 3 | B5: 3 | C5: 3 | D5: 23 | E5: 10023
A6: 4 | B6: 4 | C6: 4 | D6: 30 | E6: 10030
A7: 5 | B7: 5 | C7: 5 | D7: 31 | E7: 10031
A8: 442 | B8: 442 | C8: 441 | D8: 추가 | E8: 추가
A9: 3 | B9: 3 | C9: 3 | D9: 23 | E9: 10023
A10: 4 | B10: 4 | C10: 4 | D10: 30 | E10: 10030
A11: 5 | B11: 5 | C11: 5 | D11: 31 | E11: 10031
A12: 442 | B12: 442 | C12: 441 | D12: 추가 | E12: 추가
A13: 475 | B13: 474 | C13: 475 | D13: 474 | E13: 10192
A14: 848 | B14: 811 | C14: 799 | D14: 749 | E14: 10307
A15: 2913 | B15: 2875 | C15: 2860 | D15: 추가 | E15: 추가
A16: 2914 | B16: 2876 | C16: 2861 | D16: 추가 | E16: 추가
A17: 2916 | B17: 2878 | C17: 2863 | D17: 추가 | E17: 추가
A18: 추가 | B18: 추가
A19: 4004 | B19: 3877 | C19: 3934 | D19: 추가 | E19: 추가
A20: 4005 | B20: 3878 | C20: 3935 | D20: 추가 | E20: 추가
A21: 4021 | B21: 3900 | C21: 3957 | D21: 3872 | E21: 1435
A22: 2 | B22: 2 | C22: 2 | D22: 21 | E22: 10021
A23: 3 | B23: 3 | C23: 3 | D23: 23 | E23: 10023
A24: 4 | B24: 4 | C24: 4 | D24: 30 | E24: 10030
A25: 5 | B25: 5 | C25: 5 | D25: 31 | E25: 10031
A26: 442 | B26: 442 | C26: 441 | D26: 추가 | E26: 추가
A27: 475 | B27: 474 | C27: 475 | D27: 474 | E27: 10192
A28: 848 | B28: 811 | C28: 799 | D28: 749 | E28: 10307
A29: 2913 | B29: 2875 | C29: 2860 | D29: 추가 | E29: 추가
A30: 2914 | B30: 2876 | C30: 2861 | D30: 추가 | E30: 추가
A31: 2916 | B31: 2878 | C31: 2863 | D31: 추가 | E31: 추가
A32: 추가 | B32: 추가
A33: 4004 | B33: 3877 | C33: 3934 | D33: 추가 | E33: 추가
A34: 4005 | B34: 3878 | C34: 3935 | D34: 추가 | E34: 추가
A35: 4021 | B35: 3900 | C35: 3957 | D35: 3872 | E35: 1435
A36: 2 | B36: 2 | C36: 2 | D36: 21 | E36: 10021
A37: 3 | B37: 3 | C37: 3 | D37: 23 | E37: 10023
A38: 4 | B38: 4 | C38: 4 | D38: 30 | E38: 10030
A39: 5 | B39: 5 | C39: 5 | D39: 31 | E39: 10031
A40: 442 | B40: 442 | C40: 441 | D40: 추가 | E40: 추가
A41: 475 | B41: 474 | C41: 475 | D41: 474 | E41: 10192
A42: 848 | B42: 811 | C42: 799 | D42: 749 | E42: 10307
A43: 2913 | B43: 2875 | C43: 2860 | D43: 추가 | E43: 추가
A44: 2914 | B44: 2876 | C44: 2861 | D44: 추가 | E44: 추가
A45: 2916 | B45: 2878 | C45: 2863 | D45: 추가 | E45: 추가
A46: 추가 | B46: 추가
A47: 4004 | B47: 3877 | C47: 3934 | D47: 추가 | E47: 추가
A48: 4005 | B48: 3878 | C48: 3935 | D48: 추가 | E48: 추가
A49: 4021 | B49: 3900 | C49: 3957 | D49: 3872 | E49: 1435
A50: 2 | B50: 2 | C50: 2 | D50: 21 | E50: 10021
A51: 3 | B51: 3 | C51: 3 | D51: 23 | E51: 10023
A52: 4 | B52: 4 | C52: 4 | D52: 30 | E52: 10030
A53: 5 | B53: 5 | C53: 5 | D53: 31 | E53: 10031
A54: 442 | B54: 442 | C54: 441 | D54: 추가 | E54: 추가
A55: 475 | B55: 474 | C55: 475 | D55: 474 | E55: 10192
A56: 848 | B56: 811 | C56: 799 | D56: 749 | E56: 10307
A57: 2913 | B57: 2875 | C57: 2860 | D57: 추가 | E57: 추가
A58: 2914 | B58: 2876 | C58: 2861 | D58: 추가 | E58: 추가
A59: 2916 | B59: 2878 | C59: 2863 | D59: 추가 | E59: 추가
A60: 추가 | B60: 추가
A61: 2916 | B61: 2878 | C61: 2863 | D61: 추가 | E61: 추가
A62: 추가 | B62: 추가
A63: 4004 | B63: 3877 | C63: 3934 | D63: 추가 | E63: 추가
A64: 4005 | B64: 3878 | C64: 3935 | D64: 추가 | E64: 추가
A65: 4021 | B65: 3900 | C65: 3957 | D65: 3872 | E65: 1435
A66: 2 | B66: 2 | C66: 2 | D66: 21 | E66: 10021
A67: 3 | B67: 3 | C67: 3 | D67: 23 | E67: 10023
A68: 4 | B68: 4 | C68: 4 | D68: 30 | E68: 10030
A69: 5 | B69: 5 | C69: 5 | D69: 31 | E69: 10031
A70: 442 | B70: 442 | C70: 441 | D70: 추가 | E70: 추가
A71: 475 | B71: 474 | C71: 475 | D71: 474 | E71: 10192
A72: 848 | B72: 811 | C72: 799 | D72: 749 | E72: 10307
A73: 2913 | B73: 2875 | C73: 2860 | D73: 추가 | E73: 추가
A74: 2914 | B74: 2876 | C74: 2861 | D74: 추가 | E74: 추가
A75: 2916 | B75: 2878 | C75: 2863 | D75: 추가 | E75: 추가
A76: 추가 | B76: 추가
A77: 4004 | B77: 3877 | C77: 3934 | D77: 추가 | E77: 추가
A78: 4005 | B78: 3878 | C78: 3935 | D78: 추가 | E78: 추가
A79: 4021 | B79: 3900 | C79: 3957 | D79: 3872 | E79: 1435
A80: 2 | B80: 2 | C80: 2 | D80: 21 | E80: 10021
A81: 3 | B81: 3 | C81: 3 | D81: 23 | E81: 10023
A82: 4 | B82: 4 | C82: 4 | D82: 30 | E82: 10030
A83: 5 | B83: 5 | C83: 5 | D83: 31 | E83: 10031
A84: 442 | B84: 442 | C84: 441 | D84: 추가 | E84: 추가
A85: 475 | B85: 474 | C85: 475 | D85: 474 | E85: 10192
A86: 848 | B86: 811 | C86: 799 | D86: 749 | E86: 10307
A87: 2913 | B87: 2875 | C87: 2860 | D87: 추가 | E87: 추가
A88: 2914 | B88: 2876 | C88: 2861 | D88: 추가 | E88: 추가
A89: 2916 | B89: 2878 | C89: 2863 | D89: 추가 | E89: 추가
A90: 추가 | B90: 추가
A91: 4004 | B91: 3877 | C91: 3934 | D91: 추가 | E91: 추가
A92: 4005 | B92: 3878 | C92: 3935 | D92: 추가 | E92: 추가
A93: 4021 | B93: 3900 | C93: 3957 | D93: 3872 | E93: 1435
A94: 4021 | B94: 3900 | C94: 3957 | D94: 3872 | E94: 1435
A95: 2 | B95: 2 | C95: 2 | D95: 21 | E95: 10021
A96: 3 | B96: 3 | C96: 3 | D96: 23 | E96: 10023
A97: 4 | B97: 4 | C97: 4 | D97: 30 | E97: 10030
A98: 5 | B98: 5 | C98: 5 | D98: 31 | E98: 10031
A99: 442 | B99: 442 | C99: 441 | D99: 추가 | E99: 추가
A100: 475 | B100: 474 | C100: 475 | D100: 474 | E100: 10192
...

Sheet 공군국직사업관리과
A1: 작업연번 | B1: 작업연번 | C1: 작업연번 | D1: 작업연번 | E1: 작업연번 | F1: 구 분 | G1: 프로그램 | H1: 단위사업 | I1: 설계 | J1: 시공 | K1: 총사업비 관리대상 | L1: 사업명 | M1: 사업위치 | N1: 공사발주 예정시기 | O1: 시설비(420-03) | S1: 편성용역비(420-04) | X1: 사업묶음 | Y1: 감리발주 구분 | Z1: 산출용역비(420-04) | AD1: 산출 용역비 적용요율(%) | AE1: 부족예산(420-04) | AI1: 적정용역비
A2: 3차+소액 | B2: 2차 심의 | C2: 1차 심의 | D2: 사업국 검토 | E2: 군요구 | O2: 계 | P2: 24년 이전 | Q2: 25년 | R2: 26년 이후 | S2: 계 | T2: 24년 | U2: 25년 | V2: 26년 이후 | W2: 용역비 비율(%) | Z2: 계 | AA2: 24년 | AB2: 25년 | AC2: 26년 이후 | AE2: 계 | AF2: 25년 | AG2: 26년 이후 | AH2: 담당자
A3: 2 | B3: 2 | C3: 2 | D3: 21 | E3: 10021
A4: 3 | B4: 3 | C4: 3 | D4: 23 | E4: 10023
A5: 3 | B5: 3 | C5: 3 | D5: 23 | E5: 10023
A6: 4 | B6: 4 | C6: 4 | D6: 30 | E6: 10030
A7: 5 | B7: 5 | C7: 5 | D7: 31 | E7: 10031
A8: 442 | B8: 442 | C8: 441 | D8: 추가 | E8: 추가
A9: 3 | B9: 3 | C9: 3 | D9: 23 | E9: 10023
A10: 4 | B10: 4 | C10: 4 | D10: 30 | E10: 10030
A11: 5 | B11: 5 | C11: 5 | D11: 31 | E11: 10031
A12: 442 | B12: 442 | C12: 441 | D12: 추가 | E12: 추가
A13: 475 | B13: 474 | C13: 475 | D13: 474 | E13: 10192
A14: 848 | B14: 811 | C14: 799 | D14: 749 | E14: 10307
A15: 2913 | B15: 2875 | C15: 2860 | D15: 추가 | E15: 추가
A16: 2914 | B16: 2876 | C16: 2861 | D16: 추가 | E16: 추가
A17: 2916 | B17: 2878 | C17: 2863 | D17: 추가 | E17: 추가
A18: 추가 | B18: 추가
A19: 4004 | B19: 3877 | C19: 3934 | D19: 추가 | E19: 추가
A20: 4005 | B20: 3878 | C20: 3935 | D20: 추가 | E20: 추가
A21: 4021 | B21: 3900 | C21: 3957 | D21: 3872 | E21: 1435
A22: 2 | B22: 2 | C22: 2 | D22: 21 | E22: 10021
A23: 3 | B23: 3 | C23: 3 | D23: 23 | E23: 10023
A24: 4 | B24: 4 | C24: 4 | D24: 30 | E24: 10030
A25: 5 | B25: 5 | C25: 5 | D25: 31 | E25: 10031
A26: 442 | B26: 442 | C26: 441 | D26: 추가 | E26: 추가
A27: 475 | B27: 474 | C27: 475 | D27: 474 | E27: 10192
A28: 848 | B28: 811 | C28: 799 | D28: 749 | E28: 10307
A29: 2913 | B29: 2875 | C29: 2860 | D29: 추가 | E29: 추가
A30: 2914 | B30: 2876 | C30: 2861 | D30: 추가 | E30: 추가
A31: 2916 | B31: 2878 | C31: 2863 | D31: 추가 | E31: 추가
A32: 추가 | B32: 추가
A33: 4004 | B33: 3877 | C33: 3934 | D33: 추가 | E33: 추가
A34: 4005 | B34: 3878 | C34: 3935 | D34: 추가 | E34: 추가
A35: 4021 | B35: 3900 | C35: 3957 | D35: 3872 | E35: 1435
A36: 2 | B36: 2 | C36: 2 | D36: 21 | E36: 10021
A37: 3 | B37: 3 | C37: 3 | D37: 23 | E37: 10023
A38: 4 | B38: 4 | C38: 4 | D38: 30 | E38: 10030
A39: 5 | B39: 5 | C39: 5 | D39: 31 | E39: 10031
A40: 442 | B40: 442 | C40: 441 | D40: 추가 | E40: 추가
A41: 475 | B41: 474 | C41: 475 | D41: 474 | E41: 10192
A42: 848 | B42: 811 | C42: 799 | D42: 749 | E42: 10307
A43: 2913 | B43: 2875 | C43: 2860 | D43: 추가 | E43: 추가
A44: 2914 | B44: 2876 | C44: 2861 | D44: 추가 | E44: 추가
A45: 2916 | B45: 2878 | C45: 2863 | D45: 추가 | E45: 추가
A46: 추가 | B46: 추가
A47: 4004 | B47: 3877 | C47: 3934 | D47: 추가 | E47: 추가
A48: 4005 | B48: 3878 | C48: 3935 | D48: 추가 | E48: 추가
A49: 4021 | B49: 3900 | C49: 3957 | D49: 3872 | E49: 1435
A50: 2 | B50: 2 | C50: 2 | D50: 21 | E50: 10021
A51: 3 | B51: 3 | C51: 3 | D51: 23 | E51: 10023
A52: 4 | B52: 4 | C52: 4 | D52: 30 | E52: 10030
A53: 5 | B53: 5 | C53: 5 | D53: 31 | E53: 10031
A54: 442 | B54: 442 | C54: 441 | D54: 추가 | E54: 추가
A55: 475 | B55: 474 | C55: 475 | D55: 474 | E55: 10192
A56: 848 | B56: 811 | C56: 799 | D56: 749 | E56: 10307
A57: 2913 | B57: 2875 | C57: 2860 | D57: 추가 | E57: 추가
A58: 2914 | B58: 2876 | C58: 2861 | D58: 추가 | E58: 추가
A59: 2916 | B59: 2878 | C59: 2863 | D59: 추가 | E59: 추가
A60: 추가 | B60: 추가
A61: 2916 | B61: 2878 | C61: 2863 | D61: 추가 | E61: 추가
A62: 추가 | B62: 추가
A63: 4004 | B63: 3877 | C63: 3934 | D63: 추가 | E63: 추가
A64: 4005 | B64: 3878 | C64: 3935 | D64: 추가 | E64: 추가
A65: 4021 | B65: 3900 | C65: 3957 | D65: 3872 | E65: 1435
A66: 2 | B66: 2 | C66: 2 | D66: 21 | E66: 10021
A67: 3 | B67: 3 | C67: 3 | D67: 23 | E67: 10023
A68: 4 | B68: 4 | C68: 4 | D68: 30 | E68: 10030
A69: 5 | B69: 5 | C69: 5 | D69: 31 | E69: 10031
A70: 442 | B70: 442 | C70: 441 | D70: 추가 | E70: 추가
A71: 475 | B71: 474 | C71: 475 | D71: 474 | E71: 10192
A72: 848 | B72: 811 | C72: 799 | D72: 749 | E72: 10307
A73: 2913 | B73: 2875 | C73: 2860 | D73: 추가 | E73: 추가
A74: 2914 | B74: 2876 | C74: 2861 | D74: 추가 | E74: 추가
A75: 2916 | B75: 2878 | C75: 2863 | D75: 추가 | E75: 추가
A76: 추가 | B76: 추가
A77: 4004 | B77: 3877 | C77: 3934 | D77: 추가 | E77: 추가
A78: 4005 | B78: 3878 | C78: 3935 | D78: 추가 | E78: 추가
A79: 4021 | B79: 3900 | C79: 3957 | D79: 3872 | E79: 1435
A80: 2 | B80: 2 | C80: 2 | D80: 21 | E80: 10021
A81: 3 | B81: 3 | C81: 3 | D81: 23 | E81: 10023
A82: 4 | B82: 4 | C82: 4 | D82: 30 | E82: 10030
A83: 5 | B83: 5 | C83: 5 | D83: 31 | E83: 10031
A84: 442 | B84: 442 | C84: 441 | D84: 추가 | E84: 추가
A85: 475 | B85: 474 | C85: 475 | D85: 474 | E85: 10192
A86: 848 | B86: 811 | C86: 799 | D86: 749 | E86: 10307
A87: 2913 | B87: 2875 | C87: 2860 | D87: 추가 | E87: 추가
A88: 2914 | B88: 2876 | C88: 2861 | D88: 추가 | E88: 추가
A89: 2916 | B89: 2878 | C89: 2863 | D89: 추가 | E89: 추가
A90: 추가 | B90: 추가
A91: 4004 | B91: 3877 | C91: 3934 | D91: 추가 | E91: 추가
A92: 4005 | B92: 3878 | C92: 3935 | D92: 추가 | E92: 추가
A93: 4021 | B93: 3900 | C93: 3957 | D93: 3872 | E93: 1435
A94: 4021 | B94: 3900 | C94: 3957 | D94: 3872 | E94: 1435
A95: 2 | B95: 2 | C95: 2 | D95: 21 | E95: 10021
A96: 3 | B96: 3 | C96: 3 | D96: 23 | E96: 10023
A97: 4 | B97: 4 | C97: 4 | D97: 30 | E97: 10030
A98: 5 | B98: 5 | C98: 5 | D98: 31 | E98: 10031
A99: 442 | B99: 442 | C99: 441 | D99: 추가 | E99: 추가
A100: 475 | B100: 474 | C100: 475 | D100: 474 | E100: 10192
...

Sheet 복구됨_Sheet1
A3: '25년도 건설사업관리용역 사업/묶음 건수
A4: 구분 | B4: 대상사업(건) | C4: 사업묶음(건) | D4: 비고
A5: 육군사업관리과 | B5: =#REF! -> #REF! | C5: =#REF! -> #REF!
A6: 육군사업관리과 + 설계과 | B6: =#REF! -> #REF! | C6: =#REF! -> #REF!
A7: 설계과 | B7: =#REF! -> #REF! | C7: =#REF! -> #REF!
A8: 묶음제한 | B8: =#REF! -> #REF! | C8: 0 | D8: 26년발주,설계제한,사업취소,사업방식 변경
A9: 합계 | B9: =SUM(B5:B8) -> #REF! | C9: =SUM(C5:C8) -> #REF!

Sheet 서울경기남부시설단
A1: 작업연번 | B1: 작업연번 | C1: 작업연번 | D1: 작업연번 | E1: 작업연번 | F1: 구 분 | G1: 프로그램 | H1: 단위사업 | I1: 설계 | J1: 시공 | K1: 총사업비 관리대상 | L1: 사업명 | M1: 사업위치 | N1: 공사발주 예정시기 | O1: 시설비(420-03) | S1: 편성용역비(420-04) | X1: 사업묶음 | Y1: 감리발주 구분 | Z1: 산출용역비(420-04) | AD1: 산출 용역비 적용요율(%) | AE1: 부족예산(420-04) | AI1: 적정용역비
A2: 3차+소액 | B2: 2차 심의 | C2: 1차 심의 | D2: 사업국 검토 | E2: 군요구 | O2: 계 | P2: 24년 이전 | Q2: 25년 | R2: 26년 이후 | S2: 계 | T2: 24년 | U2: 25년 | V2: 26년 이후 | W2: 용역비 비율(%) | Z2: 계 | AA2: 24년 | AB2: 25년 | AC2: 26년 이후 | AE2: 계 | AF2: 25년 | AG2: 26년 이후 | AH2: 담당자
A3: 2 | B3: 2 | C3: 2 | D3: 21 | E3: 10021
A4: 3 | B4: 3 | C4: 3 | D4: 23 | E4: 10023
A5: 3 | B5: 3 | C5: 3 | D5: 23 | E5: 10023
A6: 4 | B6: 4 | C6: 4 | D6: 30 | E6: 10030
A7: 5 | B7: 5 | C7: 5 | D7: 31 | E7: 10031
A8: 442 | B8: 442 | C8: 441 | D8: 추가 | E8: 추가
A9: 3 | B9: 3 | C9: 3 | D9: 23 | E9: 10023
A10: 4 | B10: 4 | C10: 4 | D10: 30 | E10: 10030
A11: 5 | B11: 5 | C11: 5 | D11: 31 | E11: 10031
A12: 442 | B12: 442 | C12: 441 | D12: 추가 | E12: 추가
A13: 475 | B13: 474 | C13: 475 | D13: 474 | E13: 10192
A14: 848 | B14: 811 | C14: 799 | D14: 749 | E14: 10307
A15: 2913 | B15: 2875 | C15: 2860 | D15: 추가 | E15: 추가
A16: 2914 | B16: 2876 | C16: 2861 | D16: 추가 | E16: 추가
A17: 2916 | B17: 2878 | C17: 2863 | D17: 추가 | E17: 추가
A18: 추가 | B18: 추가
A19: 4004 | B19: 3877 | C19: 3934 | D19: 추가 | E19: 추가
A20: 4005 | B20: 3878 | C20: 3935 | D20: 추가 | E20: 추가
A21: 4021 | B21: 3900 | C21: 3957 | D21: 3872 | E21: 1435
A22: 2 | B22: 2 | C22: 2 | D22: 21 | E22: 10021
A23: 3 | B23: 3 | C23: 3 | D23: 23 | E23: 10023
A24: 4 | B24: 4 | C24: 4 | D24: 30 | E24: 10030
A25: 5 | B25: 5 | C25: 5 | D25: 31 | E25: 10031
A26: 442 | B26: 442 | C26: 441 | D26: 추가 | E26: 추가
A27: 475 | B27: 474 | C27: 475 | D27: 474 | E27: 10192
A28: 848 | B28: 811 | C28: 799 | D28: 749 | E28: 10307
A29: 2913 | B29: 2875 | C29: 2860 | D29: 추가 | E29: 추가
A30: 2914 | B30: 2876 | C30: 2861 | D30: 추가 | E30: 추가
A31: 2916 | B31: 2878 | C31: 2863 | D31: 추가 | E31: 추가
A32: 추가 | B32: 추가
A33: 4004 | B33: 3877 | C33: 3934 | D33: 추가 | E33: 추가
A34: 4005 | B34: 3878 | C34: 3935 | D34: 추가 | E34: 추가
A35: 4021 | B35: 3900 | C35: 3957 | D35: 3872 | E35: 1435
A36: 2 | B36: 2 | C36: 2 | D36: 21 | E36: 10021
A37: 3 | B37: 3 | C37: 3 | D37: 23 | E37: 10023
A38: 4 | B38: 4 | C38: 4 | D38: 30 | E38: 10030
A39: 5 | B39: 5 | C39: 5 | D39: 31 | E39: 10031
A40: 442 | B40: 442 | C40: 441 | D40: 추가 | E40: 추가
A41: 475 | B41: 474 | C41: 475 | D41: 474 | E41: 10192
A42: 848 | B42: 811 | C42: 799 | D42: 749 | E42: 10307
A43: 2913 | B43: 2875 | C43: 2860 | D43: 추가 | E43: 추가
A44: 2914 | B44: 2876 | C44: 2861 | D44: 추가 | E44: 추가
A45: 2916 | B45: 2878 | C45: 2863 | D45: 추가 | E45: 추가
A46: 추가 | B46: 추가
A47: 4004 | B47: 3877 | C47: 3934 | D47: 추가 | E47: 추가
A48: 4005 | B48: 3878 | C48: 3935 | D48: 추가 | E48: 추가
A49: 4021 | B49: 3900 | C49: 3957 | D49: 3872 | E49: 1435
A50: 2 | B50: 2 | C50: 2 | D50: 21 | E50: 10021
A51: 3 | B51: 3 | C51: 3 | D51: 23 | E51: 10023
A52: 4 | B52: 4 | C52: 4 | D52: 30 | E52: 10030
A53: 5 | B53: 5 | C53: 5 | D53: 31 | E53: 10031
A54: 442 | B54: 442 | C54: 441 | D54: 추가 | E54: 추가
A55: 475 | B55: 474 | C55: 475 | D55: 474 | E55: 10192
A56: 848 | B56: 811 | C56: 799 | D56: 749 | E56: 10307
A57: 2913 | B57: 2875 | C57: 2860 | D57: 추가 | E57: 추가
A58: 2914 | B58: 2876 | C58: 2861 | D58: 추가 | E58: 추가
A59: 2916 | B59: 2878 | C59: 2863 | D59: 추가 | E59: 추가
A60: 추가 | B60: 추가
A61: 2916 | B61: 2878 | C61: 2863 | D61: 추가 | E61: 추가
A62: 추가 | B62: 추가
A63: 4004 | B63: 3877 | C63: 3934 | D63: 추가 | E63: 추가
A64: 4005 | B64: 3878 | C64: 3935 | D64: 추가 | E64: 추가
A65: 4021 | B65: 3900 | C65: 3957 | D65: 3872 | E65: 1435
A66: 2 | B66: 2 | C66: 2 | D66: 21 | E66: 10021
A67: 3 | B67: 3 | C67: 3 | D67: 23 | E67: 10023
A68: 4 | B68: 4 | C68: 4 | D68: 30 | E68: 10030
A69: 5 | B69: 5 | C69: 5 | D69: 31 | E69: 10031
A70: 442 | B70: 442 | C70: 441 | D70: 추가 | E70: 추가
A71: 475 | B71: 474 | C71: 475 | D71: 474 | E71: 10192
A72: 848 | B72: 811 | C72: 799 | D72: 749 | E72: 10307
A73: 2913 | B73: 2875 | C73: 2860 | D73: 추가 | E73: 추가
A74: 2914 | B74: 2876 | C74: 2861 | D74: 추가 | E74: 추가
A75: 2916 | B75: 2878 | C75: 2863 | D75: 추가 | E75: 추가
A76: 추가 | B76: 추가
A77: 4004 | B77: 3877 | C77: 3934 | D77: 추가 | E77: 추가
A78: 4005 | B78: 3878 | C78: 3935 | D78: 추가 | E78: 추가
A79: 4021 | B79: 3900 | C79: 3957 | D79: 3872 | E79: 1435
A80: 2 | B80: 2 | C80: 2 | D80: 21 | E80: 10021
A81: 3 | B81: 3 | C81: 3 | D81: 23 | E81: 10023
A82: 4 | B82: 4 | C82: 4 | D82: 30 | E82: 10030
A83: 5 | B83: 5 | C83: 5 | D83: 31 | E83: 10031
A84: 442 | B84: 442 | C84: 441 | D84: 추가 | E84: 추가
A85: 475 | B85: 474 | C85: 475 | D85: 474 | E85: 10192
A86: 848 | B86: 811 | C86: 799 | D86: 749 | E86: 10307
A87: 2913 | B87: 2875 | C87: 2860 | D87: 추가 | E87: 추가
A88: 2914 | B88: 2876 | C88: 2861 | D88: 추가 | E88: 추가
A89: 2916 | B89: 2878 | C89: 2863 | D89: 추가 | E89: 추가
A90: 추가 | B90: 추가
A91: 4004 | B91: 3877 | C91: 3934 | D91: 추가 | E91: 추가
A92: 4005 | B92: 3878 | C92: 3935 | D92: 추가 | E92: 추가
A93: 4021 | B93: 3900 | C93: 3957 | D93: 3872 | E93: 1435
A94: 4021 | B94: 3900 | C94: 3957 | D94: 3872 | E94: 1435
A95: 2 | B95: 2 | C95: 2 | D95: 21 | E95: 10021
A96: 3 | B96: 3 | C96: 3 | D96: 23 | E96: 10023
A97: 4 | B97: 4 | C97: 4 | D97: 30 | E97: 10030
A98: 5 | B98: 5 | C98: 5 | D98: 31 | E98: 10031
A99: 442 | B99: 442 | C99: 441 | D99: 추가 | E99: 추가
A100: 475 | B100: 474 | C100: 475 | D100: 474 | E100: 10192
...

Sheet 강원시설단
A1: 작업연번 | B1: 작업연번 | C1: 작업연번 | D1: 작업연번 | E1: 작업연번 | F1: 구 분 | G1: 프로그램 | H1: 단위사업 | I1: 설계 | J1: 시공 | K1: 총사업비 관리대상 | L1: 사업명 | M1: 사업위치 | N1: 공사발주 예정시기 | O1: 시설비(420-03) | S1: 편성용역비(420-04) | X1: 사업묶음 | Y1: 감리발주 구분 | Z1: 산출용역비(420-04) | AD1: 산출 용역비 적용요율(%) | AE1: 부족예산(420-04) | AI1: 적정용역비
A2: 3차+소액 | B2: 2차 심의 | C2: 1차 심의 | D2: 사업국 검토 | E2: 군요구 | O2: 계 | P2: 24년 이전 | Q2: 25년 | R2: 26년 이후 | S2: 계 | T2: 24년 | U2: 25년 | V2: 26년 이후 | W2: 용역비 비율(%) | Z2: 계 | AA2: 24년 | AB2: 25년 | AC2: 26년 이후 | AE2: 계 | AF2: 25년 | AG2: 26년 이후 | AH2: 담당자
A3: 2 | B3: 2 | C3: 2 | D3: 21 | E3: 10021
A4: 3 | B4: 3 | C4: 3 | D4: 23 | E4: 10023
A5: 3 | B5: 3 | C5: 3 | D5: 23 | E5: 10023
A6: 4 | B6: 4 | C6: 4 | D6: 30 | E6: 10030
A7: 5 | B7: 5 | C7: 5 | D7: 31 | E7: 10031
A8: 442 | B8: 442 | C8: 441 | D8: 추가 | E8: 추가
A9: 3 | B9: 3 | C9: 3 | D9: 23 | E9: 10023
A10: 4 | B10: 4 | C10: 4 | D10: 30 | E10: 10030
A11: 5 | B11: 5 | C11: 5 | D11: 31 | E11: 10031
A12: 442 | B12: 442 | C12: 441 | D12: 추가 | E12: 추가
A13: 475 | B13: 474 | C13: 475 | D13: 474 | E13: 10192
A14: 848 | B14: 811 | C14: 799 | D14: 749 | E14: 10307
A15: 2913 | B15: 2875 | C15: 2860 | D15: 추가 | E15: 추가
A16: 2914 | B16: 2876 | C16: 2861 | D16: 추가 | E16: 추가
A17: 2916 | B17: 2878 | C17: 2863 | D17: 추가 | E17: 추가
A18: 추가 | B18: 추가
A19: 4004 | B19: 3877 | C19: 3934 | D19: 추가 | E19: 추가
A20: 4005 | B20: 3878 | C20: 3935 | D20: 추가 | E20: 추가
A21: 4021 | B21: 3900 | C21: 3957 | D21: 3872 | E21: 1435
A22: 2 | B22: 2 | C22: 2 | D22: 21 | E22: 10021
A23: 3 | B23: 3 | C23: 3 | D23: 23 | E23: 10023
A24: 4 | B24: 4 | C24: 4 | D24: 30 | E24: 10030
A25: 5 | B25: 5 | C25: 5 | D25: 31 | E25: 10031
A26: 442 | B26: 442 | C26: 441 | D26: 추가 | E26: 추가
A27: 475 | B27: 474 | C27: 475 | D27: 474 | E27: 10192
A28: 848 | B28: 811 | C28: 799 | D28: 749 | E28: 10307
A29: 2913 | B29: 2875 | C29: 2860 | D29: 추가 | E29: 추가
A30: 2914 | B30: 2876 | C30: 2861 | D30: 추가 | E30: 추가
A31: 2916 | B31: 2878 | C31: 2863 | D31: 추가 | E31: 추가
A32: 추가 | B32: 추가
A33: 4004 | B33: 3877 | C33: 3934 | D33: 추가 | E33: 추가
A34: 4005 | B34: 3878 | C34: 3935 | D34: 추가 | E34: 추가
A35: 4021 | B35: 3900 | C35: 3957 | D35: 3872 | E35: 1435
A36: 2 | B36: 2 | C36: 2 | D36: 21 | E36: 10021
A37: 3 | B37: 3 | C37: 3 | D37: 23 | E37: 10023
A38: 4 | B38: 4 | C38: 4 | D38: 30 | E38: 10030
A39: 5 | B39: 5 | C39: 5 | D39: 31 | E39: 10031
A40: 442 | B40: 442 | C40: 441 | D40: 추가 | E40: 추가
A41: 475 | B41: 474 | C41: 475 | D41: 474 | E41: 10192
A42: 848 | B42: 811 | C42: 799 | D42: 749 | E42: 10307
A43: 2913 | B43: 2875 | C43: 2860 | D43: 추가 | E43: 추가
A44: 2914 | B44: 2876 | C44: 2861 | D44: 추가 | E44: 추가
A45: 2916 | B45: 2878 | C45: 2863 | D45: 추가 | E45: 추가
A46: 추가 | B46: 추가
A47: 4004 | B47: 3877 | C47: 3934 | D47: 추가 | E47: 추가
A48: 4005 | B48: 3878 | C48: 3935 | D48: 추가 | E48: 추가
A49: 4021 | B49: 3900 | C49: 3957 | D49: 3872 | E49: 1435
A50: 2 | B50: 2 | C50: 2 | D50: 21 | E50: 10021
A51: 3 | B51: 3 | C51: 3 | D51: 23 | E51: 10023
A52: 4 | B52: 4 | C52: 4 | D52: 30 | E52: 10030
A53: 5 | B53: 5 | C53: 5 | D53: 31 | E53: 10031
A54: 442 | B54: 442 | C54: 441 | D54: 추가 | E54: 추가
A55: 475 | B55: 474 | C55: 475 | D55: 474 | E55: 10192
A56: 848 | B56: 811 | C56: 799 | D56: 749 | E56: 10307
A57: 2913 | B57: 2875 | C57: 2860 | D57: 추가 | E57: 추가
A58: 2914 | B58: 2876 | C58: 2861 | D58: 추가 | E58: 추가
A59: 2916 | B59: 2878 | C59: 2863 | D59: 추가 | E59: 추가
A60: 추가 | B60: 추가
A61: 2916 | B61: 2878 | C61: 2863 | D61: 추가 | E61: 추가
A62: 추가 | B62: 추가
A63: 4004 | B63: 3877 | C63: 3934 | D63: 추가 | E63: 추가
A64: 4005 | B64: 3878 | C64: 3935 | D64: 추가 | E64: 추가
A65: 4021 | B65: 3900 | C65: 3957 | D65: 3872 | E65: 1435
A66: 2 | B66: 2 | C66: 2 | D66: 21 | E66: 10021
A67: 3 | B67: 3 | C67: 3 | D67: 23 | E67: 10023
A68: 4 | B68: 4 | C68: 4 | D68: 30 | E68: 10030
A69: 5 | B69: 5 | C69: 5 | D69: 31 | E69: 10031
A70: 442 | B70: 442 | C70: 441 | D70: 추가 | E70: 추가
A71: 475 | B71: 474 | C71: 475 | D71: 474 | E71: 10192
A72: 848 | B72: 811 | C72: 799 | D72: 749 | E72: 10307
A73: 2913 | B73: 2875 | C73: 2860 | D73: 추가 | E73: 추가
A74: 2914 | B74: 2876 | C74: 2861 | D74: 추가 | E74: 추가
A75: 2916 | B75: 2878 | C75: 2863 | D75: 추가 | E75: 추가
A76: 추가 | B76: 추가
A77: 4004 | B77: 3877 | C77: 3934 | D77: 추가 | E77: 추가
A78: 4005 | B78: 3878 | C78: 3935 | D78: 추가 | E78: 추가
A79: 4021 | B79: 3900 | C79: 3957 | D79: 3872 | E79: 1435
A80: 2 | B80: 2 | C80: 2 | D80: 21 | E80: 10021
A81: 3 | B81: 3 | C81: 3 | D81: 23 | E81: 10023
A82: 4 | B82: 4 | C82: 4 | D82: 30 | E82: 10030
A83: 5 | B83: 5 | C83: 5 | D83: 31 | E83: 10031
A84: 442 | B84: 442 | C84: 441 | D84: 추가 | E84: 추가
A85: 475 | B85: 474 | C85: 475 | D85: 474 | E85: 10192
A86: 848 | B86: 811 | C86: 799 | D86: 749 | E86: 10307
A87: 2913 | B87: 2875 | C87: 2860 | D87: 추가 | E87: 추가
A88: 2914 | B88: 2876 | C88: 2861 | D88: 추가 | E88: 추가
A89: 2916 | B89: 2878 | C89: 2863 | D89: 추가 | E89: 추가
A90: 추가 | B90: 추가
A91: 4004 | B91: 3877 | C91: 3934 | D91: 추가 | E91: 추가
A92: 4005 | B92: 3878 | C92: 3935 | D92: 추가 | E92: 추가
A93: 4021 | B93: 3900 | C93: 3957 | D93: 3872 | E93: 1435
A94: 4021 | B94: 3900 | C94: 3957 | D94: 3872 | E94: 1435
A95: 2 | B95: 2 | C95: 2 | D95: 21 | E95: 10021
A96: 3 | B96: 3 | C96: 3 | D96: 23 | E96: 10023
A97: 4 | B97: 4 | C97: 4 | D97: 30 | E97: 10030
A98: 5 | B98: 5 | C98: 5 | D98: 31 | E98: 10031
A99: 442 | B99: 442 | C99: 441 | D99: 추가 | E99: 추가
A100: 475 | B100: 474 | C100: 475 | D100: 474 | E100: 10192
...

Sheet 충청시설단
A1: 작업연번 | B1: 작업연번 | C1: 작업연번 | D1: 작업연번 | E1: 작업연번 | F1: 구 분 | G1: 프로그램 | H1: 단위사업 | I1: 설계 | J1: 시공 | K1: 총사업비 관리대상 | L1: 사업명 | M1: 사업위치 | N1: 공사발주 예정시기 | O1: 시설비(420-03) | S1: 편성용역비(420-04) | X1: 사업묶음 | Y1: 감리발주 구분 | Z1: 산출용역비(420-04) | AD1: 산출 용역비 적용요율(%) | AE1: 부족예산(420-04) | AI1: 적정용역비
A2: 3차+소액 | B2: 2차 심의 | C2: 1차 심의 | D2: 사업국 검토 | E2: 군요구 | O2: 계 | P2: 24년 이전 | Q2: 25년 | R2: 26년 이후 | S2: 계 | T2: 24년 | U2: 25년 | V2: 26년 이후 | W2: 용역비 비율(%) | Z2: 계 | AA2: 24년 | AB2: 25년 | AC2: 26년 이후 | AE2: 계 | AF2: 25년 | AG2: 26년 이후 | AH2: 담당자
A3: 2 | B3: 2 | C3: 2 | D3: 21 | E3: 10021
A4: 3 | B4: 3 | C4: 3 | D4: 23 | E4: 10023
A5: 3 | B5: 3 | C5: 3 | D5: 23 | E5: 10023
A6: 4 | B6: 4 | C6: 4 | D6: 30 | E6: 10030
A7: 5 | B7: 5 | C7: 5 | D7: 31 | E7: 10031
A8: 442 | B8: 442 | C8: 441 | D8: 추가 | E8: 추가
A9: 3 | B9: 3 | C9: 3 | D9: 23 | E9: 10023
A10: 4 | B10: 4 | C10: 4 | D10: 30 | E10: 10030
A11: 5 | B11: 5 | C11: 5 | D11: 31 | E11: 10031
A12: 442 | B12: 442 | C12: 441 | D12: 추가 | E12: 추가
A13: 475 | B13: 474 | C13: 475 | D13: 474 | E13: 10192
A14: 848 | B14: 811 | C14: 799 | D14: 749 | E14: 10307
A15: 2913 | B15: 2875 | C15: 2860 | D15: 추가 | E15: 추가
A16: 2914 | B16: 2876 | C16: 2861 | D16: 추가 | E16: 추가
A17: 2916 | B17: 2878 | C17: 2863 | D17: 추가 | E17: 추가
A18: 추가 | B18: 추가
A19: 4004 | B19: 3877 | C19: 3934 | D19: 추가 | E19: 추가
A20: 4005 | B20: 3878 | C20: 3935 | D20: 추가 | E20: 추가
A21: 4021 | B21: 3900 | C21: 3957 | D21: 3872 | E21: 1435
A22: 2 | B22: 2 | C22: 2 | D22: 21 | E22: 10021
A23: 3 | B23: 3 | C23: 3 | D23: 23 | E23: 10023
A24: 4 | B24: 4 | C24: 4 | D24: 30 | E24: 10030
A25: 5 | B25: 5 | C25: 5 | D25: 31 | E25: 10031
A26: 442 | B26: 442 | C26: 441 | D26: 추가 | E26: 추가
A27: 475 | B27: 474 | C27: 475 | D27: 474 | E27: 10192
A28: 848 | B28: 811 | C28: 799 | D28: 749 | E28: 10307
A29: 2913 | B29: 2875 | C29: 2860 | D29: 추가 | E29: 추가
A30: 2914 | B30: 2876 | C30: 2861 | D30: 추가 | E30: 추가
A31: 2916 | B31: 2878 | C31: 2863 | D31: 추가 | E31: 추가
A32: 추가 | B32: 추가
A33: 4004 | B33: 3877 | C33: 3934 | D33: 추가 | E33: 추가
A34: 4005 | B34: 3878 | C34: 3935 | D34: 추가 | E34: 추가
A35: 4021 | B35: 3900 | C35: 3957 | D35: 3872 | E35: 1435
A36: 2 | B36: 2 | C36: 2 | D36: 21 | E36: 10021
A37: 3 | B37: 3 | C37: 3 | D37: 23 | E37: 10023
A38: 4 | B38: 4 | C38: 4 | D38: 30 | E38: 10030
A39: 5 | B39: 5 | C39: 5 | D39: 31 | E39: 10031
A40: 442 | B40: 442 | C40: 441 | D40: 추가 | E40: 추가
A41: 475 | B41: 474 | C41: 475 | D41: 474 | E41: 10192
A42: 848 | B42: 811 | C42: 799 | D42: 749 | E42: 10307
A43: 2913 | B43: 2875 | C43: 2860 | D43: 추가 | E43: 추가
A44: 2914 | B44: 2876 | C44: 2861 | D44: 추가 | E44: 추가
A45: 2916 | B45: 2878 | C45: 2863 | D45: 추가 | E45: 추가
A46: 추가 | B46: 추가
A47: 4004 | B47: 3877 | C47: 3934 | D47: 추가 | E47: 추가
A48: 4005 | B48: 3878 | C48: 3935 | D48: 추가 | E48: 추가
A49: 4021 | B49: 3900 | C49: 3957 | D49: 3872 | E49: 1435
A50: 2 | B50: 2 | C50: 2 | D50: 21 | E50: 10021
A51: 3 | B51: 3 | C51: 3 | D51: 23 | E51: 10023
A52: 4 | B52: 4 | C52: 4 | D52: 30 | E52: 10030
A53: 5 | B53: 5 | C53: 5 | D53: 31 | E53: 10031
A54: 442 | B54: 442 | C54: 441 | D54: 추가 | E54: 추가
A55: 475 | B55: 474 | C55: 475 | D55: 474 | E55: 10192
A56: 848 | B56: 811 | C56: 799 | D56: 749 | E56: 10307
A57: 2913 | B57: 2875 | C57: 2860 | D57: 추가 | E57: 추가
A58: 2914 | B58: 2876 | C58: 2861 | D58: 추가 | E58: 추가
A59: 2916 | B59: 2878 | C59: 2863 | D59: 추가 | E59: 추가
A60: 추가 | B60: 추가
A61: 2916 | B61: 2878 | C61: 2863 | D61: 추가 | E61: 추가
A62: 추가 | B62: 추가
A63: 4004 | B63: 3877 | C63: 3934 | D63: 추가 | E63: 추가
A64: 4005 | B64: 3878 | C64: 3935 | D64: 추가 | E64: 추가
A65: 4021 | B65: 3900 | C65: 3957 | D65: 3872 | E65: 1435
A66: 2 | B66: 2 | C66: 2 | D66: 21 | E66: 10021
A67: 3 | B67: 3 | C67: 3 | D67: 23 | E67: 10023
A68: 4 | B68: 4 | C68: 4 | D68: 30 | E68: 10030
A69: 5 | B69: 5 | C69: 5 | D69: 31 | E69: 10031
A70: 442 | B70: 442 | C70: 441 | D70: 추가 | E70: 추가
A71: 475 | B71: 474 | C71: 475 | D71: 474 | E71: 10192
A72: 848 | B72: 811 | C72: 799 | D72: 749 | E72: 10307
A73: 2913 | B73: 2875 | C73: 2860 | D73: 추가 | E73: 추가
A74: 2914 | B74: 2876 | C74: 2861 | D74: 추가 | E74: 추가
A75: 2916 | B75: 2878 | C75: 2863 | D75: 추가 | E75: 추가
A76: 추가 | B76: 추가
A77: 4004 | B77: 3877 | C77: 3934 | D77: 추가 | E77: 추가
A78: 4005 | B78: 3878 | C78: 3935 | D78: 추가 | E78: 추가
A79: 4021 | B79: 3900 | C79: 3957 | D79: 3872 | E79: 1435
A80: 2 | B80: 2 | C80: 2 | D80: 21 | E80: 10021
A81: 3 | B81: 3 | C81: 3 | D81: 23 | E81: 10023
A82: 4 | B82: 4 | C82: 4 | D82: 30 | E82: 10030
A83: 5 | B83: 5 | C83: 5 | D83: 31 | E83: 10031
A84: 442 | B84: 442 | C84: 441 | D84: 추가 | E84: 추가
A85: 475 | B85: 474 | C85: 475 | D85: 474 | E85: 10192
A86: 848 | B86: 811 | C86: 799 | D86: 749 | E86: 10307
A87: 2913 | B87: 2875 | C87: 2860 | D87: 추가 | E87: 추가
A88: 2914 | B88: 2876 | C88: 2861 | D88: 추가 | E88: 추가
A89: 2916 | B89: 2878 | C89: 2863 | D89: 추가 | E89: 추가
A90: 추가 | B90: 추가
A91: 4004 | B91: 3877 | C91: 3934 | D91: 추가 | E91: 추가
A92: 4005 | B92: 3878 | C92: 3935 | D92: 추가 | E92: 추가
A93: 4021 | B93: 3900 | C93: 3957 | D93: 3872 | E93: 1435
A94: 4021 | B94: 3900 | C94: 3957 | D94: 3872 | E94: 1435
A95: 2 | B95: 2 | C95: 2 | D95: 21 | E95: 10021
A96: 3 | B96: 3 | C96: 3 | D96: 23 | E96: 10023
A97: 4 | B97: 4 | C97: 4 | D97: 30 | E97: 10030
A98: 5 | B98: 5 | C98: 5 | D98: 31 | E98: 10031
A99: 442 | B99: 442 | C99: 441 | D99: 추가 | E99: 추가
A100: 475 | B100: 474 | C100: 475 | D100: 474 | E100: 10192
...

Sheet 경상시설단
A1: 작업연번 | B1: 작업연번 | C1: 작업연번 | D1: 작업연번 | E1: 작업연번 | F1: 구 분 | G1: 프로그램 | H1: 단위사업 | I1: 설계 | J1: 시공 | K1: 총사업비 관리대상 | L1: 사업명 | M1: 사업위치 | N1: 공사발주 예정시기 | O1: 시설비(420-03) | S1: 편성용역비(420-04) | X1: 사업묶음 | Y1: 감리발주 구분 | Z1: 산출용역비(420-04) | AD1: 산출 용역비 적용요율(%) | AE1: 부족예산(420-04) | AI1: 적정용역비
A2: 3차+소액 | B2: 2차 심의 | C2: 1차 심의 | D2: 사업국 검토 | E2: 군요구 | O2: 계 | P2: 24년 이전 | Q2: 25년 | R2: 26년 이후 | S2: 계 | T2: 24년 | U2: 25년 | V2: 26년 이후 | W2: 용역비 비율(%) | Z2: 계 | AA2: 24년 | AB2: 25년 | AC2: 26년 이후 | AE2: 계 | AF2: 25년 | AG2: 26년 이후 | AH2: 담당자
A3: 2 | B3: 2 | C3: 2 | D3: 21 | E3: 10021
A4: 3 | B4: 3 | C4: 3 | D4: 23 | E4: 10023
A5: 3 | B5: 3 | C5: 3 | D5: 23 | E5: 10023
A6: 4 | B6: 4 | C6: 4 | D6: 30 | E6: 10030
A7: 5 | B7: 5 | C7: 5 | D7: 31 | E7: 10031
A8: 442 | B8: 442 | C8: 441 | D8: 추가 | E8: 추가
A9: 3 | B9: 3 | C9: 3 | D9: 23 | E9: 10023
A10: 4 | B10: 4 | C10: 4 | D10: 30 | E10: 10030
A11: 5 | B11: 5 | C11: 5 | D11: 31 | E11: 10031
A12: 442 | B12: 442 | C12: 441 | D12: 추가 | E12: 추가
A13: 475 | B13: 474 | C13: 475 | D13: 474 | E13: 10192
A14: 848 | B14: 811 | C14: 799 | D14: 749 | E14: 10307
A15: 2913 | B15: 2875 | C15: 2860 | D15: 추가 | E15: 추가
A16: 2914 | B16: 2876 | C16: 2861 | D16: 추가 | E16: 추가
A17: 2916 | B17: 2878 | C17: 2863 | D17: 추가 | E17: 추가
A18: 추가 | B18: 추가
A19: 4004 | B19: 3877 | C19: 3934 | D19: 추가 | E19: 추가
A20: 4005 | B20: 3878 | C20: 3935 | D20: 추가 | E20: 추가
A21: 4021 | B21: 3900 | C21: 3957 | D21: 3872 | E21: 1435
A22: 2 | B22: 2 | C22: 2 | D22: 21 | E22: 10021
A23: 3 | B23: 3 | C23: 3 | D23: 23 | E23: 10023
A24: 4 | B24: 4 | C24: 4 | D24: 30 | E24: 10030
A25: 5 | B25: 5 | C25: 5 | D25: 31 | E25: 10031
A26: 442 | B26: 442 | C26: 441 | D26: 추가 | E26: 추가
A27: 475 | B27: 474 | C27: 475 | D27: 474 | E27: 10192
A28: 848 | B28: 811 | C28: 799 | D28: 749 | E28: 10307
A29: 2913 | B29: 2875 | C29: 2860 | D29: 추가 | E29: 추가
A30: 2914 | B30: 2876 | C30: 2861 | D30: 추가 | E30: 추가
A31: 2916 | B31: 2878 | C31: 2863 | D31: 추가 | E31: 추가
A32: 추가 | B32: 추가
A33: 4004 | B33: 3877 | C33: 3934 | D33: 추가 | E33: 추가
A34: 4005 | B34: 3878 | C34: 3935 | D34: 추가 | E34: 추가
A35: 4021 | B35: 3900 | C35: 3957 | D35: 3872 | E35: 1435
A36: 2 | B36: 2 | C36: 2 | D36: 21 | E36: 10021
A37: 3 | B37: 3 | C37: 3 | D37: 23 | E37: 10023
A38: 4 | B38: 4 | C38: 4 | D38: 30 | E38: 10030
A39: 5 | B39: 5 | C39: 5 | D39: 31 | E39: 10031
A40: 442 | B40: 442 | C40: 441 | D40: 추가 | E40: 추가
A41: 475 | B41: 474 | C41: 475 | D41: 474 | E41: 10192
A42: 848 | B42: 811 | C42: 799 | D42: 749 | E42: 10307
A43: 2913 | B43: 2875 | C43: 2860 | D43: 추가 | E43: 추가
A44: 2914 | B44: 2876 | C44: 2861 | D44: 추가 | E44: 추가
A45: 2916 | B45: 2878 | C45: 2863 | D45: 추가 | E45: 추가
A46: 추가 | B46: 추가
A47: 4004 | B47: 3877 | C47: 3934 | D47: 추가 | E47: 추가
A48: 4005 | B48: 3878 | C48: 3935 | D48: 추가 | E48: 추가
A49: 4021 | B49: 3900 | C49: 3957 | D49: 3872 | E49: 1435
A50: 2 | B50: 2 | C50: 2 | D50: 21 | E50: 10021
A51: 3 | B51: 3 | C51: 3 | D51: 23 | E51: 10023
A52: 4 | B52: 4 | C52: 4 | D52: 30 | E52: 10030
A53: 5 | B53: 5 | C53: 5 | D53: 31 | E53: 10031
A54: 442 | B54: 442 | C54: 441 | D54: 추가 | E54: 추가
A55: 475 | B55: 474 | C55: 475 | D55: 474 | E55: 10192
A56: 848 | B56: 811 | C56: 799 | D56: 749 | E56: 10307
A57: 2913 | B57: 2875 | C57: 2860 | D57: 추가 | E57: 추가
A58: 2914 | B58: 2876 | C58: 2861 | D58: 추가 | E58: 추가
A59: 2916 | B59: 2878 | C59: 2863 | D59: 추가 | E59: 추가
A60: 추가 | B60: 추가
A61: 2916 | B61: 2878 | C61: 2863 | D61: 추가 | E61: 추가
A62: 추가 | B62: 추가
A63: 4004 | B63: 3877 | C63: 3934 | D63: 추가 | E63: 추가
A64: 4005 | B64: 3878 | C64: 3935 | D64: 추가 | E64: 추가
A65: 4021 | B65: 3900 | C65: 3957 | D65: 3872 | E65: 1435
A66: 2 | B66: 2 | C66: 2 | D66: 21 | E66: 10021
A67: 3 | B67: 3 | C67: 3 | D67: 23 | E67: 10023
A68: 4 | B68: 4 | C68: 4 | D68: 30 | E68: 10030
A69: 5 | B69: 5 | C69: 5 | D69: 31 | E69: 10031
A70: 442 | B70: 442 | C70: 441 | D70: 추가 | E70: 추가
A71: 475 | B71: 474 | C71: 475 | D71: 474 | E71: 10192
A72: 848 | B72: 811 | C72: 799 | D72: 749 | E72: 10307
A73: 2913 | B73: 2875 | C73: 2860 | D73: 추가 | E73: 추가
A74: 2914 | B74: 2876 | C74: 2861 | D74: 추가 | E74: 추가
A75: 2916 | B75: 2878 | C75: 2863 | D75: 추가 | E75: 추가
A76: 추가 | B76: 추가
A77: 4004 | B77: 3877 | C77: 3934 | D77: 추가 | E77: 추가
A78: 4005 | B78: 3878 | C78: 3935 | D78: 추가 | E78: 추가
A79: 4021 | B79: 3900 | C79: 3957 | D79: 3872 | E79: 1435
A80: 2 | B80: 2 | C80: 2 | D80: 21 | E80: 10021
A81: 3 | B81: 3 | C81: 3 | D81: 23 | E81: 10023
A82: 4 | B82: 4 | C82: 4 | D82: 30 | E82: 10030
A83: 5 | B83: 5 | C83: 5 | D83: 31 | E83: 10031
A84: 442 | B84: 442 | C84: 441 | D84: 추가 | E84: 추가
A85: 475 | B85: 474 | C85: 475 | D85: 474 | E85: 10192
A86: 848 | B86: 811 | C86: 799 | D86: 749 | E86: 10307
A87: 2913 | B87: 2875 | C87: 2860 | D87: 추가 | E87: 추가
A88: 2914 | B88: 2876 | C88: 2861 | D88: 추가 | E88: 추가
A89: 2916 | B89: 2878 | C89: 2863 | D89: 추가 | E89: 추가
A90: 추가 | B90: 추가
A91: 4004 | B91: 3877 | C91: 3934 | D91: 추가 | E91: 추가
A92: 4005 | B92: 3878 | C92: 3935 | D92: 추가 | E92: 추가
A93: 4021 | B93: 3900 | C93: 3957 | D93: 3872 | E93: 1435
A94: 4021 | B94: 3900 | C94: 3957 | D94: 3872 | E94: 1435
A95: 2 | B95: 2 | C95: 2 | D95: 21 | E95: 10021
A96: 3 | B96: 3 | C96: 3 | D96: 23 | E96: 10023
A97: 4 | B97: 4 | C97: 4 | D97: 30 | E97: 10030
A98: 5 | B98: 5 | C98: 5 | D98: 31 | E98: 10031
A99: 442 | B99: 442 | C99: 441 | D99: 추가 | E99: 추가
A100: 475 | B100: 474 | C100: 475 | D100: 474 | E100: 10192
...

Sheet 전라제주시설단
A1: 작업연번 | B1: 작업연번 | C1: 작업연번 | D1: 작업연번 | E1: 작업연번 | F1: 구 분 | G1: 프로그램 | H1: 단위사업 | I1: 설계 | J1: 시공 | K1: 총사업비 관리대상 | L1: 사업명 | M1: 사업위치 | N1: 공사발주 예정시기 | O1: 시설비(420-03) | S1: 편성용역비(420-04) | X1: 사업묶음 | Y1: 감리발주 구분 | Z1: 산출용역비(420-04) | AD1: 산출 용역비 적용요율(%) | AE1: 부족예산(420-04) | AI1: 적정용역비
A2: 3차+소액 | B2: 2차 심의 | C2: 1차 심의 | D2: 사업국 검토 | E2: 군요구 | O2: 계 | P2: 24년 이전 | Q2: 25년 | R2: 26년 이후 | S2: 계 | T2: 24년 | U2: 25년 | V2: 26년 이후 | W2: 용역비 비율(%) | Z2: 계 | AA2: 24년 | AB2: 25년 | AC2: 26년 이후 | AE2: 계 | AF2: 25년 | AG2: 26년 이후 | AH2: 담당자
A3: 2 | B3: 2 | C3: 2 | D3: 21 | E3: 10021
A4: 3 | B4: 3 | C4: 3 | D4: 23 | E4: 10023
A5: 3 | B5: 3 | C5: 3 | D5: 23 | E5: 10023
A6: 4 | B6: 4 | C6: 4 | D6: 30 | E6: 10030
A7: 5 | B7: 5 | C7: 5 | D7: 31 | E7: 10031
A8: 442 | B8: 442 | C8: 441 | D8: 추가 | E8: 추가
A9: 3 | B9: 3 | C9: 3 | D9: 23 | E9: 10023
A10: 4 | B10: 4 | C10: 4 | D10: 30 | E10: 10030
A11: 5 | B11: 5 | C11: 5 | D11: 31 | E11: 10031
A12: 442 | B12: 442 | C12: 441 | D12: 추가 | E12: 추가
A13: 475 | B13: 474 | C13: 475 | D13: 474 | E13: 10192
A14: 848 | B14: 811 | C14: 799 | D14: 749 | E14: 10307
A15: 2913 | B15: 2875 | C15: 2860 | D15: 추가 | E15: 추가
A16: 2914 | B16: 2876 | C16: 2861 | D16: 추가 | E16: 추가
A17: 2916 | B17: 2878 | C17: 2863 | D17: 추가 | E17: 추가
A18: 추가 | B18: 추가
A19: 4004 | B19: 3877 | C19: 3934 | D19: 추가 | E19: 추가
A20: 4005 | B20: 3878 | C20: 3935 | D20: 추가 | E20: 추가
A21: 4021 | B21: 3900 | C21: 3957 | D21: 3872 | E21: 1435
A22: 2 | B22: 2 | C22: 2 | D22: 21 | E22: 10021
A23: 3 | B23: 3 | C23: 3 | D23: 23 | E23: 10023
A24: 4 | B24: 4 | C24: 4 | D24: 30 | E24: 10030
A25: 5 | B25: 5 | C25: 5 | D25: 31 | E25: 10031
A26: 442 | B26: 442 | C26: 441 | D26: 추가 | E26: 추가
A27: 475 | B27: 474 | C27: 475 | D27: 474 | E27: 10192
A28: 848 | B28: 811 | C28: 799 | D28: 749 | E28: 10307
A29: 2913 | B29: 2875 | C29: 2860 | D29: 추가 | E29: 추가
A30: 2914 | B30: 2876 | C30: 2861 | D30: 추가 | E30: 추가
A31: 2916 | B31: 2878 | C31: 2863 | D31: 추가 | E31: 추가
A32: 추가 | B32: 추가
A33: 4004 | B33: 3877 | C33: 3934 | D33: 추가 | E33: 추가
A34: 4005 | B34: 3878 | C34: 3935 | D34: 추가 | E34: 추가
A35: 4021 | B35: 3900 | C35: 3957 | D35: 3872 | E35: 1435
A36: 2 | B36: 2 | C36: 2 | D36: 21 | E36: 10021
A37: 3 | B37: 3 | C37: 3 | D37: 23 | E37: 10023
A38: 4 | B38: 4 | C38: 4 | D38: 30 | E38: 10030
A39: 5 | B39: 5 | C39: 5 | D39: 31 | E39: 10031
A40: 442 | B40: 442 | C40: 441 | D40: 추가 | E40: 추가
A41: 475 | B41: 474 | C41: 475 | D41: 474 | E41: 10192
A42: 848 | B42: 811 | C42: 799 | D42: 749 | E42: 10307
A43: 2913 | B43: 2875 | C43: 2860 | D43: 추가 | E43: 추가
A44: 2914 | B44: 2876 | C44: 2861 | D44: 추가 | E44: 추가
A45: 2916 | B45: 2878 | C45: 2863 | D45: 추가 | E45: 추가
A46: 추가 | B46: 추가
A47: 4004 | B47: 3877 | C47: 3934 | D47: 추가 | E47: 추가
A48: 4005 | B48: 3878 | C48: 3935 | D48: 추가 | E48: 추가
A49: 4021 | B49: 3900 | C49: 3957 | D49: 3872 | E49: 1435
A50: 2 | B50: 2 | C50: 2 | D50: 21 | E50: 10021
A51: 3 | B51: 3 | C51: 3 | D51: 23 | E51: 10023
A52: 4 | B52: 4 | C52: 4 | D52: 30 | E52: 10030
A53: 5 | B53: 5 | C53: 5 | D53: 31 | E53: 10031
A54: 442 | B54: 442 | C54: 441 | D54: 추가 | E54: 추가
A55: 475 | B55: 474 | C55: 475 | D55: 474 | E55: 10192
A56: 848 | B56: 811 | C56: 799 | D56: 749 | E56: 10307
A57: 2913 | B57: 2875 | C57: 2860 | D57: 추가 | E57: 추가
A58: 2914 | B58: 2876 | C58: 2861 | D58: 추가 | E58: 추가
A59: 2916 | B59: 2878 | C59: 2863 | D59: 추가 | E59: 추가
A60: 추가 | B60: 추가
A61: 2916 | B61: 2878 | C61: 2863 | D61: 추가 | E61: 추가
A62: 추가 | B62: 추가
A63: 4004 | B63: 3877 | C63: 3934 | D63: 추가 | E63: 추가
A64: 4005 | B64: 3878 | C64: 3935 | D64: 추가 | E64: 추가
A65: 4021 | B65: 3900 | C65: 3957 | D65: 3872 | E65: 1435
A66: 2 | B66: 2 | C66: 2 | D66: 21 | E66: 10021
A67: 3 | B67: 3 | C67: 3 | D67: 23 | E67: 10023
A68: 4 | B68: 4 | C68: 4 | D68: 30 | E68: 10030
A69: 5 | B69: 5 | C69: 5 | D69: 31 | E69: 10031
A70: 442 | B70: 442 | C70: 441 | D70: 추가 | E70: 추가
A71: 475 | B71: 474 | C71: 475 | D71: 474 | E71: 10192
A72: 848 | B72: 811 | C72: 799 | D72: 749 | E72: 10307
A73: 2913 | B73: 2875 | C73: 2860 | D73: 추가 | E73: 추가
A74: 2914 | B74: 2876 | C74: 2861 | D74: 추가 | E74: 추가
A75: 2916 | B75: 2878 | C75: 2863 | D75: 추가 | E75: 추가
A76: 추가 | B76: 추가
A77: 4004 | B77: 3877 | C77: 3934 | D77: 추가 | E77: 추가
A78: 4005 | B78: 3878 | C78: 3935 | D78: 추가 | E78: 추가
A79: 4021 | B79: 3900 | C79: 3957 | D79: 3872 | E79: 1435
A80: 2 | B80: 2 | C80: 2 | D80: 21 | E80: 10021
A81: 3 | B81: 3 | C81: 3 | D81: 23 | E81: 10023
A82: 4 | B82: 4 | C82: 4 | D82: 30 | E82: 10030
A83: 5 | B83: 5 | C83: 5 | D83: 31 | E83: 10031
A84: 442 | B84: 442 | C84: 441 | D84: 추가 | E84: 추가
A85: 475 | B85: 474 | C85: 475 | D85: 474 | E85: 10192
A86: 848 | B86: 811 | C86: 799 | D86: 749 | E86: 10307
A87: 2913 | B87: 2875 | C87: 2860 | D87: 추가 | E87: 추가
A88: 2914 | B88: 2876 | C88: 2861 | D88: 추가 | E88: 추가
A89: 2916 | B89: 2878 | C89: 2863 | D89: 추가 | E89: 추가
A90: 추가 | B90: 추가
A91: 4004 | B91: 3877 | C91: 3934 | D91: 추가 | E91: 추가
A92: 4005 | B92: 3878 | C92: 3935 | D92: 추가 | E92: 추가
A93: 4021 | B93: 3900 | C93: 3957 | D93: 3872 | E93: 1435
A94: 4021 | B94: 3900 | C94: 3957 | D94: 3872 | E94: 1435
A95: 2 | B95: 2 | C95: 2 | D95: 21 | E95: 10021
A96: 3 | B96: 3 | C96: 3 | D96: 23 | E96: 10023
A97: 4 | B97: 4 | C97: 4 | D97: 30 | E97: 10030
A98: 5 | B98: 5 | C98: 5 | D98: 31 | E98: 10031
A99: 442 | B99: 442 | C99: 441 | D99: 추가 | E99: 추가
A100: 475 | B100: 474 | C100: 475 | D100: 474 | E100: 10192
...
